BEGIN:VCALENDAR
VERSION:2.0
PRODID:-//Theologisch-pastorales Bildungsinstitut TBI - ECPv6.15.11//NONSGML v1.0//EN
CALSCALE:GREGORIAN
METHOD:PUBLISH
X-ORIGINAL-URL:https://www.tbi-zh.ch
X-WR-CALDESC:Veranstaltungen für Theologisch-pastorales Bildungsinstitut TBI
REFRESH-INTERVAL;VALUE=DURATION:PT1H
X-Robots-Tag:noindex
X-PUBLISHED-TTL:PT1H
BEGIN:VTIMEZONE
TZID:Europe/Zurich
BEGIN:DAYLIGHT
TZOFFSETFROM:+0100
TZOFFSETTO:+0200
TZNAME:CEST
DTSTART:20240331T010000
END:DAYLIGHT
BEGIN:STANDARD
TZOFFSETFROM:+0200
TZOFFSETTO:+0100
TZNAME:CET
DTSTART:20241027T010000
END:STANDARD
BEGIN:DAYLIGHT
TZOFFSETFROM:+0100
TZOFFSETTO:+0200
TZNAME:CEST
DTSTART:20250330T010000
END:DAYLIGHT
BEGIN:STANDARD
TZOFFSETFROM:+0200
TZOFFSETTO:+0100
TZNAME:CET
DTSTART:20251026T010000
END:STANDARD
BEGIN:DAYLIGHT
TZOFFSETFROM:+0100
TZOFFSETTO:+0200
TZNAME:CEST
DTSTART:20260329T010000
END:DAYLIGHT
BEGIN:STANDARD
TZOFFSETFROM:+0200
TZOFFSETTO:+0100
TZNAME:CET
DTSTART:20261025T010000
END:STANDARD
END:VTIMEZONE
BEGIN:VEVENT
DTSTART;TZID=Europe/Zurich:20251014T093000
DTEND;TZID=Europe/Zurich:20251014T123000
DTSTAMP:20260421T161620
CREATED:20250515T121252Z
LAST-MODIFIED:20251013T124613Z
UID:10001143-1760434200-1760445000@www.tbi-zh.ch
SUMMARY:Grundfragen zum Sinn des Lebens - Theologie 60plus - 4 Matineen - KÖNIZ - AUSGEBUCHT
DESCRIPTION:Inhalt\nJesus hat die Geschichte des Abendlands geprägt wie sonst niemand. Dennoch ist er für viele von uns ein Fremder geblieben\, ein Rätsel. \nDenn vieles bleibt im Dunkeln. Die ersten drei Jahrzehnte seines Lebens zum Beispiel. Doch glücklicherweise wissen wir umso mehr über den letzten Lebensabschnitt Jesu\, den eigentlich wichtigen für uns: über Jesu Botschaft und Wirken\, über seine Weggefährten und seine Feinde. \nAuf Hunderten von Seiten erzählt uns das Neue Testament\ndavon. Zu all den Fragen\, die uns bewegen\, liefert es Antworten\, die uns bereichern. Nur: es tut das nicht in der Sprache\, wie wir sie heute sprechen. Nicht mit Gleichnissen\, die aus unserem Alltag schöpfen. Nicht mit wissenschaftlicher Schlüssigkeit\, die alles beweist. Die Bibel berichtet aus der Zeit von damals\, mit den Worten von damals\, mit dem Glauben von damals. Das macht es für uns nicht einfach\, und so stellen sich uns viele Fragen: \nWie ist die Bibel entstanden\, wie kann sie heute gelesen werden\, was hat sie uns zu sagen? Wer war Jesus von Nazaret? Was hat er getan und bewirkt? Was ist der Kern seiner Botschaft? Was bedeutet sie uns heute? \nMit diesen Fragen beschäftigen sich die sieben theologische Matineen. Die Veranstaltung steht allen Interessierten offen\, die sich gerne auf eine Entdeckungsreise auf den Spuren Jesu begeben möchten. Herzlich laden wir Sie dazu ein! \nProgramm \n\nMittwoch\, 16. Oktober 2024\nDie Bibel. Ein Buch mit sieben Siegeln?\nMittwoch\, 23. Oktober 2024\nDie Lebenswelt Jesu. Palästina zur Zeitenwende.\nMittwoch\, 30. Oktober 2024\nDie Jesusbewegung. Eine Nachfolgegemeinschaft von Gleichgestellten\nMittwoch\, 06. November 2024\nVon Klugen und Dummen\, Waghalsigen und Feigen. Die Gleichnisse.\nMittwoch\, 13. November 2024\nGeschichten von Gottes Kraft. Die Wunder.\nMittwoch\, 20. November 2024\nBeten schärft den Blick. Das Vaterunser.\nMittwoch\, 27. November 2024\nDer Messias der kleinen Leute. Die Kindheitserzählungen bei Mattäus und Lukas.\n\nAnmeldung\nBitte aktiviere JavaScript in deinem Browser\, um dieses Formular fertigzustellen.Bitte aktiviere JavaScript in deinem Browser\, um dieses Formular fertigzustellen.Anrede *Name *Vorname *Strasse/Nr. *PLZ/Ort *Telefon privat/mobile *weitere TelefonnummerEmail *Geburtsdatum (TT. MM. JJJJ) *TT12345678910111213141516171819202122232425262728293031MM123456789101112JJJJ202720262025202420232022202120202019201820172016201520142013201220112010200920082007200620052004200320022001200019991998199719961995199419931992199119901989198819871986198519841983198219811980197919781977197619751974197319721971197019691968196719661965196419631962196119601959195819571956195519541953195219511950194919481947194619451944194319421941194019391938193719361935193419331932193119301929192819271926192519241923192219211920Kursort *Wie wurden Sie auf diesen Kurs aufmerksam?Bemerkungen/MitteilungenCheckboxes *Ich habe die Geschäftsbedingungen des TBI zur Kenntnis genommen und verpflichte mich mit dieser Anmeldung zur Einhaltung der Kursbestimmungen. *CheckboxenIch bin damit einverstanden\, dass meine E-Mail-Adresse zur Vernetzung untereinander mit den anderen Kursteilnehmenden geteilt wirdNewsletterIch möchte den TBI_Newsletter abonnierenSenden  \nWeitere Informationen\n\nAdministration: Romy Janson\n\nromy.janson@tbi-zh.ch\n\n\n\n\nTelefon 044 525 05 40\n\n\nOrt\nDaten\n16. Oct\n|\n9:45\n–\n11:30 \nKursleitung\n\nSiegfried Ostermann\nMitarbeiter der Fachstelle Bildung und Begleitung \nKurskosten / Leistungen\nHinweise\nKurs auf der Lernplattform\n\nLernplattformreligion.ch\n\nAnmeldeschluss\n01.10.2024 \n\n\nZur Übersicht unserer Angebote
URL:https://www.tbi-zh.ch/event/theologie-60plus-theologie-intensiv/grundfragen-zum-sinn-des-lebens-theologie-60plus-4-matineen-koeniz/
LOCATION:Pfarreizentrum St. Josef\, Stapfenstrasse 25\, Köniz\, 3098
CATEGORIES:Archiv,Theologie,Theologie 60plus | Theologie intensiv
ATTACH;FMTTYPE=image/jpeg:https://www.tbi-zh.ch/wp-content/uploads/2025/05/Bild_Website-1.jpg
END:VEVENT
END:VCALENDAR