BEGIN:VCALENDAR
VERSION:2.0
PRODID:-//Theologisch-pastorales Bildungsinstitut TBI - ECPv6.15.11//NONSGML v1.0//EN
CALSCALE:GREGORIAN
METHOD:PUBLISH
X-ORIGINAL-URL:https://www.tbi-zh.ch
X-WR-CALDESC:Veranstaltungen für Theologisch-pastorales Bildungsinstitut TBI
REFRESH-INTERVAL;VALUE=DURATION:PT1H
X-Robots-Tag:noindex
X-PUBLISHED-TTL:PT1H
BEGIN:VTIMEZONE
TZID:Europe/Zurich
BEGIN:DAYLIGHT
TZOFFSETFROM:+0100
TZOFFSETTO:+0200
TZNAME:CEST
DTSTART:20250330T010000
END:DAYLIGHT
BEGIN:STANDARD
TZOFFSETFROM:+0200
TZOFFSETTO:+0100
TZNAME:CET
DTSTART:20251026T010000
END:STANDARD
BEGIN:DAYLIGHT
TZOFFSETFROM:+0100
TZOFFSETTO:+0200
TZNAME:CEST
DTSTART:20260329T010000
END:DAYLIGHT
BEGIN:STANDARD
TZOFFSETFROM:+0200
TZOFFSETTO:+0100
TZNAME:CET
DTSTART:20261025T010000
END:STANDARD
BEGIN:DAYLIGHT
TZOFFSETFROM:+0100
TZOFFSETTO:+0200
TZNAME:CEST
DTSTART:20270328T010000
END:DAYLIGHT
BEGIN:STANDARD
TZOFFSETFROM:+0200
TZOFFSETTO:+0100
TZNAME:CET
DTSTART:20271031T010000
END:STANDARD
BEGIN:DAYLIGHT
TZOFFSETFROM:+0100
TZOFFSETTO:+0200
TZNAME:CEST
DTSTART:20280326T010000
END:DAYLIGHT
BEGIN:STANDARD
TZOFFSETFROM:+0200
TZOFFSETTO:+0100
TZNAME:CET
DTSTART:20281029T010000
END:STANDARD
END:VTIMEZONE
BEGIN:VEVENT
DTSTART;TZID=Europe/Zurich:20261027T090000
DTEND;TZID=Europe/Zurich:20270318T143000
DTSTAMP:20260422T225424
CREATED:20250826T193126Z
LAST-MODIFIED:20251209T083757Z
UID:10001188-1793091600-1805380200@www.tbi-zh.ch
SUMMARY:Hands-on: Glaubenskommunikation im digitalen Raum
DESCRIPTION:
URL:https://www.tbi-zh.ch/event/pastoral-und-glaubenskommunikation/hands-on-glaubenskommunikation-im-digitalen-raum-new/
CATEGORIES:Fort- und Weiterbildung,Pastoral und Glaubenskommunikation
ATTACH;FMTTYPE=image/jpeg:https://www.tbi-zh.ch/wp-content/uploads/2025/06/Beitragsbild-gruen.jpg
END:VEVENT
BEGIN:VEVENT
DTSTART;TZID=Europe/Zurich:20261123T090000
DTEND;TZID=Europe/Zurich:20270415T180000
DTSTAMP:20260422T225424
CREATED:20251201T104547Z
LAST-MODIFIED:20260219T135310Z
UID:10001260-1795424400-1807812000@www.tbi-zh.ch
SUMMARY:Interdiözesaner Kurs «Gemeinde leiten» 2026–2027 mit optionalem CAS-Abschluss
DESCRIPTION:
URL:https://www.tbi-zh.ch/event/personalkurse/interdioezesaner-kurs-gemeinde-leiten-2026-2027/
LOCATION:Propstei Wislikofen\, Propsteiweg\, Wislikofen\, 5463\, Schweiz
CATEGORIES:Gemeinde leiten,Personalkurse
ATTACH;FMTTYPE=image/jpeg:https://www.tbi-zh.ch/wp-content/uploads/2024/06/TBI_Ebene-3_Bilder-Neutral_543x543_Personal_2.jpg
END:VEVENT
BEGIN:VEVENT
DTSTART;TZID=Europe/Zurich:20261124T090000
DTEND;TZID=Europe/Zurich:20270317T170000
DTSTAMP:20260422T225424
CREATED:20260119T133548Z
LAST-MODIFIED:20260210T121003Z
UID:10001284-1795510800-1805302800@www.tbi-zh.ch
SUMMARY:Mentoring in der katechetischen Praxis M38
DESCRIPTION:
URL:https://www.tbi-zh.ch/event/katechese-und-religionspaedagogik/mentoring-in-der-katechetischen-praxis-m38-basismodul-fuer-leitungsaufgaben-im-katechesebereich-2026/
LOCATION:Veranstaltungszentrum Paulus Akademie\, Pfingstweidstrasse 28\, Zürich\, 8005
CATEGORIES:Fort- und Weiterbildung,Katechese und Religionspädagogik
ATTACH;FMTTYPE=image/jpeg:https://www.tbi-zh.ch/wp-content/uploads/2024/07/BildHomepage.jpg
END:VEVENT
BEGIN:VEVENT
DTSTART;TZID=Europe/Zurich:20261124T090000
DTEND;TZID=Europe/Zurich:20270317T170000
DTSTAMP:20260422T225424
CREATED:20260212T103607Z
LAST-MODIFIED:20260216T102643Z
UID:10001307-1795510800-1805302800@www.tbi-zh.ch
SUMMARY:Mentoring in der katechetischen Praxis - M38
DESCRIPTION:
URL:https://www.tbi-zh.ch/event/pastoral-gestalten-und-transformieren/mentoring-in-der-katechetischen-praxis-m38/
LOCATION:Veranstaltungszentrum Paulus Akademie\, Pfingstweidstrasse 28\, Zürich\, 8005
CATEGORIES:Interdiözesane Weiterbildung,Kinder,Mit Menschen unterwegs,Pastoral gestalten und transformieren
ATTACH;FMTTYPE=image/png:https://www.tbi-zh.ch/wp-content/uploads/2026/02/KWB-Bild-M38-Mentoring-in-der-katechetischen-Praxis.png
END:VEVENT
BEGIN:VEVENT
DTSTART;TZID=Europe/Zurich:20261130T180000
DTEND;TZID=Europe/Zurich:20261201T163000
DTSTAMP:20260422T225424
CREATED:20260226T143339Z
LAST-MODIFIED:20260226T145932Z
UID:10001321-1796061600-1796142600@www.tbi-zh.ch
SUMMARY:Projekte wollen gelingen. Erfolgskriterien für pastorale Projekte
DESCRIPTION:
URL:https://www.tbi-zh.ch/event/pastoral-gestalten-und-transformieren/projekte-wollen-gelingen-erfolgskriterien-fuer-pastorale-projekte-2/
LOCATION:Propstei Wislikofen\, Propsteiweg\, Wislikofen\, 5463\, Schweiz
CATEGORIES:Interdiözesane Weiterbildung,Mit Menschen unterwegs,Pastoral gestalten und transformieren
ATTACH;FMTTYPE=image/png:https://www.tbi-zh.ch/wp-content/uploads/2026/02/ABi_Bildung-Projekte-unsplash.png
END:VEVENT
BEGIN:VEVENT
DTSTART;TZID=Europe/Zurich:20261205T130000
DTEND;TZID=Europe/Zurich:20261205T150000
DTSTAMP:20260422T225424
CREATED:20260209T150407Z
LAST-MODIFIED:20260210T080520Z
UID:10001305-1796475600-1796482800@www.tbi-zh.ch
SUMMARY:AUFBRUCH UND ERNEUERUNG
DESCRIPTION:
URL:https://www.tbi-zh.ch/event/theologie/aufbruch-und-erneuerung/
LOCATION:Veranstaltungszentrum Paulus Akademie\, Pfingstweidstrasse 28\, Zürich\, 8005
CATEGORIES:Theologie
ATTACH;FMTTYPE=image/jpeg:https://www.tbi-zh.ch/wp-content/uploads/2026/02/Bild-Oratorium.jpg
END:VEVENT
BEGIN:VEVENT
DTSTART;TZID=Europe/Zurich:20261211T090000
DTEND;TZID=Europe/Zurich:20261211T110000
DTSTAMP:20260422T225424
CREATED:20251215T151755Z
LAST-MODIFIED:20260119T161907Z
UID:10001263-1796979600-1796986800@www.tbi-zh.ch
SUMMARY:Innere Balance. Online. Impulsveranstaltung.
DESCRIPTION:Ausschreibung und Anmeldung
URL:https://www.tbi-zh.ch/event/selbstsorge/innere-balance-online-impulsveranstaltung/
LOCATION:ONLINE
CATEGORIES:Interdiözesane Weiterbildung,Selbstführung/Selbstsorge,Selbstsorge
ATTACH;FMTTYPE=image/png:https://www.tbi-zh.ch/wp-content/uploads/2025/12/ABi-Bilder_Weg_Selbstfuehrung-ic.png
END:VEVENT
BEGIN:VEVENT
DTSTART;TZID=Europe/Zurich:20261222T200000
DTEND;TZID=Europe/Zurich:20261222T213000
DTSTAMP:20260422T225424
CREATED:20251002T102115Z
LAST-MODIFIED:20251016T090645Z
UID:10001233-1797969600-1797975000@www.tbi-zh.ch
SUMMARY:Die Weihnachtsbotschaft im Matthäus-Evangelium
DESCRIPTION:Inhalt\nWir erleben es in der Klimadebatte: Die Vorstellung\, dass die Natur domestiziert\, eingehegt und gebändigt werden muss\, um der menschlichen Kultur Raum zu schaffen\, kommt an ein Ende. Die Naturwissenschaften sagen uns zu Recht\, dass die Natur Ursprung und notwendige Basis allen Lebens\, ist. Indem wir sie immer stärker zu beherrschen versuchen\, gefährden wir unsere eigene Lebensgrundlage – und die Grundlage allen Lebens. Natur wird im religiösen Kontext aber auch als Schöpfung verstanden. In diesem Salon Theologie stellen wir uns daher folgende Fragen: Sind «Schöpfung » und «Natur» konvergente Begriffe\, oder stehen sie im Widerspruch zueinander? Wie kann man als Christ:in den Schöpfungsglauben mit der Vorstellung einer natürlichen Evolution verbinden? Wie lassen sich aus christlicher Perspektive sowohl die Gestaltung wie auch die Bewahrung und Wertschätzung der Natur in einem umfassenderen Sinn verbinden? \nAnmeldung\nBitte aktiviere JavaScript in deinem Browser\, um dieses Formular fertigzustellen.Bitte aktiviere JavaScript in deinem Browser\, um dieses Formular fertigzustellen.Anrede *Name *Vorname *Strasse/Nr. *PLZ/Ort *Telefon privat/mobile *weitere TelefonnummerEmail *Geburtsdatum (TT. MM. JJJJ) *TT12345678910111213141516171819202122232425262728293031MM123456789101112JJJJ202720262025202420232022202120202019201820172016201520142013201220112010200920082007200620052004200320022001200019991998199719961995199419931992199119901989198819871986198519841983198219811980197919781977197619751974197319721971197019691968196719661965196419631962196119601959195819571956195519541953195219511950194919481947194619451944194319421941194019391938193719361935193419331932193119301929192819271926192519241923192219211920Wie wurden Sie auf diesen Salon Theologie aufmerksam?Bemerkungen/MitteilungenCheckboxes *Ich habe die Geschäftsbedingungen des TBI zur Kenntnis genommen und verpflichte mich mit dieser Anmeldung zur Einhaltung der Kursbestimmungen. *Senden  \nOrt\nDaten\n25. Sep\n|\n20:00\n–\n21:30 \nIhr Dozent\n\nFlorian Baab\, Dr. theol.\, Dr. phil.\nVertretungsprofessor für Katholische Theologie an der Universität Hamburg \nKurskosten / Leistungen\nHinweise\nKurs auf der Lernplattform\n\nLernplattformreligion.ch\n\nAnmeldeschluss\n24.09.2024 \n\nZur Übersicht unserer Angebote
URL:https://www.tbi-zh.ch/event/theologie/die-weihnachtsbotschaft-im-matthaeus-evangelium/
LOCATION:Digitale Veranstaltung / Webinar
CATEGORIES:Salon Theologie,Theologie
ATTACH;FMTTYPE=image/jpeg:https://www.tbi-zh.ch/wp-content/uploads/2025/10/Bild_Salon_Dez2.jpg
END:VEVENT
BEGIN:VEVENT
DTSTART;TZID=Europe/Zurich:20261222T200000
DTEND;TZID=Europe/Zurich:20261222T213000
DTSTAMP:20260422T225424
CREATED:20251022T100241Z
LAST-MODIFIED:20251022T100241Z
UID:10001245-1797969600-1797975000@www.tbi-zh.ch
SUMMARY:Die Weihnachtsbotschaft im Matthäus-Evangelium
DESCRIPTION:Inhalt\nWir erleben es in der Klimadebatte: Die Vorstellung\, dass die Natur domestiziert\, eingehegt und gebändigt werden muss\, um der menschlichen Kultur Raum zu schaffen\, kommt an ein Ende. Die Naturwissenschaften sagen uns zu Recht\, dass die Natur Ursprung und notwendige Basis allen Lebens\, ist. Indem wir sie immer stärker zu beherrschen versuchen\, gefährden wir unsere eigene Lebensgrundlage – und die Grundlage allen Lebens. Natur wird im religiösen Kontext aber auch als Schöpfung verstanden. In diesem Salon Theologie stellen wir uns daher folgende Fragen: Sind «Schöpfung » und «Natur» konvergente Begriffe\, oder stehen sie im Widerspruch zueinander? Wie kann man als Christ:in den Schöpfungsglauben mit der Vorstellung einer natürlichen Evolution verbinden? Wie lassen sich aus christlicher Perspektive sowohl die Gestaltung wie auch die Bewahrung und Wertschätzung der Natur in einem umfassenderen Sinn verbinden? \nAnmeldung\nBitte aktiviere JavaScript in deinem Browser\, um dieses Formular fertigzustellen.Bitte aktiviere JavaScript in deinem Browser\, um dieses Formular fertigzustellen.Anrede *Name *Vorname *Strasse/Nr. *PLZ/Ort *Telefon privat/mobile *weitere TelefonnummerEmail *Geburtsdatum (TT. MM. JJJJ) *TT12345678910111213141516171819202122232425262728293031MM123456789101112JJJJ202720262025202420232022202120202019201820172016201520142013201220112010200920082007200620052004200320022001200019991998199719961995199419931992199119901989198819871986198519841983198219811980197919781977197619751974197319721971197019691968196719661965196419631962196119601959195819571956195519541953195219511950194919481947194619451944194319421941194019391938193719361935193419331932193119301929192819271926192519241923192219211920Wie wurden Sie auf diesen Salon Theologie aufmerksam?Bemerkungen/MitteilungenCheckboxes *Ich habe die Geschäftsbedingungen des TBI zur Kenntnis genommen und verpflichte mich mit dieser Anmeldung zur Einhaltung der Kursbestimmungen. *Senden  \nOrt\nDaten\n25. Sep\n|\n20:00\n–\n21:30 \nIhr Dozent\n\nFlorian Baab\, Dr. theol.\, Dr. phil.\nVertretungsprofessor für Katholische Theologie an der Universität Hamburg \nKurskosten / Leistungen\nHinweise\nKurs auf der Lernplattform\n\nLernplattformreligion.ch\n\nAnmeldeschluss\n24.09.2024 \n\nZur Übersicht unserer Angebote
URL:https://www.tbi-zh.ch/event/theologische-grundlagen/die-weihnachtsbotschaft-im-matthaeus-evangelium-2/
LOCATION:Digitale Veranstaltung / Webinar
CATEGORIES:Bibel,Interdiözesane Weiterbildung,Theologische Grundlagen
ATTACH;FMTTYPE=image/png:https://www.tbi-zh.ch/wp-content/uploads/2025/10/10.png
END:VEVENT
END:VCALENDAR