BEGIN:VCALENDAR
VERSION:2.0
PRODID:-//Theologisch-pastorales Bildungsinstitut TBI - ECPv6.15.11//NONSGML v1.0//EN
CALSCALE:GREGORIAN
METHOD:PUBLISH
X-WR-CALNAME:Theologisch-pastorales Bildungsinstitut TBI
X-ORIGINAL-URL:https://www.tbi-zh.ch
X-WR-CALDESC:Veranstaltungen für Theologisch-pastorales Bildungsinstitut TBI
REFRESH-INTERVAL;VALUE=DURATION:PT1H
X-Robots-Tag:noindex
X-PUBLISHED-TTL:PT1H
BEGIN:VTIMEZONE
TZID:Europe/Zurich
BEGIN:DAYLIGHT
TZOFFSETFROM:+0100
TZOFFSETTO:+0200
TZNAME:CEST
DTSTART:20250330T010000
END:DAYLIGHT
BEGIN:STANDARD
TZOFFSETFROM:+0200
TZOFFSETTO:+0100
TZNAME:CET
DTSTART:20251026T010000
END:STANDARD
BEGIN:DAYLIGHT
TZOFFSETFROM:+0100
TZOFFSETTO:+0200
TZNAME:CEST
DTSTART:20260329T010000
END:DAYLIGHT
BEGIN:STANDARD
TZOFFSETFROM:+0200
TZOFFSETTO:+0100
TZNAME:CET
DTSTART:20261025T010000
END:STANDARD
BEGIN:DAYLIGHT
TZOFFSETFROM:+0100
TZOFFSETTO:+0200
TZNAME:CEST
DTSTART:20270328T010000
END:DAYLIGHT
BEGIN:STANDARD
TZOFFSETFROM:+0200
TZOFFSETTO:+0100
TZNAME:CET
DTSTART:20271031T010000
END:STANDARD
BEGIN:DAYLIGHT
TZOFFSETFROM:+0100
TZOFFSETTO:+0200
TZNAME:CEST
DTSTART:20280326T010000
END:DAYLIGHT
BEGIN:STANDARD
TZOFFSETFROM:+0200
TZOFFSETTO:+0100
TZNAME:CET
DTSTART:20281029T010000
END:STANDARD
END:VTIMEZONE
BEGIN:VEVENT
DTSTART;TZID=Europe/Zurich:20261027T090000
DTEND;TZID=Europe/Zurich:20270318T143000
DTSTAMP:20260422T205926
CREATED:20250826T193126Z
LAST-MODIFIED:20251209T083757Z
UID:10001188-1793091600-1805380200@www.tbi-zh.ch
SUMMARY:Hands-on: Glaubenskommunikation im digitalen Raum
DESCRIPTION:
URL:https://www.tbi-zh.ch/event/pastoral-und-glaubenskommunikation/hands-on-glaubenskommunikation-im-digitalen-raum-new/
CATEGORIES:Fort- und Weiterbildung,Pastoral und Glaubenskommunikation
ATTACH;FMTTYPE=image/jpeg:https://www.tbi-zh.ch/wp-content/uploads/2025/06/Beitragsbild-gruen.jpg
END:VEVENT
BEGIN:VEVENT
DTSTART;TZID=Europe/Zurich:20261102T091500
DTEND;TZID=Europe/Zurich:20261104T153000
DTSTAMP:20260422T205926
CREATED:20260120T123820Z
LAST-MODIFIED:20260120T154500Z
UID:10001289-1793610900-1793806200@www.tbi-zh.ch
SUMMARY:Einfühlsames Mitgehen in verschiedensten Lebenssituationen. Die Kunst der Begleitung
DESCRIPTION:
URL:https://www.tbi-zh.ch/event/mit-menschen-unterwegs/einfuehlsames-mitgehen-in-verschiedensten-lebenssituationen-die-kunst-der-begleitung/
LOCATION:Mattli Antoniushaus\, Mattlistrasse 10\, 6443 Morschach\, Schweiz
CATEGORIES:Interdiözesane Weiterbildung,Menschen begleiten,Mit Menschen unterwegs
ATTACH;FMTTYPE=image/png:https://www.tbi-zh.ch/wp-content/uploads/2026/01/ABi-Bilder_Treppe_Lebensweg-ic.png
END:VEVENT
BEGIN:VEVENT
DTSTART;TZID=Europe/Zurich:20261104T091500
DTEND;TZID=Europe/Zurich:20261104T164500
DTSTAMP:20260422T205926
CREATED:20260317T133304Z
LAST-MODIFIED:20260317T133554Z
UID:10001330-1793783700-1793810700@www.tbi-zh.ch
SUMMARY:Komm als Gast & geh als Freund. Zum Gottesdienst einladen und kraftvoll feiern: Beispiele\, Erfahrungen\, Tipps
DESCRIPTION:
URL:https://www.tbi-zh.ch/event/pastoral-gestalten-und-transformieren/komm-als-gast-geh-als-freund-zum-gottesdienst-einladen-und-kraftvoll-feiern-beispiele-erfahrungen-tipps/
LOCATION:Pfarrei Liebfrauen\, Zürich\, Zehnderweg 9\, 8006 Zürich\, Schweiz
CATEGORIES:Interdiözesane Weiterbildung,Pastoral gestalten und transformieren
ATTACH;FMTTYPE=image/png:https://www.tbi-zh.ch/wp-content/uploads/2026/03/ABi_Bilder-Willkommenskultur-pixabay.png
END:VEVENT
BEGIN:VEVENT
DTSTART;TZID=Europe/Zurich:20261108T183000
DTEND;TZID=Europe/Zurich:20261110T090000
DTSTAMP:20260422T205926
CREATED:20260129T102108Z
LAST-MODIFIED:20260203T142216Z
UID:10001299-1794162600-1794301200@www.tbi-zh.ch
SUMMARY:«Seht\, ich schaffe Neues\, merkt ihr es nicht?» - Tagung für Selbst-Sorge in der Seelsorge
DESCRIPTION:SfS-Tagungsflyer 2026 \nSfS 2026-Tagung – Anmeldetalon
URL:https://www.tbi-zh.ch/event/selbstsorge/seht-ich-schaffe-neues-merkt-ihr-es-nicht-tagung-fuer-selbst-sorge-in-der-seelsorge/
LOCATION:Klosterhotel Kreuz Mariastein\, Paradiesweg 1\, 4115 Mariastein
CATEGORIES:Interdiözesane Weiterbildung,Selbstführung/Selbstsorge,Selbstsorge
ATTACH;FMTTYPE=image/png:https://www.tbi-zh.ch/wp-content/uploads/2026/01/ABi_Bilder-SfS-Tagung-2026-zVg-fuer-diese-Veranstaltung.png
END:VEVENT
BEGIN:VEVENT
DTSTART;TZID=Europe/Zurich:20261114T093000
DTEND;TZID=Europe/Zurich:20261114T163000
DTSTAMP:20260422T205926
CREATED:20260317T082108Z
LAST-MODIFIED:20260317T083008Z
UID:10001327-1794648600-1794673800@www.tbi-zh.ch
SUMMARY:Kommunikation mit und ohne KI
DESCRIPTION:
URL:https://www.tbi-zh.ch/event/pastoral-gestalten-und-transformieren/kommunikation-mit-und-ohne-ki/
LOCATION:Propstei Wislikofen\, Propsteiweg\, Wislikofen\, 5463\, Schweiz
CATEGORIES:Interdiözesane Weiterbildung,Pastoral gestalten und transformieren
ATTACH;FMTTYPE=image/png:https://www.tbi-zh.ch/wp-content/uploads/2026/03/ABi_Bildung-Kommunikation-pixabay-Gerd-Altmann.png
END:VEVENT
BEGIN:VEVENT
DTSTART;TZID=Europe/Zurich:20261123T090000
DTEND;TZID=Europe/Zurich:20270415T180000
DTSTAMP:20260422T205926
CREATED:20251201T104547Z
LAST-MODIFIED:20260219T135310Z
UID:10001260-1795424400-1807812000@www.tbi-zh.ch
SUMMARY:Interdiözesaner Kurs «Gemeinde leiten» 2026–2027 mit optionalem CAS-Abschluss
DESCRIPTION:
URL:https://www.tbi-zh.ch/event/personalkurse/interdioezesaner-kurs-gemeinde-leiten-2026-2027/
LOCATION:Propstei Wislikofen\, Propsteiweg\, Wislikofen\, 5463\, Schweiz
CATEGORIES:Gemeinde leiten,Personalkurse
ATTACH;FMTTYPE=image/jpeg:https://www.tbi-zh.ch/wp-content/uploads/2024/06/TBI_Ebene-3_Bilder-Neutral_543x543_Personal_2.jpg
END:VEVENT
BEGIN:VEVENT
DTSTART;TZID=Europe/Zurich:20261124T090000
DTEND;TZID=Europe/Zurich:20270317T170000
DTSTAMP:20260422T205926
CREATED:20260119T133548Z
LAST-MODIFIED:20260210T121003Z
UID:10001284-1795510800-1805302800@www.tbi-zh.ch
SUMMARY:Mentoring in der katechetischen Praxis M38
DESCRIPTION:
URL:https://www.tbi-zh.ch/event/katechese-und-religionspaedagogik/mentoring-in-der-katechetischen-praxis-m38-basismodul-fuer-leitungsaufgaben-im-katechesebereich-2026/
LOCATION:Veranstaltungszentrum Paulus Akademie\, Pfingstweidstrasse 28\, Zürich\, 8005
CATEGORIES:Fort- und Weiterbildung,Katechese und Religionspädagogik
ATTACH;FMTTYPE=image/jpeg:https://www.tbi-zh.ch/wp-content/uploads/2024/07/BildHomepage.jpg
END:VEVENT
BEGIN:VEVENT
DTSTART;TZID=Europe/Zurich:20261124T090000
DTEND;TZID=Europe/Zurich:20270317T170000
DTSTAMP:20260422T205926
CREATED:20260212T103607Z
LAST-MODIFIED:20260216T102643Z
UID:10001307-1795510800-1805302800@www.tbi-zh.ch
SUMMARY:Mentoring in der katechetischen Praxis - M38
DESCRIPTION:
URL:https://www.tbi-zh.ch/event/pastoral-gestalten-und-transformieren/mentoring-in-der-katechetischen-praxis-m38/
LOCATION:Veranstaltungszentrum Paulus Akademie\, Pfingstweidstrasse 28\, Zürich\, 8005
CATEGORIES:Interdiözesane Weiterbildung,Kinder,Mit Menschen unterwegs,Pastoral gestalten und transformieren
ATTACH;FMTTYPE=image/png:https://www.tbi-zh.ch/wp-content/uploads/2026/02/KWB-Bild-M38-Mentoring-in-der-katechetischen-Praxis.png
END:VEVENT
BEGIN:VEVENT
DTSTART;TZID=Europe/Zurich:20261125T200000
DTEND;TZID=Europe/Zurich:20261125T213000
DTSTAMP:20260422T205926
CREATED:20251002T101317Z
LAST-MODIFIED:20251119T080041Z
UID:10001232-1795636800-1795642200@www.tbi-zh.ch
SUMMARY:Kirchliches Strafrecht – Werkzeug oder Hindernis?
DESCRIPTION:Inhalt\nWir erleben es in der Klimadebatte: Die Vorstellung\, dass die Natur domestiziert\, eingehegt und gebändigt werden muss\, um der menschlichen Kultur Raum zu schaffen\, kommt an ein Ende. Die Naturwissenschaften sagen uns zu Recht\, dass die Natur Ursprung und notwendige Basis allen Lebens\, ist. Indem wir sie immer stärker zu beherrschen versuchen\, gefährden wir unsere eigene Lebensgrundlage – und die Grundlage allen Lebens. Natur wird im religiösen Kontext aber auch als Schöpfung verstanden. In diesem Salon Theologie stellen wir uns daher folgende Fragen: Sind «Schöpfung » und «Natur» konvergente Begriffe\, oder stehen sie im Widerspruch zueinander? Wie kann man als Christ:in den Schöpfungsglauben mit der Vorstellung einer natürlichen Evolution verbinden? Wie lassen sich aus christlicher Perspektive sowohl die Gestaltung wie auch die Bewahrung und Wertschätzung der Natur in einem umfassenderen Sinn verbinden? \nAnmeldung\nBitte aktiviere JavaScript in deinem Browser\, um dieses Formular fertigzustellen.Bitte aktiviere JavaScript in deinem Browser\, um dieses Formular fertigzustellen.Anrede *Name *Vorname *Strasse/Nr. *PLZ/Ort *Telefon privat/mobile *weitere TelefonnummerEmail *Geburtsdatum (TT. MM. JJJJ) *TT12345678910111213141516171819202122232425262728293031MM123456789101112JJJJ202720262025202420232022202120202019201820172016201520142013201220112010200920082007200620052004200320022001200019991998199719961995199419931992199119901989198819871986198519841983198219811980197919781977197619751974197319721971197019691968196719661965196419631962196119601959195819571956195519541953195219511950194919481947194619451944194319421941194019391938193719361935193419331932193119301929192819271926192519241923192219211920Wie wurden Sie auf diesen Salon Theologie aufmerksam?Bemerkungen/MitteilungenCheckboxes *Ich habe die Geschäftsbedingungen des TBI zur Kenntnis genommen und verpflichte mich mit dieser Anmeldung zur Einhaltung der Kursbestimmungen. *Senden  \nOrt\nDaten\n25. Sep\n|\n20:00\n–\n21:30 \nIhr Dozent\n\nFlorian Baab\, Dr. theol.\, Dr. phil.\nVertretungsprofessor für Katholische Theologie an der Universität Hamburg \nKurskosten / Leistungen\nHinweise\nKurs auf der Lernplattform\n\nLernplattformreligion.ch\n\nAnmeldeschluss\n24.09.2024 \n\nZur Übersicht unserer Angebote
URL:https://www.tbi-zh.ch/event/theologie/kirchliches-strafrecht-werkzeug-oder-hindernis/
LOCATION:Digitale Veranstaltung / Webinar
CATEGORIES:Salon Theologie,Theologie
ATTACH;FMTTYPE=image/jpeg:https://www.tbi-zh.ch/wp-content/uploads/2025/10/Bild_Salon_Nov.jpg
END:VEVENT
BEGIN:VEVENT
DTSTART;TZID=Europe/Zurich:20261125T200000
DTEND;TZID=Europe/Zurich:20261125T213000
DTSTAMP:20260422T205926
CREATED:20251022T100116Z
LAST-MODIFIED:20251119T080012Z
UID:10001244-1795636800-1795642200@www.tbi-zh.ch
SUMMARY:Kirchliches Strafrecht – Werkzeug oder Hindernis?
DESCRIPTION:Inhalt\nWir erleben es in der Klimadebatte: Die Vorstellung\, dass die Natur domestiziert\, eingehegt und gebändigt werden muss\, um der menschlichen Kultur Raum zu schaffen\, kommt an ein Ende. Die Naturwissenschaften sagen uns zu Recht\, dass die Natur Ursprung und notwendige Basis allen Lebens\, ist. Indem wir sie immer stärker zu beherrschen versuchen\, gefährden wir unsere eigene Lebensgrundlage – und die Grundlage allen Lebens. Natur wird im religiösen Kontext aber auch als Schöpfung verstanden. In diesem Salon Theologie stellen wir uns daher folgende Fragen: Sind «Schöpfung » und «Natur» konvergente Begriffe\, oder stehen sie im Widerspruch zueinander? Wie kann man als Christ:in den Schöpfungsglauben mit der Vorstellung einer natürlichen Evolution verbinden? Wie lassen sich aus christlicher Perspektive sowohl die Gestaltung wie auch die Bewahrung und Wertschätzung der Natur in einem umfassenderen Sinn verbinden? \nAnmeldung\nBitte aktiviere JavaScript in deinem Browser\, um dieses Formular fertigzustellen.Bitte aktiviere JavaScript in deinem Browser\, um dieses Formular fertigzustellen.Anrede *Name *Vorname *Strasse/Nr. *PLZ/Ort *Telefon privat/mobile *weitere TelefonnummerEmail *Geburtsdatum (TT. MM. JJJJ) *TT12345678910111213141516171819202122232425262728293031MM123456789101112JJJJ202720262025202420232022202120202019201820172016201520142013201220112010200920082007200620052004200320022001200019991998199719961995199419931992199119901989198819871986198519841983198219811980197919781977197619751974197319721971197019691968196719661965196419631962196119601959195819571956195519541953195219511950194919481947194619451944194319421941194019391938193719361935193419331932193119301929192819271926192519241923192219211920Wie wurden Sie auf diesen Salon Theologie aufmerksam?Bemerkungen/MitteilungenCheckboxes *Ich habe die Geschäftsbedingungen des TBI zur Kenntnis genommen und verpflichte mich mit dieser Anmeldung zur Einhaltung der Kursbestimmungen. *Senden  \nOrt\nDaten\n25. Sep\n|\n20:00\n–\n21:30 \nIhr Dozent\n\nFlorian Baab\, Dr. theol.\, Dr. phil.\nVertretungsprofessor für Katholische Theologie an der Universität Hamburg \nKurskosten / Leistungen\nHinweise\nKurs auf der Lernplattform\n\nLernplattformreligion.ch\n\nAnmeldeschluss\n24.09.2024 \n\nZur Übersicht unserer Angebote
URL:https://www.tbi-zh.ch/event/theologische-grundlagen/kirchliches-strafrecht-werkzeug-oder-hindernis-duplikat/
LOCATION:Digitale Veranstaltung / Webinar
CATEGORIES:Interdiözesane Weiterbildung,Theologische Grundlagen
ATTACH;FMTTYPE=image/png:https://www.tbi-zh.ch/wp-content/uploads/2025/10/8.png
END:VEVENT
BEGIN:VEVENT
DTSTART;TZID=Europe/Zurich:20261127T083000
DTEND;TZID=Europe/Zurich:20261127T123000
DTSTAMP:20260422T205926
CREATED:20260320T101959Z
LAST-MODIFIED:20260320T101959Z
UID:10001340-1795768200-1795782600@www.tbi-zh.ch
SUMMARY:Basiswissen Alkohol: Grundlagen zu Alkohol und Abhängigkeit
DESCRIPTION:
URL:https://www.tbi-zh.ch/event/mit-menschen-unterwegs/basiswissen-alkohol-grundlagen-zu-alkohol-und-abhaengigkeit-2/
LOCATION:Blaues Kreuz Schweiz\, Lindenrain 5\, 3012 Bern\, Schweiz
CATEGORIES:Interdiözesane Weiterbildung,Mit Menschen unterwegs
ATTACH;FMTTYPE=image/png:https://www.tbi-zh.ch/wp-content/uploads/2026/03/ABi_Bilder-Alkohol-Flaschen-pixabay.png
END:VEVENT
BEGIN:VEVENT
DTSTART;TZID=Europe/Zurich:20261130T093000
DTEND;TZID=Europe/Zurich:20261130T163000
DTSTAMP:20260422T205926
CREATED:20251215T160711Z
LAST-MODIFIED:20260105T131508Z
UID:10001265-1796031000-1796056200@www.tbi-zh.ch
SUMMARY:Stress\, Burnout\, innere Kündigung: Resilienzstrategien für die pastorale Arbeit
DESCRIPTION:
URL:https://www.tbi-zh.ch/event/selbstsorge/abschied-nehmen-von-kleinraeumigkeit-eroeffnet-raeume-fuer-naehe-pastoralraum-und-pfarrei-in-beziehung-setzen-ein-on-demand-angebot-fuer-bis-zu-drei-tagen-duplicate/
LOCATION:Bischöfliches Ordinariat in Solothurn\, Baselstrasse 58\, Solothurn\, SO\, 4500
CATEGORIES:Interdiözesane Weiterbildung,Selbstführung,Selbstführung/Selbstsorge,Selbstsorge
ATTACH;FMTTYPE=image/png:https://www.tbi-zh.ch/wp-content/uploads/2025/12/ABi-Bischofberger.png
ORGANIZER;CN="Abteilung Bildung Bistum Basel":MAILTO:sekretariat.bildung@bistum-basel.ch
END:VEVENT
BEGIN:VEVENT
DTSTART;TZID=Europe/Zurich:20261130T180000
DTEND;TZID=Europe/Zurich:20261201T163000
DTSTAMP:20260422T205926
CREATED:20260226T143339Z
LAST-MODIFIED:20260226T145932Z
UID:10001321-1796061600-1796142600@www.tbi-zh.ch
SUMMARY:Projekte wollen gelingen. Erfolgskriterien für pastorale Projekte
DESCRIPTION:
URL:https://www.tbi-zh.ch/event/pastoral-gestalten-und-transformieren/projekte-wollen-gelingen-erfolgskriterien-fuer-pastorale-projekte-2/
LOCATION:Propstei Wislikofen\, Propsteiweg\, Wislikofen\, 5463\, Schweiz
CATEGORIES:Interdiözesane Weiterbildung,Mit Menschen unterwegs,Pastoral gestalten und transformieren
ATTACH;FMTTYPE=image/png:https://www.tbi-zh.ch/wp-content/uploads/2026/02/ABi_Bildung-Projekte-unsplash.png
END:VEVENT
END:VCALENDAR