BEGIN:VCALENDAR
VERSION:2.0
PRODID:-//Theologisch-pastorales Bildungsinstitut TBI - ECPv6.15.11//NONSGML v1.0//EN
CALSCALE:GREGORIAN
METHOD:PUBLISH
X-ORIGINAL-URL:https://www.tbi-zh.ch
X-WR-CALDESC:Veranstaltungen für Theologisch-pastorales Bildungsinstitut TBI
REFRESH-INTERVAL;VALUE=DURATION:PT1H
X-Robots-Tag:noindex
X-PUBLISHED-TTL:PT1H
BEGIN:VTIMEZONE
TZID:Europe/Zurich
BEGIN:DAYLIGHT
TZOFFSETFROM:+0100
TZOFFSETTO:+0200
TZNAME:CEST
DTSTART:20250330T010000
END:DAYLIGHT
BEGIN:STANDARD
TZOFFSETFROM:+0200
TZOFFSETTO:+0100
TZNAME:CET
DTSTART:20251026T010000
END:STANDARD
BEGIN:DAYLIGHT
TZOFFSETFROM:+0100
TZOFFSETTO:+0200
TZNAME:CEST
DTSTART:20260329T010000
END:DAYLIGHT
BEGIN:STANDARD
TZOFFSETFROM:+0200
TZOFFSETTO:+0100
TZNAME:CET
DTSTART:20261025T010000
END:STANDARD
BEGIN:DAYLIGHT
TZOFFSETFROM:+0100
TZOFFSETTO:+0200
TZNAME:CEST
DTSTART:20270328T010000
END:DAYLIGHT
BEGIN:STANDARD
TZOFFSETFROM:+0200
TZOFFSETTO:+0100
TZNAME:CET
DTSTART:20271031T010000
END:STANDARD
BEGIN:DAYLIGHT
TZOFFSETFROM:+0100
TZOFFSETTO:+0200
TZNAME:CEST
DTSTART:20280326T010000
END:DAYLIGHT
BEGIN:STANDARD
TZOFFSETFROM:+0200
TZOFFSETTO:+0100
TZNAME:CET
DTSTART:20281029T010000
END:STANDARD
END:VTIMEZONE
BEGIN:VEVENT
DTSTART;TZID=Europe/Zurich:20261007T100000
DTEND;TZID=Europe/Zurich:20261009T170000
DTSTAMP:20260422T193223
CREATED:20251004T104434Z
LAST-MODIFIED:20251004T104625Z
UID:10001234-1791367200-1791565200@www.tbi-zh.ch
SUMMARY:Christologie heute
DESCRIPTION:
URL:https://www.tbi-zh.ch/event/theologische-grundlagen/christologie-heute/
LOCATION:Priesterseminar St. Luzi/Theologische Hochschule Chur\, Alte Schanfiggerstrasse 7\, Chur\, 7000\, Schweiz
CATEGORIES:Interdiözesane Weiterbildung,Theologische Grundlagen
ATTACH;FMTTYPE=image/png:https://www.tbi-zh.ch/wp-content/uploads/2025/10/6.png
ORGANIZER;CN="Fortbildung Bistum Chur":MAILTO:fortbildung@bistum-chur.ch
END:VEVENT
BEGIN:VEVENT
DTSTART;TZID=Europe/Zurich:20261008T093000
DTEND;TZID=Europe/Zurich:20261008T123000
DTSTAMP:20260422T193223
CREATED:20260325T064747Z
LAST-MODIFIED:20260325T065526Z
UID:10001350-1791451800-1791462600@www.tbi-zh.ch
SUMMARY:Lebenslinien im Licht der  Bibel - Theologie 60plus - 4 Matineen in ZÜRICH
DESCRIPTION:Inhalt\nBiblische Bilder für die Kirche als Herausforderung \n«Die Kirche hat vorn und hinten Augen»\, meinte einst Bernhard von Clairvaux (ca. 1090-1153). Dieses Bild drückt aus\, dass lebendige Erinnerung\, unerschütterliche Hoffnung und stete Auseinandersetzung mit der Zeit zu ihrer Aufgabe gehören. \nDer Blick nach hinten – auf die entstehende Kirche – offenbart dabei Konflikte und Krisen\, die uns heute nur zu bekannt vorkommen: Es mussten Wege gefunden werden\, um das Evangelium in sich verändernden Situationen verkünden zu können. Wie konnte es gelingen\, die Glut des Feuers zu bewahren\, das Jesus auf die Erde geworfen hatte? Wie\, die frohe Botschaft nach dem Tod der Augenzeugen für spätere Generationen aktuell zu halten? Wie\, sich in neuen kulturellen und politischen Situationen zurechtzufinden? Wie\, Tradition zu leben? \nIn vielfältigen Bildern wird im Matthäusevangelium und in den neutestamentlichen Briefen über diese Herausforderungen nachgedacht – über die missionarische Sendung der entstehenden Kirche als Salz der Erde und Licht der Welt\, ihr Zeugnis als lebendiger Organismus\, ihre Fragilität als Bauwerk und Baustelle\, ihr Gang durch die Zeit als pilgerndes Gottesvolk. \nDiese vielfältigen Bilder der Kirche bleiben auch für uns heute Auftrag und Herausforderung. Ihnen wollen wir in vier Matineen nachspüren. \nProgramm \n\nSamstag\, 26. Oktober 2024 | 9.15-12.15 Uhr\nSammlung und Sendung\nVon Jesus zu Matthäus\nSamstag\, 2. November 2024 | 9.15-12.15 Uhr\nEinheit und Vielfalt\nDie Ortsgemeinden des Paulus\nSamstag\, 16. November 2024 | 9.15-12.15 Uhr\nFremdsein in der Welt\nDer erste Petrusbrief\nSamstag\, 23. November 2024 | 9.15-12.15 Uhr\nLebensäusserungen der Kirche\nVon der Apostelgeschichte zu heute\n\nAnmeldung\nBitte aktiviere JavaScript in deinem Browser\, um dieses Formular fertigzustellen.Bitte aktiviere JavaScript in deinem Browser\, um dieses Formular fertigzustellen.Anrede *Name *Vorname *Strasse/Nr. *PLZ/Ort *Telefon privat/mobile *weitere TelefonnummerEmail *Geburtsdatum (TT. MM. JJJJ) *TT12345678910111213141516171819202122232425262728293031MM123456789101112JJJJ202720262025202420232022202120202019201820172016201520142013201220112010200920082007200620052004200320022001200019991998199719961995199419931992199119901989198819871986198519841983198219811980197919781977197619751974197319721971197019691968196719661965196419631962196119601959195819571956195519541953195219511950194919481947194619451944194319421941194019391938193719361935193419331932193119301929192819271926192519241923192219211920Kursort *Wie wurden Sie auf diesen Kurs aufmerksam?Bemerkungen/MitteilungenCheckboxes *Ich habe die Geschäftsbedingungen des TBI zur Kenntnis genommen und verpflichte mich mit dieser Anmeldung zur Einhaltung der Kursbestimmungen. *Senden  \nWeitere Informationen\n\nAdministration: Romy Janson\n\nromy.janson@tbi-zh.ch\n\n\n\n\nTelefon 044 525 05 40\n\n\nOrt\nDaten\n26. Oct\n|\n9:15\n–\n12:15 \nKursleitung\nDr. Marie-Louise Gubler\nTheologin aus Zug\, langjährige Erfahrung in der kirchlichen Erwachsenenbildung \nKurskosten / Leistungen\nHinweise\nKurs auf der Lernplattform\n\nLernplattformreligion.ch\n\nAnmeldeschluss\n16.10.2024 \n\nZur Übersicht unserer Angebote
URL:https://www.tbi-zh.ch/event/theologie-60plus-theologie-intensiv/lebenslinien-im-licht-der-bibel-theologie-60plus-4-matineen-in-zuerich/
LOCATION:Veranstaltungszentrum Paulus Akademie\, Pfingstweidstrasse 28\, Zürich\, 8005
CATEGORIES:Theologie,Theologie 60plus | Theologie intensiv
ATTACH;FMTTYPE=image/jpeg:https://www.tbi-zh.ch/wp-content/uploads/2026/03/Bild_Homepage_rot.jpg
END:VEVENT
BEGIN:VEVENT
DTSTART;TZID=Europe/Zurich:20261010T093000
DTEND;TZID=Europe/Zurich:20261010T163000
DTSTAMP:20260422T193223
CREATED:20260317T093431Z
LAST-MODIFIED:20260317T093431Z
UID:10001328-1791624600-1791649800@www.tbi-zh.ch
SUMMARY:Kirchliche Gebäude neu denken – Sozialraum entdecken und gemeinsame Nutzung gestalten
DESCRIPTION:
URL:https://www.tbi-zh.ch/event/pastoral-gestalten-und-transformieren/kirchliche-gebaeude-neu-denken-sozialraum-entdecken-und-gemeinsame-nutzung-gestalten/
LOCATION:Propstei Wislikofen\, Propsteiweg\, Wislikofen\, 5463\, Schweiz
CATEGORIES:Interdiözesane Weiterbildung,Pastoral gestalten und transformieren
ATTACH;FMTTYPE=image/png:https://www.tbi-zh.ch/wp-content/uploads/2026/03/ABi_Bildung-Kirchenraeume-ic.png
END:VEVENT
BEGIN:VEVENT
DTSTART;TZID=Europe/Zurich:20261012T190000
DTEND;TZID=Europe/Zurich:20261012T204500
DTSTAMP:20260422T193223
CREATED:20260317T144500Z
LAST-MODIFIED:20260318T074354Z
UID:10001331-1791831600-1791837900@www.tbi-zh.ch
SUMMARY:Gott und seine Schöpfung - Vorlesungsreihe Dogmatik 1
DESCRIPTION:
URL:https://www.tbi-zh.ch/event/theologie/gott-und-seine-schoepfung-vorlesungsreihe-dogmatik-1/
LOCATION:Hybrid
CATEGORIES:Studiengang Theologie (STh),Theologie
ATTACH;FMTTYPE=image/jpeg:https://www.tbi-zh.ch/wp-content/uploads/2026/03/Bild-Do1.jpg
END:VEVENT
BEGIN:VEVENT
DTSTART;TZID=Europe/Zurich:20261013T093000
DTEND;TZID=Europe/Zurich:20261013T123000
DTSTAMP:20260422T193223
CREATED:20260218T115728Z
LAST-MODIFIED:20260402T104458Z
UID:10001311-1791883800-1791894600@www.tbi-zh.ch
SUMMARY:Zur Freiheit befreit? - 4 Matineen - KÖNIZ
DESCRIPTION:Inhalt\nJesus hat die Geschichte des Abendlands geprägt wie sonst niemand. Dennoch ist er für viele von uns ein Fremder geblieben\, ein Rätsel. \nDenn vieles bleibt im Dunkeln. Die ersten drei Jahrzehnte seines Lebens zum Beispiel. Doch glücklicherweise wissen wir umso mehr über den letzten Lebensabschnitt Jesu\, den eigentlich wichtigen für uns: über Jesu Botschaft und Wirken\, über seine Weggefährten und seine Feinde. \nAuf Hunderten von Seiten erzählt uns das Neue Testament\ndavon. Zu all den Fragen\, die uns bewegen\, liefert es Antworten\, die uns bereichern. Nur: es tut das nicht in der Sprache\, wie wir sie heute sprechen. Nicht mit Gleichnissen\, die aus unserem Alltag schöpfen. Nicht mit wissenschaftlicher Schlüssigkeit\, die alles beweist. Die Bibel berichtet aus der Zeit von damals\, mit den Worten von damals\, mit dem Glauben von damals. Das macht es für uns nicht einfach\, und so stellen sich uns viele Fragen: \nWie ist die Bibel entstanden\, wie kann sie heute gelesen werden\, was hat sie uns zu sagen? Wer war Jesus von Nazaret? Was hat er getan und bewirkt? Was ist der Kern seiner Botschaft? Was bedeutet sie uns heute? \nMit diesen Fragen beschäftigen sich die sieben theologische Matineen. Die Veranstaltung steht allen Interessierten offen\, die sich gerne auf eine Entdeckungsreise auf den Spuren Jesu begeben möchten. Herzlich laden wir Sie dazu ein! \nProgramm \n\nMittwoch\, 16. Oktober 2024\nDie Bibel. Ein Buch mit sieben Siegeln?\nMittwoch\, 23. Oktober 2024\nDie Lebenswelt Jesu. Palästina zur Zeitenwende.\nMittwoch\, 30. Oktober 2024\nDie Jesusbewegung. Eine Nachfolgegemeinschaft von Gleichgestellten\nMittwoch\, 06. November 2024\nVon Klugen und Dummen\, Waghalsigen und Feigen. Die Gleichnisse.\nMittwoch\, 13. November 2024\nGeschichten von Gottes Kraft. Die Wunder.\nMittwoch\, 20. November 2024\nBeten schärft den Blick. Das Vaterunser.\nMittwoch\, 27. November 2024\nDer Messias der kleinen Leute. Die Kindheitserzählungen bei Mattäus und Lukas.\n\nAnmeldung\nBitte aktiviere JavaScript in deinem Browser\, um dieses Formular fertigzustellen.Bitte aktiviere JavaScript in deinem Browser\, um dieses Formular fertigzustellen.Anrede *Name *Vorname *Strasse/Nr. *PLZ/Ort *Telefon privat/mobile *weitere TelefonnummerEmail *Geburtsdatum (TT. MM. JJJJ) *TT12345678910111213141516171819202122232425262728293031MM123456789101112JJJJ202720262025202420232022202120202019201820172016201520142013201220112010200920082007200620052004200320022001200019991998199719961995199419931992199119901989198819871986198519841983198219811980197919781977197619751974197319721971197019691968196719661965196419631962196119601959195819571956195519541953195219511950194919481947194619451944194319421941194019391938193719361935193419331932193119301929192819271926192519241923192219211920Kursort *Wie wurden Sie auf diesen Kurs aufmerksam?Bemerkungen/MitteilungenCheckboxes *Ich habe die Geschäftsbedingungen des TBI zur Kenntnis genommen und verpflichte mich mit dieser Anmeldung zur Einhaltung der Kursbestimmungen. *CheckboxenIch bin damit einverstanden\, dass meine E-Mail-Adresse zur Vernetzung untereinander mit den anderen Kursteilnehmenden geteilt wirdNewsletterIch möchte den TBI_Newsletter abonnierenSenden  \nWeitere Informationen\n\nAdministration: Romy Janson\n\nromy.janson@tbi-zh.ch\n\n\n\n\nTelefon 044 525 05 40\n\n\nOrt\nDaten\n16. Oct\n|\n9:45\n–\n11:30 \nKursleitung\n\nSiegfried Ostermann\nMitarbeiter der Fachstelle Bildung und Begleitung \nKurskosten / Leistungen\nHinweise\nKurs auf der Lernplattform\n\nLernplattformreligion.ch\n\nAnmeldeschluss\n01.10.2024 \n\n\nZur Übersicht unserer Angebote
URL:https://www.tbi-zh.ch/event/theologie-60plus-theologie-intensiv/zur-freiheit-befreit-ueber-innere-und-aeussere-unfreiheit-in-mir-und-im-wir-4-matineen-koeniz/
LOCATION:Pfarreizentrum St. Josef\, Stapfenstrasse 25\, Köniz\, 3098
CATEGORIES:Theologie,Theologie 60plus | Theologie intensiv
ATTACH;FMTTYPE=image/jpeg:https://www.tbi-zh.ch/wp-content/uploads/2026/02/Bild-Kurs.jpg
END:VEVENT
BEGIN:VEVENT
DTSTART;TZID=Europe/Zurich:20261014T200000
DTEND;TZID=Europe/Zurich:20261014T213000
DTSTAMP:20260422T193223
CREATED:20260205T100855Z
LAST-MODIFIED:20260205T104410Z
UID:10001302-1792008000-1792013400@www.tbi-zh.ch
SUMMARY:Bruder Sonne und Schwester Erde - Salon Theologie Spezial
DESCRIPTION:Inhalt\nWir erleben es in der Klimadebatte: Die Vorstellung\, dass die Natur domestiziert\, eingehegt und gebändigt werden muss\, um der menschlichen Kultur Raum zu schaffen\, kommt an ein Ende. Die Naturwissenschaften sagen uns zu Recht\, dass die Natur Ursprung und notwendige Basis allen Lebens\, ist. Indem wir sie immer stärker zu beherrschen versuchen\, gefährden wir unsere eigene Lebensgrundlage – und die Grundlage allen Lebens. Natur wird im religiösen Kontext aber auch als Schöpfung verstanden. In diesem Salon Theologie stellen wir uns daher folgende Fragen: Sind «Schöpfung » und «Natur» konvergente Begriffe\, oder stehen sie im Widerspruch zueinander? Wie kann man als Christ:in den Schöpfungsglauben mit der Vorstellung einer natürlichen Evolution verbinden? Wie lassen sich aus christlicher Perspektive sowohl die Gestaltung wie auch die Bewahrung und Wertschätzung der Natur in einem umfassenderen Sinn verbinden? \nAnmeldung\nBitte aktiviere JavaScript in deinem Browser\, um dieses Formular fertigzustellen.Bitte aktiviere JavaScript in deinem Browser\, um dieses Formular fertigzustellen.Anrede *Name *Vorname *Strasse/Nr. *PLZ/Ort *Telefon privat/mobile *weitere TelefonnummerEmail *Geburtsdatum (TT. MM. JJJJ) *TT12345678910111213141516171819202122232425262728293031MM123456789101112JJJJ202720262025202420232022202120202019201820172016201520142013201220112010200920082007200620052004200320022001200019991998199719961995199419931992199119901989198819871986198519841983198219811980197919781977197619751974197319721971197019691968196719661965196419631962196119601959195819571956195519541953195219511950194919481947194619451944194319421941194019391938193719361935193419331932193119301929192819271926192519241923192219211920Wie wurden Sie auf diesen Salon Theologie aufmerksam?Bemerkungen/MitteilungenCheckboxes *Ich habe die Geschäftsbedingungen des TBI zur Kenntnis genommen und verpflichte mich mit dieser Anmeldung zur Einhaltung der Kursbestimmungen. *Senden  \nOrt\nDaten\n25. Sep\n|\n20:00\n–\n21:30 \nIhr Dozent\n\nFlorian Baab\, Dr. theol.\, Dr. phil.\nVertretungsprofessor für Katholische Theologie an der Universität Hamburg \nKurskosten / Leistungen\nHinweise\nKurs auf der Lernplattform\n\nLernplattformreligion.ch\n\nAnmeldeschluss\n24.09.2024 \n\nZur Übersicht unserer Angebote
URL:https://www.tbi-zh.ch/event/theologie/bruder-sonne-und-schwester-erde-salon-theologie-spezial/
LOCATION:Digitale Veranstaltung / Webinar
CATEGORIES:Salon Theologie,Theologie
ATTACH;FMTTYPE=image/jpeg:https://www.tbi-zh.ch/wp-content/uploads/2026/02/Bild-Homepage.jpg
END:VEVENT
BEGIN:VEVENT
DTSTART;TZID=Europe/Zurich:20261014T200000
DTEND;TZID=Europe/Zurich:20261014T213000
DTSTAMP:20260422T193223
CREATED:20260205T104549Z
LAST-MODIFIED:20260226T065336Z
UID:10001303-1792008000-1792013400@www.tbi-zh.ch
SUMMARY:Bruder Sonne und Schwester Erde - Salon Theologie Spezial
DESCRIPTION:Inhalt\nWir erleben es in der Klimadebatte: Die Vorstellung\, dass die Natur domestiziert\, eingehegt und gebändigt werden muss\, um der menschlichen Kultur Raum zu schaffen\, kommt an ein Ende. Die Naturwissenschaften sagen uns zu Recht\, dass die Natur Ursprung und notwendige Basis allen Lebens\, ist. Indem wir sie immer stärker zu beherrschen versuchen\, gefährden wir unsere eigene Lebensgrundlage – und die Grundlage allen Lebens. Natur wird im religiösen Kontext aber auch als Schöpfung verstanden. In diesem Salon Theologie stellen wir uns daher folgende Fragen: Sind «Schöpfung » und «Natur» konvergente Begriffe\, oder stehen sie im Widerspruch zueinander? Wie kann man als Christ:in den Schöpfungsglauben mit der Vorstellung einer natürlichen Evolution verbinden? Wie lassen sich aus christlicher Perspektive sowohl die Gestaltung wie auch die Bewahrung und Wertschätzung der Natur in einem umfassenderen Sinn verbinden? \nAnmeldung\nBitte aktiviere JavaScript in deinem Browser\, um dieses Formular fertigzustellen.Bitte aktiviere JavaScript in deinem Browser\, um dieses Formular fertigzustellen.Anrede *Name *Vorname *Strasse/Nr. *PLZ/Ort *Telefon privat/mobile *weitere TelefonnummerEmail *Geburtsdatum (TT. MM. JJJJ) *TT12345678910111213141516171819202122232425262728293031MM123456789101112JJJJ202720262025202420232022202120202019201820172016201520142013201220112010200920082007200620052004200320022001200019991998199719961995199419931992199119901989198819871986198519841983198219811980197919781977197619751974197319721971197019691968196719661965196419631962196119601959195819571956195519541953195219511950194919481947194619451944194319421941194019391938193719361935193419331932193119301929192819271926192519241923192219211920Wie wurden Sie auf diesen Salon Theologie aufmerksam?Bemerkungen/MitteilungenCheckboxes *Ich habe die Geschäftsbedingungen des TBI zur Kenntnis genommen und verpflichte mich mit dieser Anmeldung zur Einhaltung der Kursbestimmungen. *Senden  \nOrt\nDaten\n25. Sep\n|\n20:00\n–\n21:30 \nIhr Dozent\n\nFlorian Baab\, Dr. theol.\, Dr. phil.\nVertretungsprofessor für Katholische Theologie an der Universität Hamburg \nKurskosten / Leistungen\nHinweise\nKurs auf der Lernplattform\n\nLernplattformreligion.ch\n\nAnmeldeschluss\n24.09.2024 \n\nZur Übersicht unserer Angebote
URL:https://www.tbi-zh.ch/event/unterbruch-fuer-das-heilige/bruder-sonne-und-schwester-erde-salon-theologie-spezial-2/
LOCATION:Digitale Veranstaltung / Webinar
CATEGORIES:Interdiözesane Weiterbildung,Theologische Grundlagen,Unterbruch für das Heilige
ATTACH;FMTTYPE=image/png:https://www.tbi-zh.ch/wp-content/uploads/2026/02/11.png
END:VEVENT
BEGIN:VEVENT
DTSTART;TZID=Europe/Zurich:20261015T190000
DTEND;TZID=Europe/Zurich:20261015T204500
DTSTAMP:20260422T193223
CREATED:20260317T150536Z
LAST-MODIFIED:20260318T080858Z
UID:10001332-1792090800-1792097100@www.tbi-zh.ch
SUMMARY:Erzählungen von Schöpfung\, Erzeltern und Exodus - Vorlesungsreihe Altes Testament 1
DESCRIPTION:
URL:https://www.tbi-zh.ch/event/theologie/erzaehlungen-von-schoepfung-erzerltern-und-exodus-vorlesungsreihe-altes-testament-1/
LOCATION:Hybrid
CATEGORIES:Studiengang Theologie (STh),Theologie
ATTACH;FMTTYPE=image/jpeg:https://www.tbi-zh.ch/wp-content/uploads/2026/03/Bild-At1.jpg
END:VEVENT
BEGIN:VEVENT
DTSTART;TZID=Europe/Zurich:20261016T090000
DTEND;TZID=Europe/Zurich:20261016T163000
DTSTAMP:20260422T193223
CREATED:20260421T062129Z
LAST-MODIFIED:20260421T062743Z
UID:10001360-1792141200-1792168200@www.tbi-zh.ch
SUMMARY:Stark fürs Leben. Fachtagung für katechetisch Tätige & Jugendarbeitende
DESCRIPTION:
URL:https://www.tbi-zh.ch/event/pastoral-gestalten-und-transformieren/stark-fuers-leben-fachtagung-fuer-katechetisch-taetige-jugendarbeitende/
LOCATION:Bullingerhaus Aarau\, Jurastrasse 13\, 5000 Aarau\, Schweiz
CATEGORIES:Interdiözesane Weiterbildung,Jugendliche,Kinder,Pastoral gestalten und transformieren
ATTACH;FMTTYPE=image/png:https://www.tbi-zh.ch/wp-content/uploads/2026/04/ABi_Bilder-Fachtagung-Katechese-2026-AG.png
END:VEVENT
BEGIN:VEVENT
DTSTART;TZID=Europe/Zurich:20261017T090000
DTEND;TZID=Europe/Zurich:20261017T160000
DTSTAMP:20260422T193223
CREATED:20250714T142329Z
LAST-MODIFIED:20260326T150902Z
UID:10001175-1792227600-1792252800@www.tbi-zh.ch
SUMMARY:Modul 2 - Aufbaumodul: Zeugnis des Glaubens-Anstoss zum Handeln AARAU 2026 - AUSGEBUCHT!
DESCRIPTION:
URL:https://www.tbi-zh.ch/event/theologische-module-1-3/modul-2-aufbaumodul-zeugnis-des-glaubens-anstoss-zum-handeln-aarau-2026/
LOCATION:Röm.-kath. Landeskirche – Fachstelle Bildung und Propstei\, Feerstrasse 8\, Aarau
CATEGORIES:Theologie,Theologische Module 1-3
ATTACH;FMTTYPE=image/jpeg:https://www.tbi-zh.ch/wp-content/uploads/2024/06/TBI_Ebene-3_Bilder-Neutral_543x543_Theologie_4.jpg
END:VEVENT
BEGIN:VEVENT
DTSTART;TZID=Europe/Zurich:20261020T090000
DTEND;TZID=Europe/Zurich:20261020T170000
DTSTAMP:20260422T193223
CREATED:20260323T073319Z
LAST-MODIFIED:20260324T125348Z
UID:10001341-1792486800-1792515600@www.tbi-zh.ch
SUMMARY:Motor von Synodalität: Gespräch im Geist
DESCRIPTION:
URL:https://www.tbi-zh.ch/event/pastoral-gestalten-und-transformieren/motor-von-synodalitaet-gespraech-im-geist/
LOCATION:Pfarrsaal St. Marien\, Olten\, Engelbergstrasse 25\, 4600 Olten\, Schweiz
CATEGORIES:Interdiözesane Weiterbildung,Pastoral gestalten und transformieren
ATTACH;FMTTYPE=image/png:https://www.tbi-zh.ch/wp-content/uploads/2026/03/ABi_Bilder-synodales-Gespraech.png
ORGANIZER;CN="Abteilung Bildung Bistum Basel":MAILTO:sekretariat.bildung@bistum-basel.ch
END:VEVENT
BEGIN:VEVENT
DTSTART;TZID=Europe/Zurich:20261022T180000
DTEND;TZID=Europe/Zurich:20261024T133000
DTSTAMP:20260422T193223
CREATED:20260327T100848Z
LAST-MODIFIED:20260327T101725Z
UID:10001351-1792692000-1792848600@www.tbi-zh.ch
SUMMARY:Kirche entwickelt Zukunft. Gemeinsam Kirche wirksam denken und gestalten
DESCRIPTION:
URL:https://www.tbi-zh.ch/event/pastoral-gestalten-und-transformieren/kirche-entwickelt-zukunft-gemeinsam-kirche-wirksam-denken-und-gestalten/
LOCATION:Propstei Wislikofen\, Propsteiweg\, Wislikofen\, 5463\, Schweiz
CATEGORIES:Interdiözesane Weiterbildung,Pastoral gestalten und transformieren
ATTACH;FMTTYPE=image/png:https://www.tbi-zh.ch/wp-content/uploads/2026/03/ABi_Bilder-Zukunft-gestalten-2-pixabay.png
END:VEVENT
BEGIN:VEVENT
DTSTART;TZID=Europe/Zurich:20261024T093000
DTEND;TZID=Europe/Zurich:20261024T170000
DTSTAMP:20260422T193223
CREATED:20260227T103543Z
LAST-MODIFIED:20260227T104007Z
UID:10001323-1792834200-1792861200@www.tbi-zh.ch
SUMMARY:Fundraising. Ein neuer Blick auf Geldgewinnung mit Strategie\, Methode und Freude
DESCRIPTION:
URL:https://www.tbi-zh.ch/event/pastoral-gestalten-und-transformieren/fundraising-ein-neuer-blick-auf-geldgewinnung-mit-strategie-methode-und-freude/
LOCATION:Propstei Wislikofen\, Propsteiweg\, Wislikofen\, 5463\, Schweiz
CATEGORIES:Diakonie,Interdiözesane Weiterbildung,Pastoral gestalten und transformieren
ATTACH;FMTTYPE=image/png:https://www.tbi-zh.ch/wp-content/uploads/2026/02/ABi_Bilder-Fundraising-pixabay.png
END:VEVENT
BEGIN:VEVENT
DTSTART;TZID=Europe/Zurich:20261027T090000
DTEND;TZID=Europe/Zurich:20261027T143000
DTSTAMP:20260422T193223
CREATED:20250909T100121Z
LAST-MODIFIED:20250916T090111Z
UID:10001204-1793091600-1793111400@www.tbi-zh.ch
SUMMARY:Hands-on : Glaubenskommunikation im digitalen Raum
DESCRIPTION:
URL:https://www.tbi-zh.ch/event/pastoral-gestalten-und-transformieren/hands-on-glaubenskommunikation-im-digitalen-raum/
CATEGORIES:Interdiözesane Weiterbildung,Pastoral gestalten und transformieren
ATTACH;FMTTYPE=image/png:https://www.tbi-zh.ch/wp-content/uploads/2025/09/Hands-on.png
END:VEVENT
BEGIN:VEVENT
DTSTART;TZID=Europe/Zurich:20261027T090000
DTEND;TZID=Europe/Zurich:20270318T143000
DTSTAMP:20260422T193223
CREATED:20250826T193126Z
LAST-MODIFIED:20251209T083757Z
UID:10001188-1793091600-1805380200@www.tbi-zh.ch
SUMMARY:Hands-on: Glaubenskommunikation im digitalen Raum
DESCRIPTION:
URL:https://www.tbi-zh.ch/event/pastoral-und-glaubenskommunikation/hands-on-glaubenskommunikation-im-digitalen-raum-new/
CATEGORIES:Fort- und Weiterbildung,Pastoral und Glaubenskommunikation
ATTACH;FMTTYPE=image/jpeg:https://www.tbi-zh.ch/wp-content/uploads/2025/06/Beitragsbild-gruen.jpg
END:VEVENT
BEGIN:VEVENT
DTSTART;TZID=Europe/Zurich:20261027T180000
DTEND;TZID=Europe/Zurich:20261027T210000
DTSTAMP:20260422T193223
CREATED:20260120T100028Z
LAST-MODIFIED:20260120T131041Z
UID:10001286-1793124000-1793134800@www.tbi-zh.ch
SUMMARY:Wut! Workshop
DESCRIPTION:
URL:https://www.tbi-zh.ch/event/selbstfuehrung-selbstsorge/wut-workshop/
LOCATION:Pfarrei St. Michael\, Schulzimmer\, Eingang “Pfarreizentrum”\, Gossetstrasse 8\, 3084 Wabern bei Bern\, Schweiz
CATEGORIES:Interdiözesane Weiterbildung,Selbstführung/Selbstsorge
ATTACH;FMTTYPE=image/png:https://www.tbi-zh.ch/wp-content/uploads/2026/01/ABi-Bilder_Wut-pixabay.png
END:VEVENT
BEGIN:VEVENT
DTSTART;TZID=Europe/Zurich:20261027T200000
DTEND;TZID=Europe/Zurich:20261027T213000
DTSTAMP:20260422T193223
CREATED:20251002T100144Z
LAST-MODIFIED:20251002T100604Z
UID:10001231-1793131200-1793136600@www.tbi-zh.ch
SUMMARY:Migration macht Kirche
DESCRIPTION:Inhalt\nWir erleben es in der Klimadebatte: Die Vorstellung\, dass die Natur domestiziert\, eingehegt und gebändigt werden muss\, um der menschlichen Kultur Raum zu schaffen\, kommt an ein Ende. Die Naturwissenschaften sagen uns zu Recht\, dass die Natur Ursprung und notwendige Basis allen Lebens\, ist. Indem wir sie immer stärker zu beherrschen versuchen\, gefährden wir unsere eigene Lebensgrundlage – und die Grundlage allen Lebens. Natur wird im religiösen Kontext aber auch als Schöpfung verstanden. In diesem Salon Theologie stellen wir uns daher folgende Fragen: Sind «Schöpfung » und «Natur» konvergente Begriffe\, oder stehen sie im Widerspruch zueinander? Wie kann man als Christ:in den Schöpfungsglauben mit der Vorstellung einer natürlichen Evolution verbinden? Wie lassen sich aus christlicher Perspektive sowohl die Gestaltung wie auch die Bewahrung und Wertschätzung der Natur in einem umfassenderen Sinn verbinden? \nAnmeldung\nBitte aktiviere JavaScript in deinem Browser\, um dieses Formular fertigzustellen.Bitte aktiviere JavaScript in deinem Browser\, um dieses Formular fertigzustellen.Anrede *Name *Vorname *Strasse/Nr. *PLZ/Ort *Telefon privat/mobile *weitere TelefonnummerEmail *Geburtsdatum (TT. MM. JJJJ) *TT12345678910111213141516171819202122232425262728293031MM123456789101112JJJJ202720262025202420232022202120202019201820172016201520142013201220112010200920082007200620052004200320022001200019991998199719961995199419931992199119901989198819871986198519841983198219811980197919781977197619751974197319721971197019691968196719661965196419631962196119601959195819571956195519541953195219511950194919481947194619451944194319421941194019391938193719361935193419331932193119301929192819271926192519241923192219211920Wie wurden Sie auf diesen Salon Theologie aufmerksam?Bemerkungen/MitteilungenCheckboxes *Ich habe die Geschäftsbedingungen des TBI zur Kenntnis genommen und verpflichte mich mit dieser Anmeldung zur Einhaltung der Kursbestimmungen. *Senden  \nOrt\nDaten\n25. Sep\n|\n20:00\n–\n21:30 \nIhr Dozent\n\nFlorian Baab\, Dr. theol.\, Dr. phil.\nVertretungsprofessor für Katholische Theologie an der Universität Hamburg \nKurskosten / Leistungen\nHinweise\nKurs auf der Lernplattform\n\nLernplattformreligion.ch\n\nAnmeldeschluss\n24.09.2024 \n\nZur Übersicht unserer Angebote
URL:https://www.tbi-zh.ch/event/theologie/migration-macht-kirche/
LOCATION:Digitale Veranstaltung / Webinar
CATEGORIES:Salon Theologie,Theologie
ATTACH;FMTTYPE=image/jpeg:https://www.tbi-zh.ch/wp-content/uploads/2025/10/Bild_Salon_Okt-1.jpg
END:VEVENT
BEGIN:VEVENT
DTSTART;TZID=Europe/Zurich:20261027T200000
DTEND;TZID=Europe/Zurich:20261027T213000
DTSTAMP:20260422T193223
CREATED:20251022T095955Z
LAST-MODIFIED:20251022T095955Z
UID:10001243-1793131200-1793136600@www.tbi-zh.ch
SUMMARY:Migration macht Kirche
DESCRIPTION:Inhalt\nWir erleben es in der Klimadebatte: Die Vorstellung\, dass die Natur domestiziert\, eingehegt und gebändigt werden muss\, um der menschlichen Kultur Raum zu schaffen\, kommt an ein Ende. Die Naturwissenschaften sagen uns zu Recht\, dass die Natur Ursprung und notwendige Basis allen Lebens\, ist. Indem wir sie immer stärker zu beherrschen versuchen\, gefährden wir unsere eigene Lebensgrundlage – und die Grundlage allen Lebens. Natur wird im religiösen Kontext aber auch als Schöpfung verstanden. In diesem Salon Theologie stellen wir uns daher folgende Fragen: Sind «Schöpfung » und «Natur» konvergente Begriffe\, oder stehen sie im Widerspruch zueinander? Wie kann man als Christ:in den Schöpfungsglauben mit der Vorstellung einer natürlichen Evolution verbinden? Wie lassen sich aus christlicher Perspektive sowohl die Gestaltung wie auch die Bewahrung und Wertschätzung der Natur in einem umfassenderen Sinn verbinden? \nAnmeldung\nBitte aktiviere JavaScript in deinem Browser\, um dieses Formular fertigzustellen.Bitte aktiviere JavaScript in deinem Browser\, um dieses Formular fertigzustellen.Anrede *Name *Vorname *Strasse/Nr. *PLZ/Ort *Telefon privat/mobile *weitere TelefonnummerEmail *Geburtsdatum (TT. MM. JJJJ) *TT12345678910111213141516171819202122232425262728293031MM123456789101112JJJJ202720262025202420232022202120202019201820172016201520142013201220112010200920082007200620052004200320022001200019991998199719961995199419931992199119901989198819871986198519841983198219811980197919781977197619751974197319721971197019691968196719661965196419631962196119601959195819571956195519541953195219511950194919481947194619451944194319421941194019391938193719361935193419331932193119301929192819271926192519241923192219211920Wie wurden Sie auf diesen Salon Theologie aufmerksam?Bemerkungen/MitteilungenCheckboxes *Ich habe die Geschäftsbedingungen des TBI zur Kenntnis genommen und verpflichte mich mit dieser Anmeldung zur Einhaltung der Kursbestimmungen. *Senden  \nOrt\nDaten\n25. Sep\n|\n20:00\n–\n21:30 \nIhr Dozent\n\nFlorian Baab\, Dr. theol.\, Dr. phil.\nVertretungsprofessor für Katholische Theologie an der Universität Hamburg \nKurskosten / Leistungen\nHinweise\nKurs auf der Lernplattform\n\nLernplattformreligion.ch\n\nAnmeldeschluss\n24.09.2024 \n\nZur Übersicht unserer Angebote
URL:https://www.tbi-zh.ch/event/theologische-grundlagen/migration-macht-kirche-2/
LOCATION:Digitale Veranstaltung / Webinar
CATEGORIES:Interdiözesane Weiterbildung,Praktische Theologie,Theologische Grundlagen
ATTACH;FMTTYPE=image/png:https://www.tbi-zh.ch/wp-content/uploads/2025/10/9.png
END:VEVENT
END:VCALENDAR