BEGIN:VCALENDAR
VERSION:2.0
PRODID:-//Theologisch-pastorales Bildungsinstitut TBI - ECPv6.15.11//NONSGML v1.0//EN
CALSCALE:GREGORIAN
METHOD:PUBLISH
X-ORIGINAL-URL:https://www.tbi-zh.ch
X-WR-CALDESC:Veranstaltungen für Theologisch-pastorales Bildungsinstitut TBI
REFRESH-INTERVAL;VALUE=DURATION:PT1H
X-Robots-Tag:noindex
X-PUBLISHED-TTL:PT1H
BEGIN:VTIMEZONE
TZID:Europe/Zurich
BEGIN:DAYLIGHT
TZOFFSETFROM:+0100
TZOFFSETTO:+0200
TZNAME:CEST
DTSTART:20250330T010000
END:DAYLIGHT
BEGIN:STANDARD
TZOFFSETFROM:+0200
TZOFFSETTO:+0100
TZNAME:CET
DTSTART:20251026T010000
END:STANDARD
BEGIN:DAYLIGHT
TZOFFSETFROM:+0100
TZOFFSETTO:+0200
TZNAME:CEST
DTSTART:20260329T010000
END:DAYLIGHT
BEGIN:STANDARD
TZOFFSETFROM:+0200
TZOFFSETTO:+0100
TZNAME:CET
DTSTART:20261025T010000
END:STANDARD
BEGIN:DAYLIGHT
TZOFFSETFROM:+0100
TZOFFSETTO:+0200
TZNAME:CEST
DTSTART:20270328T010000
END:DAYLIGHT
BEGIN:STANDARD
TZOFFSETFROM:+0200
TZOFFSETTO:+0100
TZNAME:CET
DTSTART:20271031T010000
END:STANDARD
END:VTIMEZONE
BEGIN:VEVENT
DTSTART;TZID=Europe/Zurich:20260519T150000
DTEND;TZID=Europe/Zurich:20260926T200000
DTSTAMP:20260422T180654
CREATED:20260212T100238Z
LAST-MODIFIED:20260224T085730Z
UID:10001306-1779202800-1790452800@www.tbi-zh.ch
SUMMARY:Frauen-Power | Christentum und Kunst
DESCRIPTION:https://www.bildungkirche.ch/weiterbildung/frauen-power-christentum-und-kunst \nWas uns antreibt – Handeln aus Überzeugung \n \n\n \nInhalt\nH – offene Kurssequenz \nWENN TEXT- UND KIRCHENRAUM SICH BEGEGNEN  \nLiturgische Feiern wollen Gottes Wirken und geheimnisvolle Anwesenheit erinnern\, vergegenwärtigen und feiern. Durch bibliodramatische Elemente werden die Mitfeiernden intensiv und unmittelbar auf ihre eigene Glaubens- und Lebenserfahrung hin angesprochen. \nBibliodramatische Elemente verbinden den Raum eines Bibeltextes mit dem Raum einer Kirche. Spannung entsteht\, wenn sich Textraum und Kirchenraum gegenseitig interpretieren. Mitfeiernde werden auf diese Weise neu aufmerksam\, wie sich das „Geheimnis Mensch“ und das „Geheimnis Gott“ begegnen. So entsteht ein religiöser Erfahrungsraum\, in dem die einzelnen angesprochen sind. \nÄhnliches passiert\, wenn ein biblischer Text in der Natur zum religiösen Erfahrungsraum wird. Naturraum und Textraum interpretieren sich gegenseitig. Die Wahrnehmung wird gesteigert. Neue Erfahrungen und Perspektiven entstehen und führen zu einer intensiven Weise der Glaubenskommunikation! \nZiele des Kurses \n\nin der Liturgie Möglichkeiten für bibliodramatische Elemente entdecken\nein Gespür für mögliche Verbindungen von Kirchenraum und Textraum  entwickeln\nerste Anwendungen miteinander erproben und auswerten\n\nZielgruppe \n\nFrauen und Männer\, die hauptamtlich oder nebenamtlich eine Aufgabe in der Liturgie übernehmen\n\nHinweis \nDieser Kurs ist offen ausgeschrieben und zugleich Bestandteil der Ausbildung in Bibliodramaleitung 2024-2026\, die vom TBI in Kooperation mit der Wislikofer Schule für Bibliodrama und Seelsorge durchgeführt wird. \nAnmeldung\nBitte aktiviere JavaScript in deinem Browser\, um dieses Formular fertigzustellen.Bitte aktiviere JavaScript in deinem Browser\, um dieses Formular fertigzustellen.Anrede *Anrede*FrauHerrkeine AngabeName *Vorname *Institution (nur falls Teil der Korrespondenzadresse)Strasse/Nr. *PLZ/Ort *Telefon privat/mobile *weitere TelefonnummerEmail *Geburtsdatum (TT. MM. JJJJ) *TT12345678910111213141516171819202122232425262728293031MM123456789101112JJJJ202720262025202420232022202120202019201820172016201520142013201220112010200920082007200620052004200320022001200019991998199719961995199419931992199119901989198819871986198519841983198219811980197919781977197619751974197319721971197019691968196719661965196419631962196119601959195819571956195519541953195219511950194919481947194619451944194319421941194019391938193719361935193419331932193119301929192819271926192519241923192219211920Beruf *Bistum *Bistum*ChurBaselSt. GallenLGFSittenkeine AngabeDie Rechnung geht an folgende Adresse Bemerkungen/MitteilungenWie wurden Sie auf den Kurs aufmerksam?CheckboxenIch bin damit einverstanden\, dass meine E-Mail-Adresse zur Vernetzung untereinander mit den anderen Kursteilnehmenden geteilt wird.CheckboxenJa\, ich möchte den TBI Newsletter erhalten.Checkboxes *Ich habe die Geschäftsbedingungen des TBI zur Kenntnis genommen und verpflichte mich mit dieser Anmeldung zur Einhaltung der Kursbestimmungen.*Senden  \nOrt\nDaten\n4. May\n|\n9:30\nto\n6. May\n|\n15:30 \nKursleitung\nDr. Claudia Mennen\,\nBibliodramaleiterin\, Theologin\, Organisationsberaterin \nDr. Nicolaas Derksen\nBibliodramaleiter\, Pastoraltheologe\, Pastoralsupervisor \nSabine Tscherner\nBibliodramaleiterin\, Theologin\, Supervisorin \nKurskosten / Leistungen\nKurs auf der Lernplattform\n\nLernplattformreligion.ch\n\nAnmeldeschluss\n05.03.2026 \n\n\nZur Übersicht unserer Angebote
URL:https://www.tbi-zh.ch/event/pastoral-und-glaubenskommunikation/frauen-power-christentum-und-kunst/
LOCATION:online\, Zürich\, Dornach & Therwil
CATEGORIES:Fort- und Weiterbildung,Pastoral und Glaubenskommunikation
ATTACH;FMTTYPE=image/jpeg:https://www.tbi-zh.ch/wp-content/uploads/2026/02/Frauen-Power-Veranstaltungsbild-Fort-und-Weiterbildung.jpg
END:VEVENT
BEGIN:VEVENT
DTSTART;TZID=Europe/Zurich:20260519T150000
DTEND;TZID=Europe/Zurich:20260926T200000
DTSTAMP:20260422T180654
CREATED:20260216T093355Z
LAST-MODIFIED:20260226T095243Z
UID:10001309-1779202800-1790452800@www.tbi-zh.ch
SUMMARY:Frauen-Power |  Christentum und Kunst
DESCRIPTION:https://www.bildungkirche.ch/weiterbildung/frauen-power-christentum-und-kunst \nWas uns antreibt – Handeln aus Überzeugung \n \n\n \nInhalt\nH – offene Kurssequenz \nWENN TEXT- UND KIRCHENRAUM SICH BEGEGNEN  \nLiturgische Feiern wollen Gottes Wirken und geheimnisvolle Anwesenheit erinnern\, vergegenwärtigen und feiern. Durch bibliodramatische Elemente werden die Mitfeiernden intensiv und unmittelbar auf ihre eigene Glaubens- und Lebenserfahrung hin angesprochen. \nBibliodramatische Elemente verbinden den Raum eines Bibeltextes mit dem Raum einer Kirche. Spannung entsteht\, wenn sich Textraum und Kirchenraum gegenseitig interpretieren. Mitfeiernde werden auf diese Weise neu aufmerksam\, wie sich das „Geheimnis Mensch“ und das „Geheimnis Gott“ begegnen. So entsteht ein religiöser Erfahrungsraum\, in dem die einzelnen angesprochen sind. \nÄhnliches passiert\, wenn ein biblischer Text in der Natur zum religiösen Erfahrungsraum wird. Naturraum und Textraum interpretieren sich gegenseitig. Die Wahrnehmung wird gesteigert. Neue Erfahrungen und Perspektiven entstehen und führen zu einer intensiven Weise der Glaubenskommunikation! \nZiele des Kurses \n\nin der Liturgie Möglichkeiten für bibliodramatische Elemente entdecken\nein Gespür für mögliche Verbindungen von Kirchenraum und Textraum  entwickeln\nerste Anwendungen miteinander erproben und auswerten\n\nZielgruppe \n\nFrauen und Männer\, die hauptamtlich oder nebenamtlich eine Aufgabe in der Liturgie übernehmen\n\nHinweis \nDieser Kurs ist offen ausgeschrieben und zugleich Bestandteil der Ausbildung in Bibliodramaleitung 2024-2026\, die vom TBI in Kooperation mit der Wislikofer Schule für Bibliodrama und Seelsorge durchgeführt wird. \nAnmeldung\nBitte aktiviere JavaScript in deinem Browser\, um dieses Formular fertigzustellen.Bitte aktiviere JavaScript in deinem Browser\, um dieses Formular fertigzustellen.Anrede *Anrede*FrauHerrkeine AngabeName *Vorname *Institution (nur falls Teil der Korrespondenzadresse)Strasse/Nr. *PLZ/Ort *Telefon privat/mobile *weitere TelefonnummerEmail *Geburtsdatum (TT. MM. JJJJ) *TT12345678910111213141516171819202122232425262728293031MM123456789101112JJJJ202720262025202420232022202120202019201820172016201520142013201220112010200920082007200620052004200320022001200019991998199719961995199419931992199119901989198819871986198519841983198219811980197919781977197619751974197319721971197019691968196719661965196419631962196119601959195819571956195519541953195219511950194919481947194619451944194319421941194019391938193719361935193419331932193119301929192819271926192519241923192219211920Beruf *Bistum *Bistum*ChurBaselSt. GallenLGFSittenkeine AngabeDie Rechnung geht an folgende Adresse Bemerkungen/MitteilungenWie wurden Sie auf den Kurs aufmerksam?CheckboxenIch bin damit einverstanden\, dass meine E-Mail-Adresse zur Vernetzung untereinander mit den anderen Kursteilnehmenden geteilt wird.CheckboxenJa\, ich möchte den TBI Newsletter erhalten.Checkboxes *Ich habe die Geschäftsbedingungen des TBI zur Kenntnis genommen und verpflichte mich mit dieser Anmeldung zur Einhaltung der Kursbestimmungen.*Senden  \nOrt\nDaten\n4. May\n|\n9:30\nto\n6. May\n|\n15:30 \nKursleitung\nDr. Claudia Mennen\,\nBibliodramaleiterin\, Theologin\, Organisationsberaterin \nDr. Nicolaas Derksen\nBibliodramaleiter\, Pastoraltheologe\, Pastoralsupervisor \nSabine Tscherner\nBibliodramaleiterin\, Theologin\, Supervisorin \nKurskosten / Leistungen\nKurs auf der Lernplattform\n\nLernplattformreligion.ch\n\nAnmeldeschluss\n05.03.2026 \n\n\nZur Übersicht unserer Angebote
URL:https://www.tbi-zh.ch/event/theologische-grundlagen/frauen-power-christentum-und-kunst-2/
LOCATION:online\, Zürich\, Dornach & Therwil
CATEGORIES:Interdiözesane Weiterbildung,Mit Menschen unterwegs,Theologische Grundlagen
ATTACH;FMTTYPE=image/png:https://www.tbi-zh.ch/wp-content/uploads/2026/02/KWB-Frauen-Power.png
END:VEVENT
BEGIN:VEVENT
DTSTART;TZID=Europe/Zurich:20260831T090000
DTEND;TZID=Europe/Zurich:20260911T180000
DTSTAMP:20260422T180654
CREATED:20251204T144350Z
LAST-MODIFIED:20260319T121845Z
UID:10001261-1788166800-1789149600@www.tbi-zh.ch
SUMMARY:Interdiözesane Studienwochen 2026 für Theolog:innen
DESCRIPTION:
URL:https://www.tbi-zh.ch/event/vierwochenkurs-theologinnen/interdioezesane-studienwochen-2026-fuer-theologinnen/
LOCATION:Priesterseminar St. Luzi/Theologische Hochschule Chur\, Alte Schanfiggerstrasse 7\, Chur\, 7000\, Schweiz
CATEGORIES:Personalkurse,Vierwochenkurs Theolog:innen
ATTACH;FMTTYPE=image/jpeg:https://www.tbi-zh.ch/wp-content/uploads/2024/06/TBI_Ebene-3_Bilder-Neutral_543x543_Personal_2.jpg
END:VEVENT
BEGIN:VEVENT
DTSTART;TZID=Europe/Zurich:20260904T091500
DTEND;TZID=Europe/Zurich:20260904T164500
DTSTAMP:20260422T180654
CREATED:20260119T131256Z
LAST-MODIFIED:20260126T114050Z
UID:10001282-1788513300-1788540300@www.tbi-zh.ch
SUMMARY:Refresher – Leitungsaufgaben im Katechesebereich 2026
DESCRIPTION:Inhalt\nFrischer Wind für interessierte Führungspersonen\nVor einiger Zeit oder gerade erst haben Sie das Modul Leitungsaufgaben im Katechesebereich M22 oder eine gleichwertige Zusatzausbildung qualifiziert abgeschlossen. Sie haben Leitungsaufgaben im Katechesebereich übernommen\, Sie leiten und begleiten das Katechese-Team vor Ort. Viele Kompetenzen haben Sie erworben und Ideen gewonnen\, die Sie im Leiten und Begleiten unterstützen. \nHäufig jedoch zeigen sich Fragen und Herausforderungen erst im Berufsalltag. \nWünschen Sie\, mit der Kursleitung des M 22 und mit Berufskollegen:innen in den Austausch zu kommen? \nDer Refresher ist ein Weiterbildungsformat\, in welchem Sie die Gelegenheit haben\, einmal im Jahr über Fragen und Herausforderungen des Berufsalltags zu diskutieren. Auch lernen Sie weitere Theoriemodelle kennen\, die Sie bei Ihrer Aufgabe unterstützen. \nZiele der Weiterbildung \n\nDie Teilnehmenden entwickeln im Austausch\, in der Reflexion und anhand der Theorie neue Ideen und Kompetenzen\, die sie in den Leitungsaufgaben unterstützen.\n\nZielgruppe \n\nKatecheten:innen und Religionspädagogen:innen mit Leitungsaufgaben\n\nVorrausetzungen \n\nAbgeschlossenes Modul 22 – Leitungsaufgaben im Katechesebereich\nQualifiziert abgeschlossene gleichwertige Zusatzausbildung\n\nArbeitsweise \n\nDer Weiterbildungstag wird mit Theoriemodellen\, im Austausch untereinander\, mit Lerngesprächen in Gruppen- und Plenumsarbeit gestaltet sein.\n\nAnmeldung\nBitte aktiviere JavaScript in deinem Browser\, um dieses Formular fertigzustellen.Bitte aktiviere JavaScript in deinem Browser\, um dieses Formular fertigzustellen.Anrede *Anrede*FrauHerrkeine AngabeName *Vorname *Institution (nur falls Teil der Korrespondenzadresse)Strasse/Nr. *PLZ/Ort *Telefon privat/mobile *weitere TelefonnummerEmail *Geburtsdatum (TT. MM. JJJJ) *TT12345678910111213141516171819202122232425262728293031MM123456789101112JJJJ202720262025202420232022202120202019201820172016201520142013201220112010200920082007200620052004200320022001200019991998199719961995199419931992199119901989198819871986198519841983198219811980197919781977197619751974197319721971197019691968196719661965196419631962196119601959195819571956195519541953195219511950194919481947194619451944194319421941194019391938193719361935193419331932193119301929192819271926192519241923192219211920Beruf *Bistum *Bistum*ChurBaselSt. GallenLGFSittenkeine AngabeLaden Sie hier bitte Ihre Unterlagen für die Voraussetzungen hoch:\n	\n		\n			\n		\n		Klicke oder ziehe eine Datei in diesen Bereich zum Hochladen.\n\n			\n\n\nDie Rechnung geht an folgende Adresse Bemerkungen/MitteilungenCheckboxenIch bin damit einverstanden\, dass meine E-Mail-Adresse zur Vernetzung untereinander mit den anderen Kursteilnehmenden geteilt wird.CheckboxenJa\, ich möchte den TBI Newsletter erhalten.Checkboxen *Ich habe die Geschäftsbedingungen des TBI zur Kenntnis genommen und verpflichte mich mit dieser Anmeldung zur Einhaltung der Kursbestimmungen.*Senden  \nOrt\nDaten\n4. Sep\n|\n9:15\n–\n16:45 \nKursleitung\n\nChristine Kohlbrenner-Borter & Livia Zwahlen-Hug\nwww.clever-schulenundberaten.ch \nKurskosten / Leistungen\nKurs auf der Lernplattform\n\nKurs auf Lernplattformreligion.ch\n\nAnmeldeschluss\n20.08.2025 \n\n\nZur Übersicht unserer Angebote
URL:https://www.tbi-zh.ch/event/katechese-und-religionspaedagogik/refresher-leitungsaufgaben-im-katechesebereich-2026/
LOCATION:Veranstaltungszentrum Paulus Akademie\, Pfingstweidstrasse 28\, Zürich\, 8005
CATEGORIES:Fort- und Weiterbildung,Katechese und Religionspädagogik
ATTACH;FMTTYPE=image/jpeg:https://www.tbi-zh.ch/wp-content/uploads/2024/07/M22-Leitungsaufgaben.jpg
END:VEVENT
BEGIN:VEVENT
DTSTART;TZID=Europe/Zurich:20260904T091500
DTEND;TZID=Europe/Zurich:20260904T164500
DTSTAMP:20260422T180654
CREATED:20260216T103848Z
LAST-MODIFIED:20260216T103848Z
UID:10001310-1788513300-1788540300@www.tbi-zh.ch
SUMMARY:Refresher / Leitungsaufgaben im Katechesebereich 2026
DESCRIPTION:Inhalt\nFrischer Wind für interessierte Führungspersonen\nVor einiger Zeit oder gerade erst haben Sie das Modul Leitungsaufgaben im Katechesebereich M22 oder eine gleichwertige Zusatzausbildung qualifiziert abgeschlossen. Sie haben Leitungsaufgaben im Katechesebereich übernommen\, Sie leiten und begleiten das Katechese-Team vor Ort. Viele Kompetenzen haben Sie erworben und Ideen gewonnen\, die Sie im Leiten und Begleiten unterstützen. \nHäufig jedoch zeigen sich Fragen und Herausforderungen erst im Berufsalltag. \nWünschen Sie\, mit der Kursleitung des M 22 und mit Berufskollegen:innen in den Austausch zu kommen? \nDer Refresher ist ein Weiterbildungsformat\, in welchem Sie die Gelegenheit haben\, einmal im Jahr über Fragen und Herausforderungen des Berufsalltags zu diskutieren. Auch lernen Sie weitere Theoriemodelle kennen\, die Sie bei Ihrer Aufgabe unterstützen. \nZiele der Weiterbildung \n\nDie Teilnehmenden entwickeln im Austausch\, in der Reflexion und anhand der Theorie neue Ideen und Kompetenzen\, die sie in den Leitungsaufgaben unterstützen.\n\nZielgruppe \n\nKatecheten:innen und Religionspädagogen:innen mit Leitungsaufgaben\n\nVorrausetzungen \n\nAbgeschlossenes Modul 22 – Leitungsaufgaben im Katechesebereich\nQualifiziert abgeschlossene gleichwertige Zusatzausbildung\n\nArbeitsweise \n\nDer Weiterbildungstag wird mit Theoriemodellen\, im Austausch untereinander\, mit Lerngesprächen in Gruppen- und Plenumsarbeit gestaltet sein.\n\nAnmeldung\nBitte aktiviere JavaScript in deinem Browser\, um dieses Formular fertigzustellen.Bitte aktiviere JavaScript in deinem Browser\, um dieses Formular fertigzustellen.Anrede *Anrede*FrauHerrkeine AngabeName *Vorname *Institution (nur falls Teil der Korrespondenzadresse)Strasse/Nr. *PLZ/Ort *Telefon privat/mobile *weitere TelefonnummerEmail *Geburtsdatum (TT. MM. JJJJ) *TT12345678910111213141516171819202122232425262728293031MM123456789101112JJJJ202720262025202420232022202120202019201820172016201520142013201220112010200920082007200620052004200320022001200019991998199719961995199419931992199119901989198819871986198519841983198219811980197919781977197619751974197319721971197019691968196719661965196419631962196119601959195819571956195519541953195219511950194919481947194619451944194319421941194019391938193719361935193419331932193119301929192819271926192519241923192219211920Beruf *Bistum *Bistum*ChurBaselSt. GallenLGFSittenkeine AngabeLaden Sie hier bitte Ihre Unterlagen für die Voraussetzungen hoch:\n	\n		\n			\n		\n		Klicke oder ziehe eine Datei in diesen Bereich zum Hochladen.\n\n			\n\n\nDie Rechnung geht an folgende Adresse Bemerkungen/MitteilungenCheckboxenIch bin damit einverstanden\, dass meine E-Mail-Adresse zur Vernetzung untereinander mit den anderen Kursteilnehmenden geteilt wird.CheckboxenJa\, ich möchte den TBI Newsletter erhalten.Checkboxen *Ich habe die Geschäftsbedingungen des TBI zur Kenntnis genommen und verpflichte mich mit dieser Anmeldung zur Einhaltung der Kursbestimmungen.*Senden  \nOrt\nDaten\n4. Sep\n|\n9:15\n–\n16:45 \nKursleitung\n\nChristine Kohlbrenner-Borter & Livia Zwahlen-Hug\nwww.clever-schulenundberaten.ch \nKurskosten / Leistungen\nKurs auf der Lernplattform\n\nKurs auf Lernplattformreligion.ch\n\nAnmeldeschluss\n20.08.2025 \n\n\nZur Übersicht unserer Angebote
URL:https://www.tbi-zh.ch/event/pastoral-gestalten-und-transformieren/refresher-leitungsaufgaben-im-katechesebereich-2026-2/
LOCATION:Veranstaltungszentrum Paulus Akademie\, Pfingstweidstrasse 28\, Zürich\, 8005
CATEGORIES:Interdiözesane Weiterbildung,Kinder,Pastoral gestalten und transformieren
ATTACH;FMTTYPE=image/png:https://www.tbi-zh.ch/wp-content/uploads/2026/02/KWB-Bild-M38-Mentoring-in-der-katechetischen-Praxis.png
END:VEVENT
BEGIN:VEVENT
DTSTART;TZID=Europe/Zurich:20260908T120000
DTEND;TZID=Europe/Zurich:20260911T150000
DTSTAMP:20260422T180654
CREATED:20260330T070037Z
LAST-MODIFIED:20260330T074452Z
UID:10001352-1788868800-1789138800@www.tbi-zh.ch
SUMMARY:Werkstatt Männerarbeit. Männer verstehen und professionell begleiten
DESCRIPTION:
URL:https://www.tbi-zh.ch/event/mit-menschen-unterwegs/werkstatt-maennerarbeit-maenner-verstehen-und-professionell-begleiten/
LOCATION:Terra Vecchia Centovalli
CATEGORIES:Interdiözesane Weiterbildung,Mit Menschen unterwegs
ATTACH;FMTTYPE=image/png:https://www.tbi-zh.ch/wp-content/uploads/2026/03/ABi_Bilder-Maennerarbeit-Flyer-LaKi-TG.png
END:VEVENT
BEGIN:VEVENT
DTSTART;TZID=Europe/Zurich:20260914T091500
DTEND;TZID=Europe/Zurich:20260916T153000
DTSTAMP:20260422T180654
CREATED:20260120T133854Z
LAST-MODIFIED:20260120T155124Z
UID:10001291-1789377300-1789572600@www.tbi-zh.ch
SUMMARY:Spirituelle Sprache heute finden. Gebetswerkstatt
DESCRIPTION:
URL:https://www.tbi-zh.ch/event/unterbruch-fuer-das-heilige/spirituelle-sprache-heute-finden-gebetswerkstatt/
LOCATION:Kapuzinerkloster Bigorio\, Via al Convento 42\, 6954 Bigorio\, Schweiz
CATEGORIES:Interdiözesane Weiterbildung,Unterbruch für das Heilige
ATTACH;FMTTYPE=image/png:https://www.tbi-zh.ch/wp-content/uploads/2026/01/ABi-Bilder_Gebet-pixabay.png
END:VEVENT
BEGIN:VEVENT
DTSTART;TZID=Europe/Zurich:20260919T090000
DTEND;TZID=Europe/Zurich:20260919T160000
DTSTAMP:20260422T180654
CREATED:20260107T110945Z
LAST-MODIFIED:20260225T090803Z
UID:10001280-1789808400-1789833600@www.tbi-zh.ch
SUMMARY:Modul 3 - Aufbaumodul: Glauben feiern - Vielfalt gestalten ZÜRICH AB HERBST 2026
DESCRIPTION:
URL:https://www.tbi-zh.ch/event/theologische-module-1-3/modul-3-aufbaumodul-glauben-feiern-vielfalt-gestalten-zuerich-ab-herbst-2026/
LOCATION:Veranstaltungszentrum Paulus Akademie\, Pfingstweidstrasse 28\, Zürich\, 8005
CATEGORIES:Theologie,Theologische Module 1-3
ATTACH;FMTTYPE=image/jpeg:https://www.tbi-zh.ch/wp-content/uploads/2024/06/TBI_Ebene-3_Bilder-Neutral_543x543_Theologie_1.jpg
END:VEVENT
BEGIN:VEVENT
DTSTART;TZID=Europe/Zurich:20260919T090000
DTEND;TZID=Europe/Zurich:20260919T170000
DTSTAMP:20260422T180654
CREATED:20251209T104609Z
LAST-MODIFIED:20260219T102154Z
UID:10001262-1789808400-1789837200@www.tbi-zh.ch
SUMMARY:Modul 1 - Grundmodul - Das Christentum in unserer Welt ZÜRICH 2026/27
DESCRIPTION:
URL:https://www.tbi-zh.ch/event/theologische-module-1-3/modul-1-grundmodul-das-christentum-in-unserer-welt-zuerich-2026-27/
LOCATION:Veranstaltungszentrum Paulus Akademie\, Pfingstweidstrasse 28\, Zürich\, 8005
CATEGORIES:Serie,Theologie,Theologische Module 1-3
ATTACH;FMTTYPE=image/jpeg:https://www.tbi-zh.ch/wp-content/uploads/2024/06/TBI_Ebene-3_Bilder-Neutral_543x543_Theologie_3.jpg
END:VEVENT
BEGIN:VEVENT
DTSTART;TZID=Europe/Zurich:20260921T143000
DTEND;TZID=Europe/Zurich:20260923T170000
DTSTAMP:20260422T180654
CREATED:20250827T125319Z
LAST-MODIFIED:20250904T121810Z
UID:10001186-1790001000-1790182800@www.tbi-zh.ch
SUMMARY:«Sei mutig und geh ans Werk!» (1 Chr 28\,10b): Pastorale Ziele setzen über die Zeit der eigenen Berufstätigkeit hinaus.
DESCRIPTION:
URL:https://www.tbi-zh.ch/event/selbstfuehrung-selbstsorge/sei-mutig-und-geh-ans-werk-1-chr-2810b-pastorale-ziele-setzen-ueber-die-zeit-der-eigenen-berufstaetigkeit-hinaus/
LOCATION:Priesterseminar St. Luzi/Theologische Hochschule Chur\, Alte Schanfiggerstrasse 7\, Chur\, 7000\, Schweiz
CATEGORIES:Interdiözesane Weiterbildung,Pastoral gestalten und transformieren,Selbstführung,Selbstführung/Selbstsorge
ATTACH;FMTTYPE=image/png:https://www.tbi-zh.ch/wp-content/uploads/2025/08/Bilder-Kurse-2026.png
ORGANIZER;CN="Fortbildung Bistum Chur":MAILTO:fortbildung@bistum-chur.ch
END:VEVENT
BEGIN:VEVENT
DTSTART;TZID=Europe/Zurich:20260926T090000
DTEND;TZID=Europe/Zurich:20260926T170000
DTSTAMP:20260422T180654
CREATED:20250930T070121Z
LAST-MODIFIED:20260309T101917Z
UID:10001222-1790413200-1790442000@www.tbi-zh.ch
SUMMARY:Modul 2 - Aufbaumodul: Zeugnis des Glaubens-Anstoss zum Handeln ZÜRICH 2026/27 - AUSGEBUCHT!
DESCRIPTION:
URL:https://www.tbi-zh.ch/event/theologische-module-1-3/modul-2-aufbaumodul-zeugnis-des-glaubens-anstoss-zum-handeln-zuerich-2026-27/
LOCATION:Veranstaltungszentrum Paulus Akademie\, Pfingstweidstrasse 28\, Zürich\, 8005
CATEGORIES:Theologie,Theologische Module 1-3
ATTACH;FMTTYPE=image/jpeg:https://www.tbi-zh.ch/wp-content/uploads/2024/06/TBI_Ebene-3_Bilder-Neutral_543x543_Theologie_4.jpg
END:VEVENT
BEGIN:VEVENT
DTSTART;TZID=Europe/Zurich:20260928T091500
DTEND;TZID=Europe/Zurich:20260928T170000
DTSTAMP:20260422T180654
CREATED:20260319T092543Z
LAST-MODIFIED:20260319T092840Z
UID:10001338-1790586900-1790614800@www.tbi-zh.ch
SUMMARY:Ressourcen stärken: Systemische Ansätze in der Seelsorge bei Sucht und psychischen Erkrankungen
DESCRIPTION:
URL:https://www.tbi-zh.ch/event/pastoral-gestalten-und-transformieren/ressourcen-staerken-systemische-ansaetze-in-der-seelsorge-bei-sucht-und-psychischen-erkrankungen/
LOCATION:Universität Bern\, UniS\, Schanzeneckstrasse 1\, Bern\, Raum A-124
CATEGORIES:Interdiözesane Weiterbildung,Pastoral gestalten und transformieren
ATTACH;FMTTYPE=image/png:https://www.tbi-zh.ch/wp-content/uploads/2026/03/ABi_Bilder-Fussfessel-ai-generiert1.png
ORGANIZER;CN="Aus- und Weiterbildung in Seelsorge%2C Spiritual Care und Pastoralpsychologie AWS":MAILTO:marie-claire.thomann@unibe.ch
END:VEVENT
BEGIN:VEVENT
DTSTART;TZID=Europe/Zurich:20260929T200000
DTEND;TZID=Europe/Zurich:20260929T213000
DTSTAMP:20260422T180654
CREATED:20251002T094626Z
LAST-MODIFIED:20251002T095020Z
UID:10001230-1790712000-1790717400@www.tbi-zh.ch
SUMMARY:«… und gib Frieden in unseren Tagen.»
DESCRIPTION:Inhalt\nWir erleben es in der Klimadebatte: Die Vorstellung\, dass die Natur domestiziert\, eingehegt und gebändigt werden muss\, um der menschlichen Kultur Raum zu schaffen\, kommt an ein Ende. Die Naturwissenschaften sagen uns zu Recht\, dass die Natur Ursprung und notwendige Basis allen Lebens\, ist. Indem wir sie immer stärker zu beherrschen versuchen\, gefährden wir unsere eigene Lebensgrundlage – und die Grundlage allen Lebens. Natur wird im religiösen Kontext aber auch als Schöpfung verstanden. In diesem Salon Theologie stellen wir uns daher folgende Fragen: Sind «Schöpfung » und «Natur» konvergente Begriffe\, oder stehen sie im Widerspruch zueinander? Wie kann man als Christ:in den Schöpfungsglauben mit der Vorstellung einer natürlichen Evolution verbinden? Wie lassen sich aus christlicher Perspektive sowohl die Gestaltung wie auch die Bewahrung und Wertschätzung der Natur in einem umfassenderen Sinn verbinden? \nAnmeldung\nBitte aktiviere JavaScript in deinem Browser\, um dieses Formular fertigzustellen.Bitte aktiviere JavaScript in deinem Browser\, um dieses Formular fertigzustellen.Anrede *Name *Vorname *Strasse/Nr. *PLZ/Ort *Telefon privat/mobile *weitere TelefonnummerEmail *Geburtsdatum (TT. MM. JJJJ) *TT12345678910111213141516171819202122232425262728293031MM123456789101112JJJJ202720262025202420232022202120202019201820172016201520142013201220112010200920082007200620052004200320022001200019991998199719961995199419931992199119901989198819871986198519841983198219811980197919781977197619751974197319721971197019691968196719661965196419631962196119601959195819571956195519541953195219511950194919481947194619451944194319421941194019391938193719361935193419331932193119301929192819271926192519241923192219211920Wie wurden Sie auf diesen Salon Theologie aufmerksam?Bemerkungen/MitteilungenCheckboxes *Ich habe die Geschäftsbedingungen des TBI zur Kenntnis genommen und verpflichte mich mit dieser Anmeldung zur Einhaltung der Kursbestimmungen. *Senden  \nOrt\nDaten\n25. Sep\n|\n20:00\n–\n21:30 \nIhr Dozent\n\nFlorian Baab\, Dr. theol.\, Dr. phil.\nVertretungsprofessor für Katholische Theologie an der Universität Hamburg \nKurskosten / Leistungen\nHinweise\nKurs auf der Lernplattform\n\nLernplattformreligion.ch\n\nAnmeldeschluss\n24.09.2024 \n\nZur Übersicht unserer Angebote
URL:https://www.tbi-zh.ch/event/theologie/und-gib-frieden-in-unseren-tagen/
LOCATION:Digitale Veranstaltung / Webinar
CATEGORIES:Salon Theologie,Theologie
ATTACH;FMTTYPE=image/jpeg:https://www.tbi-zh.ch/wp-content/uploads/2025/10/Bild_Salon_Sept.jpg
END:VEVENT
BEGIN:VEVENT
DTSTART;TZID=Europe/Zurich:20260929T200000
DTEND;TZID=Europe/Zurich:20260929T213000
DTSTAMP:20260422T180654
CREATED:20251022T095712Z
LAST-MODIFIED:20251022T095712Z
UID:10001242-1790712000-1790717400@www.tbi-zh.ch
SUMMARY:«… und gib Frieden in unseren Tagen.»
DESCRIPTION:Inhalt\nWir erleben es in der Klimadebatte: Die Vorstellung\, dass die Natur domestiziert\, eingehegt und gebändigt werden muss\, um der menschlichen Kultur Raum zu schaffen\, kommt an ein Ende. Die Naturwissenschaften sagen uns zu Recht\, dass die Natur Ursprung und notwendige Basis allen Lebens\, ist. Indem wir sie immer stärker zu beherrschen versuchen\, gefährden wir unsere eigene Lebensgrundlage – und die Grundlage allen Lebens. Natur wird im religiösen Kontext aber auch als Schöpfung verstanden. In diesem Salon Theologie stellen wir uns daher folgende Fragen: Sind «Schöpfung » und «Natur» konvergente Begriffe\, oder stehen sie im Widerspruch zueinander? Wie kann man als Christ:in den Schöpfungsglauben mit der Vorstellung einer natürlichen Evolution verbinden? Wie lassen sich aus christlicher Perspektive sowohl die Gestaltung wie auch die Bewahrung und Wertschätzung der Natur in einem umfassenderen Sinn verbinden? \nAnmeldung\nBitte aktiviere JavaScript in deinem Browser\, um dieses Formular fertigzustellen.Bitte aktiviere JavaScript in deinem Browser\, um dieses Formular fertigzustellen.Anrede *Name *Vorname *Strasse/Nr. *PLZ/Ort *Telefon privat/mobile *weitere TelefonnummerEmail *Geburtsdatum (TT. MM. JJJJ) *TT12345678910111213141516171819202122232425262728293031MM123456789101112JJJJ202720262025202420232022202120202019201820172016201520142013201220112010200920082007200620052004200320022001200019991998199719961995199419931992199119901989198819871986198519841983198219811980197919781977197619751974197319721971197019691968196719661965196419631962196119601959195819571956195519541953195219511950194919481947194619451944194319421941194019391938193719361935193419331932193119301929192819271926192519241923192219211920Wie wurden Sie auf diesen Salon Theologie aufmerksam?Bemerkungen/MitteilungenCheckboxes *Ich habe die Geschäftsbedingungen des TBI zur Kenntnis genommen und verpflichte mich mit dieser Anmeldung zur Einhaltung der Kursbestimmungen. *Senden  \nOrt\nDaten\n25. Sep\n|\n20:00\n–\n21:30 \nIhr Dozent\n\nFlorian Baab\, Dr. theol.\, Dr. phil.\nVertretungsprofessor für Katholische Theologie an der Universität Hamburg \nKurskosten / Leistungen\nHinweise\nKurs auf der Lernplattform\n\nLernplattformreligion.ch\n\nAnmeldeschluss\n24.09.2024 \n\nZur Übersicht unserer Angebote
URL:https://www.tbi-zh.ch/event/theologische-grundlagen/und-gib-frieden-in-unseren-tagen-2/
LOCATION:Digitale Veranstaltung / Webinar
CATEGORIES:Interdiözesane Weiterbildung,Praktische Theologie,Theologische Grundlagen
ATTACH;FMTTYPE=image/png:https://www.tbi-zh.ch/wp-content/uploads/2025/10/7.png
END:VEVENT
END:VCALENDAR