BEGIN:VCALENDAR
VERSION:2.0
PRODID:-//Theologisch-pastorales Bildungsinstitut TBI - ECPv6.15.11//NONSGML v1.0//EN
CALSCALE:GREGORIAN
METHOD:PUBLISH
X-ORIGINAL-URL:https://www.tbi-zh.ch
X-WR-CALDESC:Veranstaltungen für Theologisch-pastorales Bildungsinstitut TBI
REFRESH-INTERVAL;VALUE=DURATION:PT1H
X-Robots-Tag:noindex
X-PUBLISHED-TTL:PT1H
BEGIN:VTIMEZONE
TZID:Europe/Zurich
BEGIN:DAYLIGHT
TZOFFSETFROM:+0100
TZOFFSETTO:+0200
TZNAME:CEST
DTSTART:20250330T010000
END:DAYLIGHT
BEGIN:STANDARD
TZOFFSETFROM:+0200
TZOFFSETTO:+0100
TZNAME:CET
DTSTART:20251026T010000
END:STANDARD
BEGIN:DAYLIGHT
TZOFFSETFROM:+0100
TZOFFSETTO:+0200
TZNAME:CEST
DTSTART:20260329T010000
END:DAYLIGHT
BEGIN:STANDARD
TZOFFSETFROM:+0200
TZOFFSETTO:+0100
TZNAME:CET
DTSTART:20261025T010000
END:STANDARD
BEGIN:DAYLIGHT
TZOFFSETFROM:+0100
TZOFFSETTO:+0200
TZNAME:CEST
DTSTART:20270328T010000
END:DAYLIGHT
BEGIN:STANDARD
TZOFFSETFROM:+0200
TZOFFSETTO:+0100
TZNAME:CET
DTSTART:20271031T010000
END:STANDARD
END:VTIMEZONE
BEGIN:VEVENT
DTSTART;VALUE=DATE:20260114
DTEND;VALUE=DATE:20260625
DTSTAMP:20260423T161417
CREATED:20241017T115340Z
LAST-MODIFIED:20260309T083311Z
UID:10000824-1768348800-1782345599@www.tbi-zh.ch
SUMMARY:Leben und Arbeiten in der Kirche Modul 35c
DESCRIPTION:Inhalt\nBasismodul für die Funktionsprofile Leitungsassistenz und Freiwilligenanimation \nDas Modul „Grundzüge der Kirche und Pastoral“ (M 1) reflektiert und vertieft das berufsbezogene institutionelle Basiswissen im Blick auf den kirchlich-pastoralen Grundauftrag und die neue Berufsrolle. Als praktisch angewandte Ekklesiologie vermittelt es die nötige kirchliche Feldkompetenz für die beiden neuen Funktionsprofile. Damit eröffnen sich interessante und attraktive neue Entwicklungsperspektiven im kirchlichen Berufsfeld. \nKursinhalte \n\nDie Inhalte entsprechen den Lernzielen von M 1 nach ForModula:\n\nGrundvollzüge und Wesensmerkmale der Kirche\nPastorale Strategie und Kirchenentwicklung angesichts der Situation von Glaube und Religion heute\nAufbau und Spezifika der Führung in der Kirche Schweiz (duales System\, Funktionsprofil und Zusammenarbeit von Hauptamtlichen\, Freiwilligen und Milizämtern)\nGrundlagen der Diakonie-Arbeit\n\n\n\nZielgruppe \n\nKatechetinnen/Katecheten und kirchliche Jugendarbeitende mit Fachausweis ForModula\nPfarreisekretärinnen und -sekretäre\nQuereinsteigende aus Verwaltung und Wirtschaft mit hohen fachlichen Kompetenzen\n\nVorrausetzungen \n\nFachausweis in Katechese oder Kirchliche Jugendarbeit bzw. abgeschlossene kaufmännische Lehre (Profil E oder M) oder adäquate Ausbildung sowie mehrjährige Berufserfahrung (z.B. in einem Pfarreisekretariat)\nBereitschaft\, sich in der Kursgruppe auf einen Prozess der fachlichen und persönlichen Auseinandersetzung einzulassen\n\nArbeitsweise \n\nImpulsreferate\nAustausch über Erfahrungen und Fragen der Teilnehmenden\nEinführung und Lerncoaching zum Kompetenznachweis (erforderlich für das Modulzertifikat\n\nKursequenzen \n\nIn der Weiterbildung nehmen die TeilnehmerInnen Kontakt auf zu ihrer eigenen Lebens- und Glaubensgeschichte.\nSie entdecken\, wie sich Lebens- und Glaubenserfahrungen im Bibliodrama verbinden und zur Sprache gebracht werden.\nSie lernen\, das Instrument des Bibliodramas und Kleinformen des Bibliodramas für Kinder und Erwachsene einzusetzen.\nSie gestalten Katechese\, Liturgie und Bildungsarbeit als religiöse Erfahrungsräume mit Elementen des Bibliodramas.\nSie erfahren\, wie Glaubenskommunikation und Gemeindeaufbau miteinander verbunden werden können.\nSie entwickeln und erproben ihre eigene spirituelle und sozial-kommunikative Kompetenz.\n\nKursabschluss/Zertifikat \n\nIn der Weiterbildung nehmen die TeilnehmerInnen Kontakt auf zu ihrer eigenen Lebens- und Glaubensgeschichte.\nSie entdecken\, wie sich Lebens- und Glaubenserfahrungen im Bibliodrama verbinden und zur Sprache gebracht werden.\nSie lernen\, das Instrument des Bibliodramas und Kleinformen des Bibliodramas für Kinder und Erwachsene einzusetzen.\nSie gestalten Katechese\, Liturgie und Bildungsarbeit als religiöse Erfahrungsräume mit Elementen des Bibliodramas.\nSie erfahren\, wie Glaubenskommunikation und Gemeindeaufbau miteinander verbunden werden können.\nSie entwickeln und erproben ihre eigene spirituelle und sozial-kommunikative Kompetenz.\n\nAnmeldung\nBitte aktiviere JavaScript in deinem Browser\, um dieses Formular fertigzustellen.Bitte aktiviere JavaScript in deinem Browser\, um dieses Formular fertigzustellen.Anrede *Anrede*FrauHerrkeine AngabeName *Vorname *Institution (nur falls Teil der Korrespondenzadresse)Strasse/Nr. *PLZ/Ort *Telefon privat/mobile *weitere TelefonnummerEmail *Geburtsdatum (TT. MM. JJJJ) *TT12345678910111213141516171819202122232425262728293031MM123456789101112JJJJ202720262025202420232022202120202019201820172016201520142013201220112010200920082007200620052004200320022001200019991998199719961995199419931992199119901989198819871986198519841983198219811980197919781977197619751974197319721971197019691968196719661965196419631962196119601959195819571956195519541953195219511950194919481947194619451944194319421941194019391938193719361935193419331932193119301929192819271926192519241923192219211920Beruf *Bistum *Bistum*ChurBaselSt. GallenLGFSittenkeine AngabeDie Rechnung geht an folgende Adresse Bemerkungen/MitteilungenWie wurden Sie auf diesen Kurs aufmerksam?CheckboxenIch bin damit einverstanden\, dass meine E-Mail-Adresse zur Vernetzung untereinander mit den anderen Kursteilnehmenden geteilt wird.CheckboxenJa\, ich möchte den TBI Newsletter erhalten.Checkboxes *Ich habe die Geschäftsbedingungen des TBI zur Kenntnis genommen und verpflichte mich mit dieser Anmeldung zur Einhaltung der Kursbestimmungen.*Senden  \nOrt\nDaten\n5. May\n|\n9:30\n–\n7. May\n|\n17:00 \nKursleitung\n\nDavid Wakefield\nInstitutsleiter am TBI \nReferenten\nUrs Brosi\nGeneralsekretär der RKZ \nDr. Claudia Mennen\nLeiterin Bildung und Propstei der Katholischen Kirche im Aargau \nDr. Gregor Scherzinger\nDiakonieanimation Caritas St. Gallen \nTit.Prof. Arnd Bünker\nLeiter SPI \nKurskosten / Leistungen\nKurs auf der Lernplattform\n\nLernplattformreligion.ch\n\nAnmeldeschluss\n25.03.2025 \n \n\nModul 1 \n\nGrundzüge der Kirche und Pastoral\n\n\nZur Übersicht unserer Angebote
URL:https://www.tbi-zh.ch/event/fort-und-weiterbildung/leben-und-arbeiten-in-der-kirche-modul-35c/
CATEGORIES:Archiv,ForModula Berufsfelderweiterungen Leitungsassistenz,Fort- und Weiterbildung
ATTACH;FMTTYPE=image/jpeg:https://www.tbi-zh.ch/wp-content/uploads/2024/07/Bibliodramatische-Impulse-im-Kirchenraum-und-in-der-Natur.jpg
END:VEVENT
BEGIN:VEVENT
DTSTART;TZID=Europe/Zurich:20260114T090000
DTEND;TZID=Europe/Zurich:20260116T150000
DTSTAMP:20260423T161417
CREATED:20240710T134105Z
LAST-MODIFIED:20260122T084153Z
UID:10000080-1768381200-1768575600@www.tbi-zh.ch
SUMMARY:Update Teamleitung - Weiterbildung für kirchliche Mitarbeitende mit Leitungsverantwortung
DESCRIPTION:Inhalt\nLeitende von Teams sind in einer Aufgabe gefordert\, die hohe persönliche und fachliche Kompetenzen voraussetzt. Sie haben für ihr Team förderliche Rahmenbedingungen zu schaffen und dessen Zusammenarbeit hilfreich zu unterstützen. \nDie Weiterbildung bietet Kompetenzerweiterung im Umgang mit der Dynamik von Teams\, vermittelt Grundkenntnisse zur Teamarbeit und zum Konfliktmanagement sowie Anstösse zur Rollenklärung als Teamleitung. Sie orientiert sich praxisnah an den Fragestellungen und Themen der Teilnehmenden. Das Angebot richtet sich an Gemeinde- und TeamleiterInnen in unterschiedlichen Arbeitsfeldern. \nZiele der Weiterbildung \n\nKompetenzerweiterung im Umgang mit der Dynamik von Teams\nWahrnehmen und Unterscheiden von Teamleitungsaufgaben\nAuseinandersetzung mit der Leitungsrolle und dem eigenen Leitungsstil\nErkennen und umsetzen von Handlungsmöglichkeiten im Umgang mit Teamkonflikten\nErkennen von Grenzen der Bewältigung von Konflikten als Leitungsperson\nBearbeitung konkreter Fragestellungen aus dem Leitungsalltag der Teilnehmenden\n\nArbeitsweise \n\nInputs zu Fragen der Team- und Konfliktdynamik\, Reflexionsaufgaben im Hinblick auf das eigene Leitungshandeln\, Bearbeitung von Fallbeispielen\, Coaching zu konkreten Fragestellungen der Teilnehmenden.\n\nZielgruppe \n\nGemeindeleiterInnen\nTeamleiterInnen (z.B. im Bereich Religionsunterricht\, Diakonie)\nLeiterInnen kirchlicher Arbeitsstellen\nInteressierte\n\nVorrausetzungen \n\nAktuelle Leitungstätigkeit\nOffenheit\, sich in einer Gruppe mit der eigenen Leitungsrolle und dem eigenen Leitungsstil auseinanderzusetzen\n\nAnmeldung\nBitte aktiviere JavaScript in deinem Browser\, um dieses Formular fertigzustellen.Bitte aktiviere JavaScript in deinem Browser\, um dieses Formular fertigzustellen.Anrede *Anrede*FrauHerrkeine AngabeName *Vorname *Institution (nur falls Teil der Korrespondenzadresse)Strasse/Nr. *PLZ/Ort *Telefon privat/mobile *weitere TelefonnummerEmail *Geburtsdatum (TT. MM. JJJJ) *TT12345678910111213141516171819202122232425262728293031MM123456789101112JJJJ202720262025202420232022202120202019201820172016201520142013201220112010200920082007200620052004200320022001200019991998199719961995199419931992199119901989198819871986198519841983198219811980197919781977197619751974197319721971197019691968196719661965196419631962196119601959195819571956195519541953195219511950194919481947194619451944194319421941194019391938193719361935193419331932193119301929192819271926192519241923192219211920Beruf *Bistum *Bistum*ChurBaselSt. GallenLGFSittenkeine AngabeDie Rechnung geht an folgende Adresse Bemerkungen/MitteilungenWie wurden Sie auf diesen Kurs aufmerksam?CheckboxenIch bin damit einverstanden\, dass meine E-Mail-Adresse zur Vernetzung untereinander mit den anderen Kursteilnehmenden geteilt wird.CheckboxenJa\, ich möchte den TBI Newsletter erhalten.Checkboxes *Ich habe die Geschäftsbedingungen des TBI zur Kenntnis genommen und verpflichte mich mit dieser Anmeldung zur Einhaltung der Kursbestimmungen.*Senden  \n\nWenn Sie unser Bibliodrama noch nicht kennen\, besuchen Sie doch eine Veranstaltung von uns: www.propstei.ch oder www.bibliodramaundseelsorge.ch\n\nOrt\nDaten\n15. Jan\n|\n9:00\n–\n17. Jan\n|\n15:00 \nKursleitung\nMarie-Theres Beeler\nTheologin\, Klinik- und Spitalseelsorgerin\, Supervisorin\, OE-Beraterin\, Stadträtin \nKurskosten / Leistungen\nHinweise\nKurs auf der Lernplattform\n\nKurs auf Lernplattformreligion.ch\n\nAnmeldeschluss\n13.12.2024 \n\n\nZur Übersicht unserer Angebote
URL:https://www.tbi-zh.ch/event/leitungsaufgaben-und-transformationsprozesse/update-teamleitung-weiterbildung-fuer-kirchliche-mitarbeitende-mit-leitungsverantwortung/
LOCATION:Propstei Wislikofen\, Propsteiweg\, Wislikofen\, 5463\, Schweiz
CATEGORIES:Archiv,Fort- und Weiterbildung,Leitungsaufgaben und Transformationsprozesse
ATTACH;FMTTYPE=image/png:https://www.tbi-zh.ch/wp-content/uploads/2024/07/Update-Teamleitung.png
END:VEVENT
BEGIN:VEVENT
DTSTART;TZID=Europe/Zurich:20260114T090000
DTEND;TZID=Europe/Zurich:20260116T150000
DTSTAMP:20260423T161417
CREATED:20250909T101540Z
LAST-MODIFIED:20260122T084118Z
UID:10001205-1768381200-1768575600@www.tbi-zh.ch
SUMMARY:Update Teamleitung / Weiterbildung für kirchliche Mitarbeitende mit Leitungsverantwortung
DESCRIPTION:Inhalt\nLeitende von Teams sind in einer Aufgabe gefordert\, die hohe persönliche und fachliche Kompetenzen voraussetzt. Sie haben für ihr Team förderliche Rahmenbedingungen zu schaffen und dessen Zusammenarbeit hilfreich zu unterstützen. \nDie Weiterbildung bietet Kompetenzerweiterung im Umgang mit der Dynamik von Teams\, vermittelt Grundkenntnisse zur Teamarbeit und zum Konfliktmanagement sowie Anstösse zur Rollenklärung als Teamleitung. Sie orientiert sich praxisnah an den Fragestellungen und Themen der Teilnehmenden. Das Angebot richtet sich an Gemeinde- und TeamleiterInnen in unterschiedlichen Arbeitsfeldern. \nZiele der Weiterbildung \n\nKompetenzerweiterung im Umgang mit der Dynamik von Teams\nWahrnehmen und Unterscheiden von Teamleitungsaufgaben\nAuseinandersetzung mit der Leitungsrolle und dem eigenen Leitungsstil\nErkennen und umsetzen von Handlungsmöglichkeiten im Umgang mit Teamkonflikten\nErkennen von Grenzen der Bewältigung von Konflikten als Leitungsperson\nBearbeitung konkreter Fragestellungen aus dem Leitungsalltag der Teilnehmenden\n\nArbeitsweise \n\nInputs zu Fragen der Team- und Konfliktdynamik\, Reflexionsaufgaben im Hinblick auf das eigene Leitungshandeln\, Bearbeitung von Fallbeispielen\, Coaching zu konkreten Fragestellungen der Teilnehmenden.\n\nZielgruppe \n\nGemeindeleiterInnen\nTeamleiterInnen (z.B. im Bereich Religionsunterricht\, Diakonie)\nLeiterInnen kirchlicher Arbeitsstellen\nInteressierte\n\nVorrausetzungen \n\nAktuelle Leitungstätigkeit\nOffenheit\, sich in einer Gruppe mit der eigenen Leitungsrolle und dem eigenen Leitungsstil auseinanderzusetzen\n\nAnmeldung\nBitte aktiviere JavaScript in deinem Browser\, um dieses Formular fertigzustellen.Bitte aktiviere JavaScript in deinem Browser\, um dieses Formular fertigzustellen.Anrede *Anrede*FrauHerrkeine AngabeName *Vorname *Institution (nur falls Teil der Korrespondenzadresse)Strasse/Nr. *PLZ/Ort *Telefon privat/mobile *weitere TelefonnummerEmail *Geburtsdatum (TT. MM. JJJJ) *TT12345678910111213141516171819202122232425262728293031MM123456789101112JJJJ202720262025202420232022202120202019201820172016201520142013201220112010200920082007200620052004200320022001200019991998199719961995199419931992199119901989198819871986198519841983198219811980197919781977197619751974197319721971197019691968196719661965196419631962196119601959195819571956195519541953195219511950194919481947194619451944194319421941194019391938193719361935193419331932193119301929192819271926192519241923192219211920Beruf *Bistum *Bistum*ChurBaselSt. GallenLGFSittenkeine AngabeDie Rechnung geht an folgende Adresse Bemerkungen/MitteilungenWie wurden Sie auf diesen Kurs aufmerksam?CheckboxenIch bin damit einverstanden\, dass meine E-Mail-Adresse zur Vernetzung untereinander mit den anderen Kursteilnehmenden geteilt wird.CheckboxenJa\, ich möchte den TBI Newsletter erhalten.Checkboxes *Ich habe die Geschäftsbedingungen des TBI zur Kenntnis genommen und verpflichte mich mit dieser Anmeldung zur Einhaltung der Kursbestimmungen.*Senden  \n\nWenn Sie unser Bibliodrama noch nicht kennen\, besuchen Sie doch eine Veranstaltung von uns: www.propstei.ch oder www.bibliodramaundseelsorge.ch\n\nOrt\nDaten\n15. Jan\n|\n9:00\n–\n17. Jan\n|\n15:00 \nKursleitung\nMarie-Theres Beeler\nTheologin\, Klinik- und Spitalseelsorgerin\, Supervisorin\, OE-Beraterin\, Stadträtin \nKurskosten / Leistungen\nHinweise\nKurs auf der Lernplattform\n\nKurs auf Lernplattformreligion.ch\n\nAnmeldeschluss\n13.12.2024 \n\n\nZur Übersicht unserer Angebote
URL:https://www.tbi-zh.ch/event/mit-menschen-unterwegs/update-teamleitung-weiterbildung-fuer-kirchliche-mitarbeitende-mit-leitungsverantwortung-2/
LOCATION:Propstei Wislikofen\, Propsteiweg\, Wislikofen\, 5463\, Schweiz
CATEGORIES:Archiv,Interdiözesane Weiterbildung,Mit Menschen unterwegs
ATTACH;FMTTYPE=image/png:https://www.tbi-zh.ch/wp-content/uploads/2025/09/Update.png
END:VEVENT
BEGIN:VEVENT
DTSTART;TZID=Europe/Zurich:20260115T080000
DTEND;TZID=Europe/Zurich:20260118T170000
DTSTAMP:20260423T161417
CREATED:20250206T125707Z
LAST-MODIFIED:20260309T083350Z
UID:10001024-1768464000-1768755600@www.tbi-zh.ch
SUMMARY:Ökumenische Zusatzausbildung für den heilpädagogischen Religionsunterricht M13 hru
DESCRIPTION:https://formodula.spi-sg.ch/katechetin-mit-fachausweis/https://www.tbi-zh.ch/wp-content/uploads/2025/02/13-Modul-ID-1.pdf
URL:https://www.tbi-zh.ch/event/katechese-und-religionspaedagogik/oekumenische-zusatzausbildung-fuer-den-heilpaedagogischen-religionsunterricht-m13-hru/
LOCATION:Zentrum Rämismühle\, Rämismühle\, 8487\, Switzerland
CATEGORIES:Archiv,Fort- und Weiterbildung,Highlight,Katechese und Religionspädagogik
ATTACH;FMTTYPE=image/jpeg:https://www.tbi-zh.ch/wp-content/uploads/2024/07/Bild-Homepage-3.jpg
END:VEVENT
BEGIN:VEVENT
DTSTART;TZID=Europe/Zurich:20260116T093000
DTEND;TZID=Europe/Zurich:20260116T170000
DTSTAMP:20260423T161417
CREATED:20241204T105733Z
LAST-MODIFIED:20251119T113749Z
UID:10000971-1768555800-1768582800@www.tbi-zh.ch
SUMMARY:Digital ist anders. Lernen steuern mit der Lernplattformreligion.
DESCRIPTION:Inhalt\nWir erleben es in der Klimadebatte: Die Vorstellung\, dass die Natur domestiziert\, eingehegt und gebändigt werden muss\, um der menschlichen Kultur Raum zu schaffen\, kommt an ein Ende. Die Naturwissenschaften sagen uns zu Recht\, dass die Natur Ursprung und notwendige Basis allen Lebens\, ist. Indem wir sie immer stärker zu beherrschen versuchen\, gefährden wir unsere eigene Lebensgrundlage – und die Grundlage allen Lebens. Natur wird im religiösen Kontext aber auch als Schöpfung verstanden. In diesem Salon Theologie stellen wir uns daher folgende Fragen: Sind «Schöpfung » und «Natur» konvergente Begriffe\, oder stehen sie im Widerspruch zueinander? Wie kann man als Christ:in den Schöpfungsglauben mit der Vorstellung einer natürlichen Evolution verbinden? Wie lassen sich aus christlicher Perspektive sowohl die Gestaltung wie auch die Bewahrung und Wertschätzung der Natur in einem umfassenderen Sinn verbinden? \nAnmeldung\nBitte aktiviere JavaScript in deinem Browser\, um dieses Formular fertigzustellen.Bitte aktiviere JavaScript in deinem Browser\, um dieses Formular fertigzustellen.Anrede *Name *Vorname *Strasse/Nr. *PLZ/Ort *Telefon privat/mobile *weitere TelefonnummerEmail *Geburtsdatum (TT. MM. JJJJ) *TT12345678910111213141516171819202122232425262728293031MM123456789101112JJJJ202720262025202420232022202120202019201820172016201520142013201220112010200920082007200620052004200320022001200019991998199719961995199419931992199119901989198819871986198519841983198219811980197919781977197619751974197319721971197019691968196719661965196419631962196119601959195819571956195519541953195219511950194919481947194619451944194319421941194019391938193719361935193419331932193119301929192819271926192519241923192219211920Wie wurden Sie auf diesen Salon Theologie aufmerksam?Bemerkungen/MitteilungenCheckboxes *Ich habe die Geschäftsbedingungen des TBI zur Kenntnis genommen und verpflichte mich mit dieser Anmeldung zur Einhaltung der Kursbestimmungen. *Senden  \nOrt\nDaten\n25. Sep\n|\n20:00\n–\n21:30 \nIhr Dozent\n\nFlorian Baab\, Dr. theol.\, Dr. phil.\nVertretungsprofessor für Katholische Theologie an der Universität Hamburg \nKurskosten / Leistungen\nHinweise\nKurs auf der Lernplattform\n\nLernplattformreligion.ch\n\nAnmeldeschluss\n24.09.2024 \n\nZur Übersicht unserer Angebote
URL:https://www.tbi-zh.ch/event/lernplattformreligion/digital-ist-anders-lernen-steuern-mit-der-lernplattformreligon/
LOCATION:Digitale Veranstaltung / Webinar
CATEGORIES:Lernplattformreligion.ch
ATTACH;FMTTYPE=image/png:https://www.tbi-zh.ch/wp-content/uploads/2024/12/BildHomepage.png
END:VEVENT
BEGIN:VEVENT
DTSTART;TZID=Europe/Zurich:20260117T090000
DTEND;TZID=Europe/Zurich:20260117T160000
DTSTAMP:20260423T161417
CREATED:20250327T104526Z
LAST-MODIFIED:20260310T082305Z
UID:10001085-1768640400-1768665600@www.tbi-zh.ch
SUMMARY:Modul 1 - Grundmodul - Das Christentum in unserer Welt ST. GALLEN 2026 - AUSGEBUCHT!
DESCRIPTION:
URL:https://www.tbi-zh.ch/event/theologische-module-1-3/modul-1-grundmodul-das-christentum-in-unserer-welt-st-gallen/
LOCATION:Fachstelle Katechese und Religionsunterricht\, Klosterhof 6a\, St. Gallen\, 9000
CATEGORIES:Archiv,Theologie,Theologische Module 1-3
ATTACH;FMTTYPE=image/jpeg:https://www.tbi-zh.ch/wp-content/uploads/2024/06/TBI_Ebene-3_Bilder-Neutral_543x543_Theologie_3.jpg
END:VEVENT
BEGIN:VEVENT
DTSTART;TZID=Europe/Zurich:20260117T090000
DTEND;TZID=Europe/Zurich:20260117T160000
DTSTAMP:20260423T161417
CREATED:20251021T130231Z
LAST-MODIFIED:20260309T082717Z
UID:10001235-1768640400-1768665600@www.tbi-zh.ch
SUMMARY:Modul 1 - Grundmodul - Das Christentum in unserer Welt WEINFELDEN 2026
DESCRIPTION:
URL:https://www.tbi-zh.ch/event/theologische-module-1-3/modul-1-grundmodul-das-christentum-in-unserer-welt-weinfelden-2026/
LOCATION:Digitale Veranstaltung / Webinar
CATEGORIES:Archiv,Theologie,Theologische Module 1-3
ATTACH;FMTTYPE=image/jpeg:https://www.tbi-zh.ch/wp-content/uploads/2024/06/TBI_Ebene-3_Bilder-Neutral_543x543_Theologie_1.jpg
END:VEVENT
BEGIN:VEVENT
DTSTART;TZID=Europe/Zurich:20260127T091500
DTEND;TZID=Europe/Zurich:20260127T163000
DTSTAMP:20260423T161417
CREATED:20250827T224157Z
LAST-MODIFIED:20260319T080517Z
UID:10001193-1769505300-1769531400@www.tbi-zh.ch
SUMMARY:Selbstsorge als Aufgabe der Asyl- und Gefängnisseelsorge
DESCRIPTION:
URL:https://www.tbi-zh.ch/event/selbstsorge/selbstsorge-als-aufgabe-der-asyl-und-gefaengnisseelsorge/
LOCATION:Universität Bern\, UniS\, Schanzeneckstrasse 1\, Bern\, Raum A-119
CATEGORIES:Archiv,Diakonie,Interdiözesane Weiterbildung,Selbstführung/Selbstsorge,Selbstsorge
ATTACH;FMTTYPE=image/png:https://www.tbi-zh.ch/wp-content/uploads/2025/09/ABi_Bilder_Pflastersteine.png
ORGANIZER;CN="Aus- und Weiterbildung in Seelsorge%2C Spiritual Care und Pastoralpsychologie AWS":MAILTO:marie-claire.thomann@unibe.ch
END:VEVENT
BEGIN:VEVENT
DTSTART;TZID=Europe/Zurich:20260127T200000
DTEND;TZID=Europe/Zurich:20260127T213000
DTSTAMP:20260423T161417
CREATED:20251001T121709Z
LAST-MODIFIED:20260128T131958Z
UID:10001224-1769544000-1769549400@www.tbi-zh.ch
SUMMARY:Zwischen Wüste und Willkommen
DESCRIPTION:Inhalt\nWir erleben es in der Klimadebatte: Die Vorstellung\, dass die Natur domestiziert\, eingehegt und gebändigt werden muss\, um der menschlichen Kultur Raum zu schaffen\, kommt an ein Ende. Die Naturwissenschaften sagen uns zu Recht\, dass die Natur Ursprung und notwendige Basis allen Lebens\, ist. Indem wir sie immer stärker zu beherrschen versuchen\, gefährden wir unsere eigene Lebensgrundlage – und die Grundlage allen Lebens. Natur wird im religiösen Kontext aber auch als Schöpfung verstanden. In diesem Salon Theologie stellen wir uns daher folgende Fragen: Sind «Schöpfung » und «Natur» konvergente Begriffe\, oder stehen sie im Widerspruch zueinander? Wie kann man als Christ:in den Schöpfungsglauben mit der Vorstellung einer natürlichen Evolution verbinden? Wie lassen sich aus christlicher Perspektive sowohl die Gestaltung wie auch die Bewahrung und Wertschätzung der Natur in einem umfassenderen Sinn verbinden? \nAnmeldung\nBitte aktiviere JavaScript in deinem Browser\, um dieses Formular fertigzustellen.Bitte aktiviere JavaScript in deinem Browser\, um dieses Formular fertigzustellen.Anrede *Name *Vorname *Strasse/Nr. *PLZ/Ort *Telefon privat/mobile *weitere TelefonnummerEmail *Geburtsdatum (TT. MM. JJJJ) *TT12345678910111213141516171819202122232425262728293031MM123456789101112JJJJ202720262025202420232022202120202019201820172016201520142013201220112010200920082007200620052004200320022001200019991998199719961995199419931992199119901989198819871986198519841983198219811980197919781977197619751974197319721971197019691968196719661965196419631962196119601959195819571956195519541953195219511950194919481947194619451944194319421941194019391938193719361935193419331932193119301929192819271926192519241923192219211920Wie wurden Sie auf diesen Salon Theologie aufmerksam?Bemerkungen/MitteilungenCheckboxes *Ich habe die Geschäftsbedingungen des TBI zur Kenntnis genommen und verpflichte mich mit dieser Anmeldung zur Einhaltung der Kursbestimmungen. *Senden  \nOrt\nDaten\n25. Sep\n|\n20:00\n–\n21:30 \nIhr Dozent\n\nFlorian Baab\, Dr. theol.\, Dr. phil.\nVertretungsprofessor für Katholische Theologie an der Universität Hamburg \nKurskosten / Leistungen\nHinweise\nKurs auf der Lernplattform\n\nLernplattformreligion.ch\n\nAnmeldeschluss\n24.09.2024 \n\nZur Übersicht unserer Angebote
URL:https://www.tbi-zh.ch/event/theologie/zwischen-wueste-und-willkommen/
LOCATION:Digitale Veranstaltung / Webinar
CATEGORIES:Archiv,Salon Theologie,Theologie
ATTACH;FMTTYPE=image/jpeg:https://www.tbi-zh.ch/wp-content/uploads/2025/10/Bild_Salon_Feb.jpg
END:VEVENT
BEGIN:VEVENT
DTSTART;TZID=Europe/Zurich:20260127T200000
DTEND;TZID=Europe/Zurich:20260127T213000
DTSTAMP:20260423T161417
CREATED:20251022T090018Z
LAST-MODIFIED:20260128T131958Z
UID:10001236-1769544000-1769549400@www.tbi-zh.ch
SUMMARY:Zwischen Wüste und Willkommen
DESCRIPTION:Inhalt\nWir erleben es in der Klimadebatte: Die Vorstellung\, dass die Natur domestiziert\, eingehegt und gebändigt werden muss\, um der menschlichen Kultur Raum zu schaffen\, kommt an ein Ende. Die Naturwissenschaften sagen uns zu Recht\, dass die Natur Ursprung und notwendige Basis allen Lebens\, ist. Indem wir sie immer stärker zu beherrschen versuchen\, gefährden wir unsere eigene Lebensgrundlage – und die Grundlage allen Lebens. Natur wird im religiösen Kontext aber auch als Schöpfung verstanden. In diesem Salon Theologie stellen wir uns daher folgende Fragen: Sind «Schöpfung » und «Natur» konvergente Begriffe\, oder stehen sie im Widerspruch zueinander? Wie kann man als Christ:in den Schöpfungsglauben mit der Vorstellung einer natürlichen Evolution verbinden? Wie lassen sich aus christlicher Perspektive sowohl die Gestaltung wie auch die Bewahrung und Wertschätzung der Natur in einem umfassenderen Sinn verbinden? \nAnmeldung\nBitte aktiviere JavaScript in deinem Browser\, um dieses Formular fertigzustellen.Bitte aktiviere JavaScript in deinem Browser\, um dieses Formular fertigzustellen.Anrede *Name *Vorname *Strasse/Nr. *PLZ/Ort *Telefon privat/mobile *weitere TelefonnummerEmail *Geburtsdatum (TT. MM. JJJJ) *TT12345678910111213141516171819202122232425262728293031MM123456789101112JJJJ202720262025202420232022202120202019201820172016201520142013201220112010200920082007200620052004200320022001200019991998199719961995199419931992199119901989198819871986198519841983198219811980197919781977197619751974197319721971197019691968196719661965196419631962196119601959195819571956195519541953195219511950194919481947194619451944194319421941194019391938193719361935193419331932193119301929192819271926192519241923192219211920Wie wurden Sie auf diesen Salon Theologie aufmerksam?Bemerkungen/MitteilungenCheckboxes *Ich habe die Geschäftsbedingungen des TBI zur Kenntnis genommen und verpflichte mich mit dieser Anmeldung zur Einhaltung der Kursbestimmungen. *Senden  \nOrt\nDaten\n25. Sep\n|\n20:00\n–\n21:30 \nIhr Dozent\n\nFlorian Baab\, Dr. theol.\, Dr. phil.\nVertretungsprofessor für Katholische Theologie an der Universität Hamburg \nKurskosten / Leistungen\nHinweise\nKurs auf der Lernplattform\n\nLernplattformreligion.ch\n\nAnmeldeschluss\n24.09.2024 \n\nZur Übersicht unserer Angebote
URL:https://www.tbi-zh.ch/event/theologische-grundlagen/zwischen-wueste-und-willkommen-2/
LOCATION:Digitale Veranstaltung / Webinar
CATEGORIES:Archiv,Interdiözesane Weiterbildung,Theologische Grundlagen
ATTACH;FMTTYPE=image/png:https://www.tbi-zh.ch/wp-content/uploads/2025/10/1.png
END:VEVENT
BEGIN:VEVENT
DTSTART;TZID=Europe/Zurich:20260128T081500
DTEND;TZID=Europe/Zurich:20260128T114500
DTSTAMP:20260423T161417
CREATED:20250827T153357Z
LAST-MODIFIED:20260319T080559Z
UID:10001192-1769588100-1769600700@www.tbi-zh.ch
SUMMARY:Finanziell fit für die Pensionierung - Pensionsplanung 2026 Fokus Verheiratete
DESCRIPTION:
URL:https://www.tbi-zh.ch/event/selbstfuehrung-selbstsorge/finanziell-fit-fuer-die-pensionierung-pensionsplanung-2026-fokus-verheiratete/
LOCATION:Bischöfliches Ordinariat in Solothurn\, Baselstrasse 58\, Solothurn\, SO\, 4500
CATEGORIES:Archiv,Interdiözesane Weiterbildung,Selbstführung/Selbstsorge
ATTACH;FMTTYPE=image/png:https://www.tbi-zh.ch/wp-content/uploads/2025/09/ABi_Bilder_PC_Notizen.png
ORGANIZER;CN="Abteilung Bildung Bistum Basel":MAILTO:sekretariat.bildung@bistum-basel.ch
END:VEVENT
BEGIN:VEVENT
DTSTART;TZID=Europe/Zurich:20260128T131500
DTEND;TZID=Europe/Zurich:20260128T164500
DTSTAMP:20260423T161417
CREATED:20250828T063806Z
LAST-MODIFIED:20260319T080641Z
UID:10001194-1769606100-1769618700@www.tbi-zh.ch
SUMMARY:Finanziell fit für die Pensionierung - Pensionsplanung 2026 Fokus Alleinstehende
DESCRIPTION:
URL:https://www.tbi-zh.ch/event/selbstfuehrung-selbstsorge/finanziell-fit-fuer-die-pensionierung-pensionsplanung-2026-fokus-alleinstehende/
LOCATION:Bischöfliches Ordinariat in Solothurn\, Baselstrasse 58\, Solothurn\, SO\, 4500
CATEGORIES:Archiv,Interdiözesane Weiterbildung,Selbstführung/Selbstsorge
ATTACH;FMTTYPE=image/png:https://www.tbi-zh.ch/wp-content/uploads/2025/09/ABi_Bilder_PC_Notizen.png
ORGANIZER;CN="Abteilung Bildung Bistum Basel":MAILTO:sekretariat.bildung@bistum-basel.ch
END:VEVENT
BEGIN:VEVENT
DTSTART;TZID=Europe/Zurich:20260131T090000
DTEND;TZID=Europe/Zurich:20260131T161500
DTSTAMP:20260423T161417
CREATED:20260105T144914Z
LAST-MODIFIED:20260319T080704Z
UID:10001277-1769850000-1769876100@www.tbi-zh.ch
SUMMARY:Verletzte Seelen - Verwickelte Konflikte: Trauma als Schlüssel zum Verständnis von Konfliktdynamiken. Tageskonferenz – CAS Konfliktberatung
DESCRIPTION:
URL:https://www.tbi-zh.ch/event/selbstfuehrung-selbstsorge/verletzte-seelen-verwickelte-konflikte-trauma-als-schluessel-zum-verstaendnis-von-konfliktdynamiken-tageskonferenz-cas-konfliktberatung/
LOCATION:Bildungszentrum Bienenberg\, Bienenbergstrasse 85a\, 4410 Liestal
CATEGORIES:Archiv,Interdiözesane Weiterbildung,Selbstführung/Selbstsorge
ATTACH;FMTTYPE=image/png:https://www.tbi-zh.ch/wp-content/uploads/2026/01/ABi-Bilder_Trauma.png
END:VEVENT
END:VCALENDAR