BEGIN:VCALENDAR
VERSION:2.0
PRODID:-//Theologisch-pastorales Bildungsinstitut TBI - ECPv6.15.11//NONSGML v1.0//EN
CALSCALE:GREGORIAN
METHOD:PUBLISH
X-ORIGINAL-URL:https://www.tbi-zh.ch
X-WR-CALDESC:Veranstaltungen für Theologisch-pastorales Bildungsinstitut TBI
REFRESH-INTERVAL;VALUE=DURATION:PT1H
X-Robots-Tag:noindex
X-PUBLISHED-TTL:PT1H
BEGIN:VTIMEZONE
TZID:Europe/Zurich
BEGIN:DAYLIGHT
TZOFFSETFROM:+0100
TZOFFSETTO:+0200
TZNAME:CEST
DTSTART:20260329T010000
END:DAYLIGHT
BEGIN:STANDARD
TZOFFSETFROM:+0200
TZOFFSETTO:+0100
TZNAME:CET
DTSTART:20261025T010000
END:STANDARD
BEGIN:DAYLIGHT
TZOFFSETFROM:+0100
TZOFFSETTO:+0200
TZNAME:CEST
DTSTART:20270328T010000
END:DAYLIGHT
BEGIN:STANDARD
TZOFFSETFROM:+0200
TZOFFSETTO:+0100
TZNAME:CET
DTSTART:20271031T010000
END:STANDARD
BEGIN:DAYLIGHT
TZOFFSETFROM:+0100
TZOFFSETTO:+0200
TZNAME:CEST
DTSTART:20280326T010000
END:DAYLIGHT
BEGIN:STANDARD
TZOFFSETFROM:+0200
TZOFFSETTO:+0100
TZNAME:CET
DTSTART:20281029T010000
END:STANDARD
END:VTIMEZONE
BEGIN:VEVENT
DTSTART;TZID=Europe/Zurich:20270619T090000
DTEND;TZID=Europe/Zurich:20271121T140000
DTSTAMP:20260425T185219
CREATED:20260423T090821Z
LAST-MODIFIED:20260423T091407Z
UID:10001368-1813395600-1826805600@www.tbi-zh.ch
SUMMARY:Bibel frei erzählt!
DESCRIPTION:
URL:https://www.tbi-zh.ch/event/katechese-und-religionspaedagogik/bibel-frei-erzaehlt/
LOCATION:Thalwil\, Thalwil
CATEGORIES:Bibelpastoral,Katechese und Religionspädagogik
ATTACH;FMTTYPE=image/jpeg:https://www.tbi-zh.ch/wp-content/uploads/2024/07/Bibel-erzaehlen.jpg
END:VEVENT
END:VCALENDAR