BEGIN:VCALENDAR
VERSION:2.0
PRODID:-//Theologisch-pastorales Bildungsinstitut TBI - ECPv6.15.11//NONSGML v1.0//EN
CALSCALE:GREGORIAN
METHOD:PUBLISH
X-WR-CALNAME:Theologisch-pastorales Bildungsinstitut TBI
X-ORIGINAL-URL:https://www.tbi-zh.ch
X-WR-CALDESC:Veranstaltungen für Theologisch-pastorales Bildungsinstitut TBI
REFRESH-INTERVAL;VALUE=DURATION:PT1H
X-Robots-Tag:noindex
X-PUBLISHED-TTL:PT1H
BEGIN:VTIMEZONE
TZID:Europe/Zurich
BEGIN:DAYLIGHT
TZOFFSETFROM:+0100
TZOFFSETTO:+0200
TZNAME:CEST
DTSTART:20250330T010000
END:DAYLIGHT
BEGIN:STANDARD
TZOFFSETFROM:+0200
TZOFFSETTO:+0100
TZNAME:CET
DTSTART:20251026T010000
END:STANDARD
BEGIN:DAYLIGHT
TZOFFSETFROM:+0100
TZOFFSETTO:+0200
TZNAME:CEST
DTSTART:20260329T010000
END:DAYLIGHT
BEGIN:STANDARD
TZOFFSETFROM:+0200
TZOFFSETTO:+0100
TZNAME:CET
DTSTART:20261025T010000
END:STANDARD
BEGIN:DAYLIGHT
TZOFFSETFROM:+0100
TZOFFSETTO:+0200
TZNAME:CEST
DTSTART:20270328T010000
END:DAYLIGHT
BEGIN:STANDARD
TZOFFSETFROM:+0200
TZOFFSETTO:+0100
TZNAME:CET
DTSTART:20271031T010000
END:STANDARD
BEGIN:DAYLIGHT
TZOFFSETFROM:+0100
TZOFFSETTO:+0200
TZNAME:CEST
DTSTART:20280326T010000
END:DAYLIGHT
BEGIN:STANDARD
TZOFFSETFROM:+0200
TZOFFSETTO:+0100
TZNAME:CET
DTSTART:20281029T010000
END:STANDARD
END:VTIMEZONE
BEGIN:VEVENT
DTSTART;TZID=Europe/Zurich:20261123T090000
DTEND;TZID=Europe/Zurich:20270415T180000
DTSTAMP:20260426T063700
CREATED:20251201T104547Z
LAST-MODIFIED:20260219T135310Z
UID:10001260-1795424400-1807812000@www.tbi-zh.ch
SUMMARY:Interdiözesaner Kurs «Gemeinde leiten» 2026–2027 mit optionalem CAS-Abschluss
DESCRIPTION:
URL:https://www.tbi-zh.ch/event/personalkurse/interdioezesaner-kurs-gemeinde-leiten-2026-2027/
LOCATION:Propstei Wislikofen\, Propsteiweg\, Wislikofen\, 5463\, Schweiz
CATEGORIES:Gemeinde leiten,Personalkurse
ATTACH;FMTTYPE=image/jpeg:https://www.tbi-zh.ch/wp-content/uploads/2024/06/TBI_Ebene-3_Bilder-Neutral_543x543_Personal_2.jpg
END:VEVENT
BEGIN:VEVENT
DTSTART;TZID=Europe/Zurich:20270412T143000
DTEND;TZID=Europe/Zurich:20270512T130000
DTSTAMP:20260426T063700
CREATED:20260219T120436Z
LAST-MODIFIED:20260325T123751Z
UID:10001312-1807540200-1810126800@www.tbi-zh.ch
SUMMARY:Beziehungsweisen - Partnerschaft und Spiritualität
DESCRIPTION:https://www.bildungkirche.ch/weiterbildung/frauen-power-christentum-und-kunst \nWas uns antreibt – Handeln aus Überzeugung \n \n\n \nInhalt\nH – offene Kurssequenz \nWENN TEXT- UND KIRCHENRAUM SICH BEGEGNEN  \nLiturgische Feiern wollen Gottes Wirken und geheimnisvolle Anwesenheit erinnern\, vergegenwärtigen und feiern. Durch bibliodramatische Elemente werden die Mitfeiernden intensiv und unmittelbar auf ihre eigene Glaubens- und Lebenserfahrung hin angesprochen. \nBibliodramatische Elemente verbinden den Raum eines Bibeltextes mit dem Raum einer Kirche. Spannung entsteht\, wenn sich Textraum und Kirchenraum gegenseitig interpretieren. Mitfeiernde werden auf diese Weise neu aufmerksam\, wie sich das „Geheimnis Mensch“ und das „Geheimnis Gott“ begegnen. So entsteht ein religiöser Erfahrungsraum\, in dem die einzelnen angesprochen sind. \nÄhnliches passiert\, wenn ein biblischer Text in der Natur zum religiösen Erfahrungsraum wird. Naturraum und Textraum interpretieren sich gegenseitig. Die Wahrnehmung wird gesteigert. Neue Erfahrungen und Perspektiven entstehen und führen zu einer intensiven Weise der Glaubenskommunikation! \nZiele des Kurses \n\nin der Liturgie Möglichkeiten für bibliodramatische Elemente entdecken\nein Gespür für mögliche Verbindungen von Kirchenraum und Textraum  entwickeln\nerste Anwendungen miteinander erproben und auswerten\n\nZielgruppe \n\nFrauen und Männer\, die hauptamtlich oder nebenamtlich eine Aufgabe in der Liturgie übernehmen\n\nHinweis \nDieser Kurs ist offen ausgeschrieben und zugleich Bestandteil der Ausbildung in Bibliodramaleitung 2024-2026\, die vom TBI in Kooperation mit der Wislikofer Schule für Bibliodrama und Seelsorge durchgeführt wird. \nAnmeldung\nBitte aktiviere JavaScript in deinem Browser\, um dieses Formular fertigzustellen.Bitte aktiviere JavaScript in deinem Browser\, um dieses Formular fertigzustellen.Anrede *Anrede*FrauHerrkeine AngabeName *Vorname *Institution (nur falls Teil der Korrespondenzadresse)Strasse/Nr. *PLZ/Ort *Telefon privat/mobile *weitere TelefonnummerEmail *Geburtsdatum (TT. MM. JJJJ) *TT12345678910111213141516171819202122232425262728293031MM123456789101112JJJJ202720262025202420232022202120202019201820172016201520142013201220112010200920082007200620052004200320022001200019991998199719961995199419931992199119901989198819871986198519841983198219811980197919781977197619751974197319721971197019691968196719661965196419631962196119601959195819571956195519541953195219511950194919481947194619451944194319421941194019391938193719361935193419331932193119301929192819271926192519241923192219211920Beruf *Bistum *Bistum*ChurBaselSt. GallenLGFSittenkeine AngabeDie Rechnung geht an folgende Adresse Bemerkungen/MitteilungenWie wurden Sie auf den Kurs aufmerksam?CheckboxenIch bin damit einverstanden\, dass meine E-Mail-Adresse zur Vernetzung untereinander mit den anderen Kursteilnehmenden geteilt wird.CheckboxenJa\, ich möchte den TBI Newsletter erhalten.Checkboxes *Ich habe die Geschäftsbedingungen des TBI zur Kenntnis genommen und verpflichte mich mit dieser Anmeldung zur Einhaltung der Kursbestimmungen.*Senden  \nOrt\nDaten\n4. May\n|\n9:30\nto\n6. May\n|\n15:30 \nKursleitung\nDr. Claudia Mennen\,\nBibliodramaleiterin\, Theologin\, Organisationsberaterin \nDr. Nicolaas Derksen\nBibliodramaleiter\, Pastoraltheologe\, Pastoralsupervisor \nSabine Tscherner\nBibliodramaleiterin\, Theologin\, Supervisorin \nKurskosten / Leistungen\nKurs auf der Lernplattform\n\nLernplattformreligion.ch\n\nAnmeldeschluss\n05.03.2026 \n\n\nZur Übersicht unserer Angebote
URL:https://www.tbi-zh.ch/event/selbstmanagement-und-spiritualitaet/beziehungsweisen-partnerschaft-und-spiritualitaet/
LOCATION:Online; Gästehaus Bethanien\, St. Niklausen OW
CATEGORIES:Fort- und Weiterbildung,Selbstmanagment und Spiritualität
ATTACH;FMTTYPE=image/jpeg:https://www.tbi-zh.ch/wp-content/uploads/2026/02/TBI_Veranstaltungsbilder_Weiterbildung.jpg
END:VEVENT
BEGIN:VEVENT
DTSTART;TZID=Europe/Zurich:20270412T143000
DTEND;TZID=Europe/Zurich:20270512T130000
DTSTAMP:20260426T063700
CREATED:20260224T085450Z
LAST-MODIFIED:20260325T123354Z
UID:10001317-1807540200-1810126800@www.tbi-zh.ch
SUMMARY:Beziehungsweisen | Partnerschaft und Spiritualität
DESCRIPTION:https://www.bildungkirche.ch/weiterbildung/frauen-power-christentum-und-kunst \nWas uns antreibt – Handeln aus Überzeugung \n \n\n \nInhalt\nH – offene Kurssequenz \nWENN TEXT- UND KIRCHENRAUM SICH BEGEGNEN  \nLiturgische Feiern wollen Gottes Wirken und geheimnisvolle Anwesenheit erinnern\, vergegenwärtigen und feiern. Durch bibliodramatische Elemente werden die Mitfeiernden intensiv und unmittelbar auf ihre eigene Glaubens- und Lebenserfahrung hin angesprochen. \nBibliodramatische Elemente verbinden den Raum eines Bibeltextes mit dem Raum einer Kirche. Spannung entsteht\, wenn sich Textraum und Kirchenraum gegenseitig interpretieren. Mitfeiernde werden auf diese Weise neu aufmerksam\, wie sich das „Geheimnis Mensch“ und das „Geheimnis Gott“ begegnen. So entsteht ein religiöser Erfahrungsraum\, in dem die einzelnen angesprochen sind. \nÄhnliches passiert\, wenn ein biblischer Text in der Natur zum religiösen Erfahrungsraum wird. Naturraum und Textraum interpretieren sich gegenseitig. Die Wahrnehmung wird gesteigert. Neue Erfahrungen und Perspektiven entstehen und führen zu einer intensiven Weise der Glaubenskommunikation! \nZiele des Kurses \n\nin der Liturgie Möglichkeiten für bibliodramatische Elemente entdecken\nein Gespür für mögliche Verbindungen von Kirchenraum und Textraum  entwickeln\nerste Anwendungen miteinander erproben und auswerten\n\nZielgruppe \n\nFrauen und Männer\, die hauptamtlich oder nebenamtlich eine Aufgabe in der Liturgie übernehmen\n\nHinweis \nDieser Kurs ist offen ausgeschrieben und zugleich Bestandteil der Ausbildung in Bibliodramaleitung 2024-2026\, die vom TBI in Kooperation mit der Wislikofer Schule für Bibliodrama und Seelsorge durchgeführt wird. \nAnmeldung\nBitte aktiviere JavaScript in deinem Browser\, um dieses Formular fertigzustellen.Bitte aktiviere JavaScript in deinem Browser\, um dieses Formular fertigzustellen.Anrede *Anrede*FrauHerrkeine AngabeName *Vorname *Institution (nur falls Teil der Korrespondenzadresse)Strasse/Nr. *PLZ/Ort *Telefon privat/mobile *weitere TelefonnummerEmail *Geburtsdatum (TT. MM. JJJJ) *TT12345678910111213141516171819202122232425262728293031MM123456789101112JJJJ202720262025202420232022202120202019201820172016201520142013201220112010200920082007200620052004200320022001200019991998199719961995199419931992199119901989198819871986198519841983198219811980197919781977197619751974197319721971197019691968196719661965196419631962196119601959195819571956195519541953195219511950194919481947194619451944194319421941194019391938193719361935193419331932193119301929192819271926192519241923192219211920Beruf *Bistum *Bistum*ChurBaselSt. GallenLGFSittenkeine AngabeDie Rechnung geht an folgende Adresse Bemerkungen/MitteilungenWie wurden Sie auf den Kurs aufmerksam?CheckboxenIch bin damit einverstanden\, dass meine E-Mail-Adresse zur Vernetzung untereinander mit den anderen Kursteilnehmenden geteilt wird.CheckboxenJa\, ich möchte den TBI Newsletter erhalten.Checkboxes *Ich habe die Geschäftsbedingungen des TBI zur Kenntnis genommen und verpflichte mich mit dieser Anmeldung zur Einhaltung der Kursbestimmungen.*Senden  \nOrt\nDaten\n4. May\n|\n9:30\nto\n6. May\n|\n15:30 \nKursleitung\nDr. Claudia Mennen\,\nBibliodramaleiterin\, Theologin\, Organisationsberaterin \nDr. Nicolaas Derksen\nBibliodramaleiter\, Pastoraltheologe\, Pastoralsupervisor \nSabine Tscherner\nBibliodramaleiterin\, Theologin\, Supervisorin \nKurskosten / Leistungen\nKurs auf der Lernplattform\n\nLernplattformreligion.ch\n\nAnmeldeschluss\n05.03.2026 \n\n\nZur Übersicht unserer Angebote
URL:https://www.tbi-zh.ch/event/unterbruch-fuer-das-heilige/beziehungsweisen-partnerschaft-und-spiritualitaet-2/
LOCATION:Online; Gästehaus Bethanien\, St. Niklausen OW
CATEGORIES:Familien,Interdiözesane Weiterbildung,Jugendliche,Kirchengeschichte,Systematische Theologie,Unterbruch für das Heilige
ATTACH;FMTTYPE=image/png:https://www.tbi-zh.ch/wp-content/uploads/2026/02/KWB-Beziehungsweisen-Partnerschaft-und-Spiritualitaet.png
END:VEVENT
BEGIN:VEVENT
DTSTART;TZID=Europe/Zurich:20270412T150000
DTEND;TZID=Europe/Zurich:20270415T153000
DTSTAMP:20260426T063700
CREATED:20260323T144945Z
LAST-MODIFIED:20260330T073112Z
UID:10001342-1807542000-1807803000@www.tbi-zh.ch
SUMMARY:A - Einführungstage zur Ausbildung in Bibliodrama-Leitung «Wir sind Deine Verstecke» - 2027
DESCRIPTION:Inhalt\nA – offene Kurssequenz \ngrosser gott \nuns näher als haut oder halsschlagader \nkleiner \nals herzmuskel \nals zwerchfell oft \nwozu dich suchen? \nwir: deine verstecke \nDiese Worte aus einem Gedicht von Kurt Marti verweisen darauf\, dass wir selbst und unser Alltag Offenbarungsorte von Gottes Gegenwart sind. \nGeheimnisvoll\, verborgen\, aufscheinend im Augenblick – so finden wir G*ttes Spuren. \nWie Schatzsucherinnen und Schatzsucher setzen wir in diesem Kurs alles daran\, Gottes Verstecke zu finden. „So ihr mich aus ganzem Herzen suchen werdet\, so will ich mich von euch finden lassen“\, heisst es bei Jesaja. \nFür diese Schatzsuche eignet sich das seelsorgliche Instrumentarium des Bibliodrama- Spiels ausgezeichnet. Wir öffnen im Bibliodrama einen religiösen Erfahrungsort. Der biblische Text wird zum Textraum. Hier begegnen das eigene Leben und Glauben den Spuren Gottes\, so wie die biblische Geschichte sie anbietet. \nDieser Kurs ist als Einführungswoche der 10. Ausbildung in Bibliodramaleitung gedacht. Zugleich ist er offen für alle\, die eine Woche zum Innehalten und Durchatmen nutzen wollen\, und für alle\, die beruflich oder privat mit der Bibel umgehen und die Methode des Bibliodramas kennen lernen wollen. \nVision \nEine Kirche\, die wahrhaft “katholisch”\, d.h. allumfassend\, ist und so für alle ein Ort der Gottesbegegnung wird\, den sie mitgestalten können: So wird “die Weite des Menschseins und von ihr her die Weite von Gottes Wort” erfahrbar. Die Kirche wird zu einem Kompetenzzentrum für Kommunikation und Partizipation\, in ihr ist Einheit in der Vielfalt wirksam. Um dieses Ziel zu erreichen\, braucht es Wahrnehmungs- und Handlungskompetenzen. Zur Erreichung dieses Ziels will die Tagung fundierte Impulse liefern. \nZielgruppe \nZur Teilnahme sind herzlich eingeladen \n\nMitglieder von staatskirchenrechtlichen Gremien\,\nMitarbeitende der Missionen und muttersprachlichen Gemeinschaften\,\nMitarbeitende der Pfarreien\, Pastoralräume\, Fachstellen\,\nalle am Thema Interessierten\n\nProgramm \nErfahrungen und Geschichten zum Thema (Living Library) \nFachbeiträge zum Thema der Tagung \n\nIsabel Vazquez\, Nationaldirektorin migratio\nChristof Eberle\, Bereichsleiter Migrantenseelsorge\, Katholische Körperschaft Zürich\, Mitglied der Fachgruppe 4 von SBK|RKZ\nMark Moser\, Dozent FHNW und selbständiger Berater zu interkultureller Kompetenz\, Zusammenarbeit und Konflikttransformation\nDr. Mathias Mütel\, Bildungsverantwortlicher Bistum Basel\nMonika Poltera-von Arb\, Pastoralverantwortliche Bistum Basel\n\nZukunftsweisende\, praxisorientierte Arbeit an den Themen und Anliegen der Anwesenden (Open Space) \nErnte und Ausblick: Was haben wir erreicht? Welche nächsten Schritte sollen getan werden? Welche Themen müssen weiterbearbeitet werden? \nWährend des gesamten Tages: viel Raum für brennende Fragen und konkrete Antworten\, viel Zeit für den lebendigen Austausch und zum Geniessen \nAnmeldung\nBitte aktiviere JavaScript in deinem Browser\, um dieses Formular fertigzustellen.Bitte aktiviere JavaScript in deinem Browser\, um dieses Formular fertigzustellen.Anrede *Anrede*FrauHerrkeine AngabeName *Vorname *Institution (nur falls Teil der Korrespondenzadresse)Strasse/Nr. *PLZ/Ort *Telefon privat/mobile *weitere TelefonnummerEmail *Geburtsdatum (TT. MM. JJJJ) *TT12345678910111213141516171819202122232425262728293031MM123456789101112JJJJ202720262025202420232022202120202019201820172016201520142013201220112010200920082007200620052004200320022001200019991998199719961995199419931992199119901989198819871986198519841983198219811980197919781977197619751974197319721971197019691968196719661965196419631962196119601959195819571956195519541953195219511950194919481947194619451944194319421941194019391938193719361935193419331932193119301929192819271926192519241923192219211920Beruf *Bistum *Bistum*ChurBaselSt. GallenLGFSittenkeine AngabeDie Rechnung geht an folgende Adresse Bitte laden Sie hier Ihr Motivationsschreiben für die Ausbildung in Bibliodrama-Leitung hoch:\n	\n		\n			\n		\n		Klicke oder ziehe eine Datei in diesen Bereich zum Hochladen.\n\n			\n\n\nBemerkungen/MitteilungenWie wurden Sie auf den Kurs aufmerksam?CheckboxenIch bin damit einverstanden\, dass meine E-Mail-Adresse zur Vernetzung untereinander mit den anderen Kursteilnehmenden geteilt wird.CheckboxenJa\, ich möchte den TBI Newsletter erhalten.Checkboxes *Ich habe die Geschäftsbedingungen des TBI zur Kenntnis genommen und verpflichte mich mit dieser Anmeldung zur Einhaltung der Kursbestimmungen. *Senden  \nOrt\nDaten\n16. Sep\n|\n15:00\n–\n19. Sep\n|\n15:30 \nKursleitung\nDr. Nicolaas Derksen\nPastoraltheologe\, Pastoralsupervisor \nDr. Claudia Mennen\nTheologin\, Organisationsberaterin \nSabine Tscherner\nSeelsorgerin\, Supervisorin \nKurskosten / Leistungen\nKurs auf der Lernplattform\n\nKurs auf Lernplattformreligion.ch\n\nAnmeldeschluss\n12.07.2024 \n\n\nZur Übersicht unserer Angebote
URL:https://www.tbi-zh.ch/event/katechese-und-religionspaedagogik/a-einfuehrungstage-zur-ausbildung-in-bibliodrama-leitung-wir-sind-deine-verstecke-2027/
LOCATION:Propstei Wislikofen\, Propsteiweg\, Wislikofen\, 5463\, Schweiz
CATEGORIES:Ausbildung Bibliodramaleitung,Bibelpastoral,Katechese und Religionspädagogik
END:VEVENT
END:VCALENDAR