BEGIN:VCALENDAR
VERSION:2.0
PRODID:-//Theologisch-pastorales Bildungsinstitut TBI - ECPv6.15.11//NONSGML v1.0//EN
CALSCALE:GREGORIAN
METHOD:PUBLISH
X-ORIGINAL-URL:https://www.tbi-zh.ch
X-WR-CALDESC:Veranstaltungen für Theologisch-pastorales Bildungsinstitut TBI
REFRESH-INTERVAL;VALUE=DURATION:PT1H
X-Robots-Tag:noindex
X-PUBLISHED-TTL:PT1H
BEGIN:VTIMEZONE
TZID:Europe/Zurich
BEGIN:DAYLIGHT
TZOFFSETFROM:+0100
TZOFFSETTO:+0200
TZNAME:CEST
DTSTART:20250330T010000
END:DAYLIGHT
BEGIN:STANDARD
TZOFFSETFROM:+0200
TZOFFSETTO:+0100
TZNAME:CET
DTSTART:20251026T010000
END:STANDARD
BEGIN:DAYLIGHT
TZOFFSETFROM:+0100
TZOFFSETTO:+0200
TZNAME:CEST
DTSTART:20260329T010000
END:DAYLIGHT
BEGIN:STANDARD
TZOFFSETFROM:+0200
TZOFFSETTO:+0100
TZNAME:CET
DTSTART:20261025T010000
END:STANDARD
BEGIN:DAYLIGHT
TZOFFSETFROM:+0100
TZOFFSETTO:+0200
TZNAME:CEST
DTSTART:20270328T010000
END:DAYLIGHT
BEGIN:STANDARD
TZOFFSETFROM:+0200
TZOFFSETTO:+0100
TZNAME:CET
DTSTART:20271031T010000
END:STANDARD
END:VTIMEZONE
BEGIN:VEVENT
DTSTART;TZID=Europe/Zurich:20261020T090000
DTEND;TZID=Europe/Zurich:20261020T170000
DTSTAMP:20260423T190830
CREATED:20260323T073319Z
LAST-MODIFIED:20260324T125348Z
UID:10001341-1792486800-1792515600@www.tbi-zh.ch
SUMMARY:Motor von Synodalität: Gespräch im Geist
DESCRIPTION:
URL:https://www.tbi-zh.ch/event/pastoral-gestalten-und-transformieren/motor-von-synodalitaet-gespraech-im-geist/
LOCATION:Pfarrsaal St. Marien\, Olten\, Engelbergstrasse 25\, 4600 Olten\, Schweiz
CATEGORIES:Interdiözesane Weiterbildung,Pastoral gestalten und transformieren
ATTACH;FMTTYPE=image/png:https://www.tbi-zh.ch/wp-content/uploads/2026/03/ABi_Bilder-synodales-Gespraech.png
ORGANIZER;CN="Abteilung Bildung Bistum Basel":MAILTO:sekretariat.bildung@bistum-basel.ch
END:VEVENT
END:VCALENDAR