BEGIN:VCALENDAR
VERSION:2.0
PRODID:-//Theologisch-pastorales Bildungsinstitut TBI - ECPv6.15.11//NONSGML v1.0//EN
CALSCALE:GREGORIAN
METHOD:PUBLISH
X-WR-CALNAME:Theologisch-pastorales Bildungsinstitut TBI
X-ORIGINAL-URL:https://www.tbi-zh.ch
X-WR-CALDESC:Veranstaltungen für Theologisch-pastorales Bildungsinstitut TBI
REFRESH-INTERVAL;VALUE=DURATION:PT1H
X-Robots-Tag:noindex
X-PUBLISHED-TTL:PT1H
BEGIN:VTIMEZONE
TZID:Europe/Zurich
BEGIN:DAYLIGHT
TZOFFSETFROM:+0100
TZOFFSETTO:+0200
TZNAME:CEST
DTSTART:20250330T010000
END:DAYLIGHT
BEGIN:STANDARD
TZOFFSETFROM:+0200
TZOFFSETTO:+0100
TZNAME:CET
DTSTART:20251026T010000
END:STANDARD
BEGIN:DAYLIGHT
TZOFFSETFROM:+0100
TZOFFSETTO:+0200
TZNAME:CEST
DTSTART:20260329T010000
END:DAYLIGHT
BEGIN:STANDARD
TZOFFSETFROM:+0200
TZOFFSETTO:+0100
TZNAME:CET
DTSTART:20261025T010000
END:STANDARD
BEGIN:DAYLIGHT
TZOFFSETFROM:+0100
TZOFFSETTO:+0200
TZNAME:CEST
DTSTART:20270328T010000
END:DAYLIGHT
BEGIN:STANDARD
TZOFFSETFROM:+0200
TZOFFSETTO:+0100
TZNAME:CET
DTSTART:20271031T010000
END:STANDARD
END:VTIMEZONE
BEGIN:VEVENT
DTSTART;TZID=Europe/Zurich:20260519T150000
DTEND;TZID=Europe/Zurich:20260926T200000
DTSTAMP:20260423T001156
CREATED:20260212T100238Z
LAST-MODIFIED:20260224T085730Z
UID:10001306-1779202800-1790452800@www.tbi-zh.ch
SUMMARY:Frauen-Power | Christentum und Kunst
DESCRIPTION:https://www.bildungkirche.ch/weiterbildung/frauen-power-christentum-und-kunst \nWas uns antreibt – Handeln aus Überzeugung \n \n\n \nInhalt\nH – offene Kurssequenz \nWENN TEXT- UND KIRCHENRAUM SICH BEGEGNEN  \nLiturgische Feiern wollen Gottes Wirken und geheimnisvolle Anwesenheit erinnern\, vergegenwärtigen und feiern. Durch bibliodramatische Elemente werden die Mitfeiernden intensiv und unmittelbar auf ihre eigene Glaubens- und Lebenserfahrung hin angesprochen. \nBibliodramatische Elemente verbinden den Raum eines Bibeltextes mit dem Raum einer Kirche. Spannung entsteht\, wenn sich Textraum und Kirchenraum gegenseitig interpretieren. Mitfeiernde werden auf diese Weise neu aufmerksam\, wie sich das „Geheimnis Mensch“ und das „Geheimnis Gott“ begegnen. So entsteht ein religiöser Erfahrungsraum\, in dem die einzelnen angesprochen sind. \nÄhnliches passiert\, wenn ein biblischer Text in der Natur zum religiösen Erfahrungsraum wird. Naturraum und Textraum interpretieren sich gegenseitig. Die Wahrnehmung wird gesteigert. Neue Erfahrungen und Perspektiven entstehen und führen zu einer intensiven Weise der Glaubenskommunikation! \nZiele des Kurses \n\nin der Liturgie Möglichkeiten für bibliodramatische Elemente entdecken\nein Gespür für mögliche Verbindungen von Kirchenraum und Textraum  entwickeln\nerste Anwendungen miteinander erproben und auswerten\n\nZielgruppe \n\nFrauen und Männer\, die hauptamtlich oder nebenamtlich eine Aufgabe in der Liturgie übernehmen\n\nHinweis \nDieser Kurs ist offen ausgeschrieben und zugleich Bestandteil der Ausbildung in Bibliodramaleitung 2024-2026\, die vom TBI in Kooperation mit der Wislikofer Schule für Bibliodrama und Seelsorge durchgeführt wird. \nAnmeldung\nBitte aktiviere JavaScript in deinem Browser\, um dieses Formular fertigzustellen.Bitte aktiviere JavaScript in deinem Browser\, um dieses Formular fertigzustellen.Anrede *Anrede*FrauHerrkeine AngabeName *Vorname *Institution (nur falls Teil der Korrespondenzadresse)Strasse/Nr. *PLZ/Ort *Telefon privat/mobile *weitere TelefonnummerEmail *Geburtsdatum (TT. MM. JJJJ) *TT12345678910111213141516171819202122232425262728293031MM123456789101112JJJJ202720262025202420232022202120202019201820172016201520142013201220112010200920082007200620052004200320022001200019991998199719961995199419931992199119901989198819871986198519841983198219811980197919781977197619751974197319721971197019691968196719661965196419631962196119601959195819571956195519541953195219511950194919481947194619451944194319421941194019391938193719361935193419331932193119301929192819271926192519241923192219211920Beruf *Bistum *Bistum*ChurBaselSt. GallenLGFSittenkeine AngabeDie Rechnung geht an folgende Adresse Bemerkungen/MitteilungenWie wurden Sie auf den Kurs aufmerksam?CheckboxenIch bin damit einverstanden\, dass meine E-Mail-Adresse zur Vernetzung untereinander mit den anderen Kursteilnehmenden geteilt wird.CheckboxenJa\, ich möchte den TBI Newsletter erhalten.Checkboxes *Ich habe die Geschäftsbedingungen des TBI zur Kenntnis genommen und verpflichte mich mit dieser Anmeldung zur Einhaltung der Kursbestimmungen.*Senden  \nOrt\nDaten\n4. May\n|\n9:30\nto\n6. May\n|\n15:30 \nKursleitung\nDr. Claudia Mennen\,\nBibliodramaleiterin\, Theologin\, Organisationsberaterin \nDr. Nicolaas Derksen\nBibliodramaleiter\, Pastoraltheologe\, Pastoralsupervisor \nSabine Tscherner\nBibliodramaleiterin\, Theologin\, Supervisorin \nKurskosten / Leistungen\nKurs auf der Lernplattform\n\nLernplattformreligion.ch\n\nAnmeldeschluss\n05.03.2026 \n\n\nZur Übersicht unserer Angebote
URL:https://www.tbi-zh.ch/event/pastoral-und-glaubenskommunikation/frauen-power-christentum-und-kunst/
LOCATION:online\, Zürich\, Dornach & Therwil
CATEGORIES:Fort- und Weiterbildung,Pastoral und Glaubenskommunikation
ATTACH;FMTTYPE=image/jpeg:https://www.tbi-zh.ch/wp-content/uploads/2026/02/Frauen-Power-Veranstaltungsbild-Fort-und-Weiterbildung.jpg
END:VEVENT
BEGIN:VEVENT
DTSTART;TZID=Europe/Zurich:20260519T150000
DTEND;TZID=Europe/Zurich:20260926T200000
DTSTAMP:20260423T001156
CREATED:20260216T093355Z
LAST-MODIFIED:20260226T095243Z
UID:10001309-1779202800-1790452800@www.tbi-zh.ch
SUMMARY:Frauen-Power |  Christentum und Kunst
DESCRIPTION:https://www.bildungkirche.ch/weiterbildung/frauen-power-christentum-und-kunst \nWas uns antreibt – Handeln aus Überzeugung \n \n\n \nInhalt\nH – offene Kurssequenz \nWENN TEXT- UND KIRCHENRAUM SICH BEGEGNEN  \nLiturgische Feiern wollen Gottes Wirken und geheimnisvolle Anwesenheit erinnern\, vergegenwärtigen und feiern. Durch bibliodramatische Elemente werden die Mitfeiernden intensiv und unmittelbar auf ihre eigene Glaubens- und Lebenserfahrung hin angesprochen. \nBibliodramatische Elemente verbinden den Raum eines Bibeltextes mit dem Raum einer Kirche. Spannung entsteht\, wenn sich Textraum und Kirchenraum gegenseitig interpretieren. Mitfeiernde werden auf diese Weise neu aufmerksam\, wie sich das „Geheimnis Mensch“ und das „Geheimnis Gott“ begegnen. So entsteht ein religiöser Erfahrungsraum\, in dem die einzelnen angesprochen sind. \nÄhnliches passiert\, wenn ein biblischer Text in der Natur zum religiösen Erfahrungsraum wird. Naturraum und Textraum interpretieren sich gegenseitig. Die Wahrnehmung wird gesteigert. Neue Erfahrungen und Perspektiven entstehen und führen zu einer intensiven Weise der Glaubenskommunikation! \nZiele des Kurses \n\nin der Liturgie Möglichkeiten für bibliodramatische Elemente entdecken\nein Gespür für mögliche Verbindungen von Kirchenraum und Textraum  entwickeln\nerste Anwendungen miteinander erproben und auswerten\n\nZielgruppe \n\nFrauen und Männer\, die hauptamtlich oder nebenamtlich eine Aufgabe in der Liturgie übernehmen\n\nHinweis \nDieser Kurs ist offen ausgeschrieben und zugleich Bestandteil der Ausbildung in Bibliodramaleitung 2024-2026\, die vom TBI in Kooperation mit der Wislikofer Schule für Bibliodrama und Seelsorge durchgeführt wird. \nAnmeldung\nBitte aktiviere JavaScript in deinem Browser\, um dieses Formular fertigzustellen.Bitte aktiviere JavaScript in deinem Browser\, um dieses Formular fertigzustellen.Anrede *Anrede*FrauHerrkeine AngabeName *Vorname *Institution (nur falls Teil der Korrespondenzadresse)Strasse/Nr. *PLZ/Ort *Telefon privat/mobile *weitere TelefonnummerEmail *Geburtsdatum (TT. MM. JJJJ) *TT12345678910111213141516171819202122232425262728293031MM123456789101112JJJJ202720262025202420232022202120202019201820172016201520142013201220112010200920082007200620052004200320022001200019991998199719961995199419931992199119901989198819871986198519841983198219811980197919781977197619751974197319721971197019691968196719661965196419631962196119601959195819571956195519541953195219511950194919481947194619451944194319421941194019391938193719361935193419331932193119301929192819271926192519241923192219211920Beruf *Bistum *Bistum*ChurBaselSt. GallenLGFSittenkeine AngabeDie Rechnung geht an folgende Adresse Bemerkungen/MitteilungenWie wurden Sie auf den Kurs aufmerksam?CheckboxenIch bin damit einverstanden\, dass meine E-Mail-Adresse zur Vernetzung untereinander mit den anderen Kursteilnehmenden geteilt wird.CheckboxenJa\, ich möchte den TBI Newsletter erhalten.Checkboxes *Ich habe die Geschäftsbedingungen des TBI zur Kenntnis genommen und verpflichte mich mit dieser Anmeldung zur Einhaltung der Kursbestimmungen.*Senden  \nOrt\nDaten\n4. May\n|\n9:30\nto\n6. May\n|\n15:30 \nKursleitung\nDr. Claudia Mennen\,\nBibliodramaleiterin\, Theologin\, Organisationsberaterin \nDr. Nicolaas Derksen\nBibliodramaleiter\, Pastoraltheologe\, Pastoralsupervisor \nSabine Tscherner\nBibliodramaleiterin\, Theologin\, Supervisorin \nKurskosten / Leistungen\nKurs auf der Lernplattform\n\nLernplattformreligion.ch\n\nAnmeldeschluss\n05.03.2026 \n\n\nZur Übersicht unserer Angebote
URL:https://www.tbi-zh.ch/event/theologische-grundlagen/frauen-power-christentum-und-kunst-2/
LOCATION:online\, Zürich\, Dornach & Therwil
CATEGORIES:Interdiözesane Weiterbildung,Mit Menschen unterwegs,Theologische Grundlagen
ATTACH;FMTTYPE=image/png:https://www.tbi-zh.ch/wp-content/uploads/2026/02/KWB-Frauen-Power.png
END:VEVENT
BEGIN:VEVENT
DTSTART;TZID=Europe/Zurich:20260526T200000
DTEND;TZID=Europe/Zurich:20260526T213000
DTSTAMP:20260423T001156
CREATED:20251001T135443Z
LAST-MODIFIED:20251001T135812Z
UID:10001228-1779825600-1779831000@www.tbi-zh.ch
SUMMARY:Sei um uns mit Deinem Segen
DESCRIPTION:Inhalt\nWir erleben es in der Klimadebatte: Die Vorstellung\, dass die Natur domestiziert\, eingehegt und gebändigt werden muss\, um der menschlichen Kultur Raum zu schaffen\, kommt an ein Ende. Die Naturwissenschaften sagen uns zu Recht\, dass die Natur Ursprung und notwendige Basis allen Lebens\, ist. Indem wir sie immer stärker zu beherrschen versuchen\, gefährden wir unsere eigene Lebensgrundlage – und die Grundlage allen Lebens. Natur wird im religiösen Kontext aber auch als Schöpfung verstanden. In diesem Salon Theologie stellen wir uns daher folgende Fragen: Sind «Schöpfung » und «Natur» konvergente Begriffe\, oder stehen sie im Widerspruch zueinander? Wie kann man als Christ:in den Schöpfungsglauben mit der Vorstellung einer natürlichen Evolution verbinden? Wie lassen sich aus christlicher Perspektive sowohl die Gestaltung wie auch die Bewahrung und Wertschätzung der Natur in einem umfassenderen Sinn verbinden? \nAnmeldung\nBitte aktiviere JavaScript in deinem Browser\, um dieses Formular fertigzustellen.Bitte aktiviere JavaScript in deinem Browser\, um dieses Formular fertigzustellen.Anrede *Name *Vorname *Strasse/Nr. *PLZ/Ort *Telefon privat/mobile *weitere TelefonnummerEmail *Geburtsdatum (TT. MM. JJJJ) *TT12345678910111213141516171819202122232425262728293031MM123456789101112JJJJ202720262025202420232022202120202019201820172016201520142013201220112010200920082007200620052004200320022001200019991998199719961995199419931992199119901989198819871986198519841983198219811980197919781977197619751974197319721971197019691968196719661965196419631962196119601959195819571956195519541953195219511950194919481947194619451944194319421941194019391938193719361935193419331932193119301929192819271926192519241923192219211920Wie wurden Sie auf diesen Salon Theologie aufmerksam?Bemerkungen/MitteilungenCheckboxes *Ich habe die Geschäftsbedingungen des TBI zur Kenntnis genommen und verpflichte mich mit dieser Anmeldung zur Einhaltung der Kursbestimmungen. *Senden  \nOrt\nDaten\n25. Sep\n|\n20:00\n–\n21:30 \nIhr Dozent\n\nFlorian Baab\, Dr. theol.\, Dr. phil.\nVertretungsprofessor für Katholische Theologie an der Universität Hamburg \nKurskosten / Leistungen\nHinweise\nKurs auf der Lernplattform\n\nLernplattformreligion.ch\n\nAnmeldeschluss\n24.09.2024 \n\nZur Übersicht unserer Angebote
URL:https://www.tbi-zh.ch/event/theologie/sei-um-uns-mit-deinem-segen/
LOCATION:Digitale Veranstaltung / Webinar
CATEGORIES:Salon Theologie,Theologie
ATTACH;FMTTYPE=image/jpeg:https://www.tbi-zh.ch/wp-content/uploads/2025/10/Bild_Salon_Mai.jpg
END:VEVENT
BEGIN:VEVENT
DTSTART;TZID=Europe/Zurich:20260526T200000
DTEND;TZID=Europe/Zurich:20260526T213000
DTSTAMP:20260423T001156
CREATED:20251022T095147Z
LAST-MODIFIED:20251022T095147Z
UID:10001240-1779825600-1779831000@www.tbi-zh.ch
SUMMARY:Sei um uns mit Deinem Segen
DESCRIPTION:Inhalt\nWir erleben es in der Klimadebatte: Die Vorstellung\, dass die Natur domestiziert\, eingehegt und gebändigt werden muss\, um der menschlichen Kultur Raum zu schaffen\, kommt an ein Ende. Die Naturwissenschaften sagen uns zu Recht\, dass die Natur Ursprung und notwendige Basis allen Lebens\, ist. Indem wir sie immer stärker zu beherrschen versuchen\, gefährden wir unsere eigene Lebensgrundlage – und die Grundlage allen Lebens. Natur wird im religiösen Kontext aber auch als Schöpfung verstanden. In diesem Salon Theologie stellen wir uns daher folgende Fragen: Sind «Schöpfung » und «Natur» konvergente Begriffe\, oder stehen sie im Widerspruch zueinander? Wie kann man als Christ:in den Schöpfungsglauben mit der Vorstellung einer natürlichen Evolution verbinden? Wie lassen sich aus christlicher Perspektive sowohl die Gestaltung wie auch die Bewahrung und Wertschätzung der Natur in einem umfassenderen Sinn verbinden? \nAnmeldung\nBitte aktiviere JavaScript in deinem Browser\, um dieses Formular fertigzustellen.Bitte aktiviere JavaScript in deinem Browser\, um dieses Formular fertigzustellen.Anrede *Name *Vorname *Strasse/Nr. *PLZ/Ort *Telefon privat/mobile *weitere TelefonnummerEmail *Geburtsdatum (TT. MM. JJJJ) *TT12345678910111213141516171819202122232425262728293031MM123456789101112JJJJ202720262025202420232022202120202019201820172016201520142013201220112010200920082007200620052004200320022001200019991998199719961995199419931992199119901989198819871986198519841983198219811980197919781977197619751974197319721971197019691968196719661965196419631962196119601959195819571956195519541953195219511950194919481947194619451944194319421941194019391938193719361935193419331932193119301929192819271926192519241923192219211920Wie wurden Sie auf diesen Salon Theologie aufmerksam?Bemerkungen/MitteilungenCheckboxes *Ich habe die Geschäftsbedingungen des TBI zur Kenntnis genommen und verpflichte mich mit dieser Anmeldung zur Einhaltung der Kursbestimmungen. *Senden  \nOrt\nDaten\n25. Sep\n|\n20:00\n–\n21:30 \nIhr Dozent\n\nFlorian Baab\, Dr. theol.\, Dr. phil.\nVertretungsprofessor für Katholische Theologie an der Universität Hamburg \nKurskosten / Leistungen\nHinweise\nKurs auf der Lernplattform\n\nLernplattformreligion.ch\n\nAnmeldeschluss\n24.09.2024 \n\nZur Übersicht unserer Angebote
URL:https://www.tbi-zh.ch/event/theologische-grundlagen/sei-um-uns-mit-deinem-segen-2/
LOCATION:Digitale Veranstaltung / Webinar
CATEGORIES:Interdiözesane Weiterbildung,Praktische Theologie,Theologische Grundlagen
ATTACH;FMTTYPE=image/png:https://www.tbi-zh.ch/wp-content/uploads/2025/10/5.png
END:VEVENT
END:VCALENDAR