BEGIN:VCALENDAR
VERSION:2.0
PRODID:-//Theologisch-pastorales Bildungsinstitut TBI - ECPv6.15.11//NONSGML v1.0//EN
CALSCALE:GREGORIAN
METHOD:PUBLISH
X-ORIGINAL-URL:https://www.tbi-zh.ch
X-WR-CALDESC:Veranstaltungen für Theologisch-pastorales Bildungsinstitut TBI
REFRESH-INTERVAL;VALUE=DURATION:PT1H
X-Robots-Tag:noindex
X-PUBLISHED-TTL:PT1H
BEGIN:VTIMEZONE
TZID:Europe/Zurich
BEGIN:DAYLIGHT
TZOFFSETFROM:+0100
TZOFFSETTO:+0200
TZNAME:CEST
DTSTART:20250330T010000
END:DAYLIGHT
BEGIN:STANDARD
TZOFFSETFROM:+0200
TZOFFSETTO:+0100
TZNAME:CET
DTSTART:20251026T010000
END:STANDARD
BEGIN:DAYLIGHT
TZOFFSETFROM:+0100
TZOFFSETTO:+0200
TZNAME:CEST
DTSTART:20260329T010000
END:DAYLIGHT
BEGIN:STANDARD
TZOFFSETFROM:+0200
TZOFFSETTO:+0100
TZNAME:CET
DTSTART:20261025T010000
END:STANDARD
BEGIN:DAYLIGHT
TZOFFSETFROM:+0100
TZOFFSETTO:+0200
TZNAME:CEST
DTSTART:20270328T010000
END:DAYLIGHT
BEGIN:STANDARD
TZOFFSETFROM:+0200
TZOFFSETTO:+0100
TZNAME:CET
DTSTART:20271031T010000
END:STANDARD
END:VTIMEZONE
BEGIN:VEVENT
DTSTART;TZID=Europe/Zurich:20260507T090000
DTEND;TZID=Europe/Zurich:20260508T170000
DTSTAMP:20260423T013854
CREATED:20260318T104836Z
LAST-MODIFIED:20260318T104836Z
UID:10001334-1778144400-1778259600@www.tbi-zh.ch
SUMMARY:Vergangenheitsbewältigung und Versöhnung
DESCRIPTION:
URL:https://www.tbi-zh.ch/event/selbstfuehrung-selbstsorge/vergangenheitsbewaeltigung-und-versoehnung/
LOCATION:ONLINE
CATEGORIES:Interdiözesane Weiterbildung,Pastoral gestalten und transformieren,Selbstführung/Selbstsorge
ATTACH;FMTTYPE=image/png:https://www.tbi-zh.ch/wp-content/uploads/2026/03/ABi_Bilder-abstrakt-pixabay.png
END:VEVENT
BEGIN:VEVENT
DTSTART;TZID=Europe/Zurich:20260507T091500
DTEND;TZID=Europe/Zurich:20260508T163000
DTSTAMP:20260423T013854
CREATED:20260105T141443Z
LAST-MODIFIED:20260105T141443Z
UID:10001276-1778145300-1778257800@www.tbi-zh.ch
SUMMARY:Altern als Lebenskunst im Schnittfeld von Gerontologie\, Ethik und Poimenik
DESCRIPTION:
URL:https://www.tbi-zh.ch/event/mit-menschen-unterwegs/altern-als-lebenskunst-im-schnittfeld-von-gerontologie-ethik-und-poimenik/
LOCATION:Universität Bern\, UniS\, Schanzeneckstrasse 1\, Bern\, Raum B-105
CATEGORIES:Diakonie,Interdiözesane Weiterbildung,Menschen begleiten,Mit Menschen unterwegs
ATTACH;FMTTYPE=image/png:https://www.tbi-zh.ch/wp-content/uploads/2026/01/ABi-Bilder_Altern.png
END:VEVENT
END:VCALENDAR