BEGIN:VCALENDAR
VERSION:2.0
PRODID:-//Theologisch-pastorales Bildungsinstitut TBI - ECPv6.15.11//NONSGML v1.0//EN
CALSCALE:GREGORIAN
METHOD:PUBLISH
X-WR-CALNAME:Theologisch-pastorales Bildungsinstitut TBI
X-ORIGINAL-URL:https://www.tbi-zh.ch
X-WR-CALDESC:Veranstaltungen für Theologisch-pastorales Bildungsinstitut TBI
REFRESH-INTERVAL;VALUE=DURATION:PT1H
X-Robots-Tag:noindex
X-PUBLISHED-TTL:PT1H
BEGIN:VTIMEZONE
TZID:Europe/Zurich
BEGIN:DAYLIGHT
TZOFFSETFROM:+0100
TZOFFSETTO:+0200
TZNAME:CEST
DTSTART:20250330T010000
END:DAYLIGHT
BEGIN:STANDARD
TZOFFSETFROM:+0200
TZOFFSETTO:+0100
TZNAME:CET
DTSTART:20251026T010000
END:STANDARD
BEGIN:DAYLIGHT
TZOFFSETFROM:+0100
TZOFFSETTO:+0200
TZNAME:CEST
DTSTART:20260329T010000
END:DAYLIGHT
BEGIN:STANDARD
TZOFFSETFROM:+0200
TZOFFSETTO:+0100
TZNAME:CET
DTSTART:20261025T010000
END:STANDARD
BEGIN:DAYLIGHT
TZOFFSETFROM:+0100
TZOFFSETTO:+0200
TZNAME:CEST
DTSTART:20270328T010000
END:DAYLIGHT
BEGIN:STANDARD
TZOFFSETFROM:+0200
TZOFFSETTO:+0100
TZNAME:CET
DTSTART:20271031T010000
END:STANDARD
END:VTIMEZONE
BEGIN:VEVENT
DTSTART;TZID=Europe/Zurich:20260427T091500
DTEND;TZID=Europe/Zurich:20260427T170000
DTSTAMP:20260422T175709
CREATED:20260105T130211Z
LAST-MODIFIED:20260105T130408Z
UID:10001275-1777281300-1777309200@www.tbi-zh.ch
SUMMARY:Systemisch-emotionsfokussierte Ansätze für die Arbeit mit Paaren
DESCRIPTION:
URL:https://www.tbi-zh.ch/event/mit-menschen-unterwegs/systemisch-emotionsfokussierte-ansaetze-fuer-die-arbeit-mit-paaren/
LOCATION:Universität Bern\, UniS\, Schanzeneckstrasse 1\, Bern\, Raum A-124
CATEGORIES:Interdiözesane Weiterbildung,Menschen begleiten,Mit Menschen unterwegs
ATTACH;FMTTYPE=image/png:https://www.tbi-zh.ch/wp-content/uploads/2026/01/ABi-Paar.png
END:VEVENT
END:VCALENDAR